BEGIN:VCALENDAR
PRODID:-//gdesolutions.com//MV Framework 1.0.0.1607 Calendar//EN
VERSION:2.0
METHOD:PUBLISH
CALSCALE:GREGORIAN
BEGIN:VEVENT
UID:gb3lh@games.golnetwork.com
LOCATION:Lamport Stadium - Field 1
GEO:43.6390028;-79.4232104
CREATED:20170720T195423Z
DTSTART:20171001T210000Z
DTEND:20171001T220000Z
DTSTAMP:20260421T183808Z
SUMMARY:Hedgie FC vs. Front Street Football Club
DESCRIPTION:Front Street Football Club vs. Hedgie FCPlus d'info : #671
X-ALT-DESC;FMTTYPE=text/html:<!DOCTYPE HTML PUBLIC "-//W3C//DTD HTML 3.2//E
	N">\n<HTML>\n<HEAD>\n<TITLE></TITLE>\n</HEAD>\n<BODY>\n<h3>Front Street Foo
	tball Club vs. Hedgie FC</h3>Plus d'info : <a href="https://www.golnetwork.
	com/game/v/108643/">#671</a>\n\n</BODY>\n</HTML>
STATUS:CONFIRMED
CLASS:PUBLIC
URL:https://www.golnetwork.com/game/v/108643/
X-MICROSOFT-CDO-BUSYSTATUS:BUSY
X-MICROSOFT-CDO-IMPORTANCE:1
END:VEVENT
BEGIN:VEVENT
UID:gb3lf@games.golnetwork.com
LOCATION:Lamport Stadium - Field 1
GEO:43.6390028;-79.4232104
CREATED:20170720T195423Z
DTSTART:20171002T010000Z
DTEND:20171002T020000Z
DTSTAMP:20260421T183808Z
SUMMARY:Moocho Grassy Ass FC vs. Las Vacas
DESCRIPTION:Las Vacas vs. Moocho Grassy Ass FCPlus d'info : #685
X-ALT-DESC;FMTTYPE=text/html:<!DOCTYPE HTML PUBLIC "-//W3C//DTD HTML 3.2//E
	N">\n<HTML>\n<HEAD>\n<TITLE></TITLE>\n</HEAD>\n<BODY>\n<h3>Las Vacas vs. Mo
	ocho Grassy Ass FC</h3>Plus d'info : <a href="https://www.golnetwork.com/ga
	me/v/108642/">#685</a>\n\n</BODY>\n</HTML>
STATUS:CONFIRMED
CLASS:PUBLIC
URL:https://www.golnetwork.com/game/v/108642/
X-MICROSOFT-CDO-BUSYSTATUS:BUSY
X-MICROSOFT-CDO-IMPORTANCE:1
END:VEVENT
BEGIN:VEVENT
UID:gb3lj@games.golnetwork.com
LOCATION:Lamport Stadium - Field 1
GEO:43.6390028;-79.4232104
CREATED:20170720T195423Z
DTSTART:20171015T230000Z
DTEND:20171016T000000Z
DTSTAMP:20260421T183808Z
SUMMARY:Hedgie FC vs. Las Vacas
DESCRIPTION:Las Vacas vs. Hedgie FCPlus d'info : #731
X-ALT-DESC;FMTTYPE=text/html:<!DOCTYPE HTML PUBLIC "-//W3C//DTD HTML 3.2//E
	N">\n<HTML>\n<HEAD>\n<TITLE></TITLE>\n</HEAD>\n<BODY>\n<h3>Las Vacas vs. He
	dgie FC</h3>Plus d'info : <a href="https://www.golnetwork.com/game/v/108644
	/">#731</a>\n\n</BODY>\n</HTML>
STATUS:CONFIRMED
CLASS:PUBLIC
URL:https://www.golnetwork.com/game/v/108644/
X-MICROSOFT-CDO-BUSYSTATUS:BUSY
X-MICROSOFT-CDO-IMPORTANCE:1
END:VEVENT
END:VCALENDAR
