BEGIN:VCALENDAR
PRODID:-//gdesolutions.com//MV Framework 1.0.0.1607 Calendar//EN
VERSION:2.0
METHOD:PUBLISH
CALSCALE:GREGORIAN
BEGIN:VEVENT
UID:gb2c5@games.golnetwork.com
LOCATION:Cherry Beach East 2
CREATED:20170623T190736Z
DTSTART:20171011T010000Z
DTEND:20171011T020000Z
DTSTAMP:20260420T143422Z
SUMMARY:The D vs. Eat Cleat
DESCRIPTION:Eat Cleat vs. The DPlus d'info : #707
X-ALT-DESC;FMTTYPE=text/html:<!DOCTYPE HTML PUBLIC "-//W3C//DTD HTML 3.2//E
	N">\n<HTML>\n<HEAD>\n<TITLE></TITLE>\n</HEAD>\n<BODY>\n<h3>Eat Cleat vs. Th
	e D</h3>Plus d'info : <a href="https://www.golnetwork.com/game/v/108151/">#
	707</a>\n\n</BODY>\n</HTML>
STATUS:CONFIRMED
CLASS:PUBLIC
URL:https://www.golnetwork.com/game/v/108151/
X-MICROSOFT-CDO-BUSYSTATUS:BUSY
X-MICROSOFT-CDO-IMPORTANCE:1
END:VEVENT
BEGIN:VEVENT
UID:gb2cb@games.golnetwork.com
LOCATION:Cherry Beach East 3
CREATED:20170623T190736Z
DTSTART:20171011T010000Z
DTEND:20171011T020000Z
DTSTAMP:20260420T143422Z
SUMMARY:Shut Your Legs or I'll Meg Ya!  vs. Bayside Tigers 
DESCRIPTION:Bayside Tigers  vs. Shut Your Legs or I'll Meg Ya! Plus d'info 
	: #708
X-ALT-DESC;FMTTYPE=text/html:<!DOCTYPE HTML PUBLIC "-//W3C//DTD HTML 3.2//E
	N">\n<HTML>\n<HEAD>\n<TITLE></TITLE>\n</HEAD>\n<BODY>\n<h3>Bayside Tigers  
	vs. Shut Your Legs or I'll Meg Ya! </h3>Plus d'info : <a href="https://www.
	golnetwork.com/game/v/108154/">#708</a>\n\n</BODY>\n</HTML>
STATUS:CONFIRMED
CLASS:PUBLIC
URL:https://www.golnetwork.com/game/v/108154/
X-MICROSOFT-CDO-BUSYSTATUS:BUSY
X-MICROSOFT-CDO-IMPORTANCE:1
END:VEVENT
BEGIN:VEVENT
UID:gb2c9@games.golnetwork.com
LOCATION:Cherry Beach East 2
CREATED:20170623T190736Z
DTSTART:20171011T020000Z
DTEND:20171011T030000Z
DTSTAMP:20260420T143422Z
SUMMARY:United 3411 vs. Galacticos FC
DESCRIPTION:Galacticos FC vs. United 3411Plus d'info : #710
X-ALT-DESC;FMTTYPE=text/html:<!DOCTYPE HTML PUBLIC "-//W3C//DTD HTML 3.2//E
	N">\n<HTML>\n<HEAD>\n<TITLE></TITLE>\n</HEAD>\n<BODY>\n<h3>Galacticos FC vs
	. United 3411</h3>Plus d'info : <a href="https://www.golnetwork.com/game/v/
	108153/">#710</a>\n\n</BODY>\n</HTML>
STATUS:CONFIRMED
CLASS:PUBLIC
URL:https://www.golnetwork.com/game/v/108153/
X-MICROSOFT-CDO-BUSYSTATUS:BUSY
X-MICROSOFT-CDO-IMPORTANCE:1
END:VEVENT
BEGIN:VEVENT
UID:gb2c7@games.golnetwork.com
LOCATION:Cherry Beach East 3
CREATED:20170623T190736Z
DTSTART:20171011T020000Z
DTEND:20171011T030000Z
DTSTAMP:20260420T143422Z
SUMMARY:NBJ vs. Radioactive Smurfs
DESCRIPTION:Radioactive Smurfs vs. NBJPlus d'info : #711
X-ALT-DESC;FMTTYPE=text/html:<!DOCTYPE HTML PUBLIC "-//W3C//DTD HTML 3.2//E
	N">\n<HTML>\n<HEAD>\n<TITLE></TITLE>\n</HEAD>\n<BODY>\n<h3>Radioactive Smur
	fs vs. NBJ</h3>Plus d'info : <a href="https://www.golnetwork.com/game/v/108
	152/">#711</a>\n\n</BODY>\n</HTML>
STATUS:CONFIRMED
CLASS:PUBLIC
URL:https://www.golnetwork.com/game/v/108152/
X-MICROSOFT-CDO-BUSYSTATUS:BUSY
X-MICROSOFT-CDO-IMPORTANCE:1
END:VEVENT
BEGIN:VEVENT
UID:gb2cd@games.golnetwork.com
LOCATION:Cherry Beach East 3
CREATED:20170623T190736Z
DTSTART:20171018T010000Z
DTEND:20171018T020000Z
DTSTAMP:20260420T143422Z
SUMMARY:Bayside Tigers  vs. Eat Cleat
DESCRIPTION:Eat Cleat vs. Bayside Tigers Plus d'info : #742
X-ALT-DESC;FMTTYPE=text/html:<!DOCTYPE HTML PUBLIC "-//W3C//DTD HTML 3.2//E
	N">\n<HTML>\n<HEAD>\n<TITLE></TITLE>\n</HEAD>\n<BODY>\n<h3>Eat Cleat vs. Ba
	yside Tigers </h3>Plus d'info : <a href="https://www.golnetwork.com/game/v/
	108155/">#742</a>\n\n</BODY>\n</HTML>
STATUS:CONFIRMED
CLASS:PUBLIC
URL:https://www.golnetwork.com/game/v/108155/
X-MICROSOFT-CDO-BUSYSTATUS:BUSY
X-MICROSOFT-CDO-IMPORTANCE:1
END:VEVENT
BEGIN:VEVENT
UID:gb2cf@games.golnetwork.com
LOCATION:Cherry Beach East 2
CREATED:20170623T190736Z
DTSTART:20171018T020000Z
DTEND:20171018T030000Z
DTSTAMP:20260420T143422Z
SUMMARY:Radioactive Smurfs vs. Galacticos FC
DESCRIPTION:Galacticos FC vs. Radioactive SmurfsPlus d'info : #744
X-ALT-DESC;FMTTYPE=text/html:<!DOCTYPE HTML PUBLIC "-//W3C//DTD HTML 3.2//E
	N">\n<HTML>\n<HEAD>\n<TITLE></TITLE>\n</HEAD>\n<BODY>\n<h3>Galacticos FC vs
	. Radioactive Smurfs</h3>Plus d'info : <a href="https://www.golnetwork.com/
	game/v/108156/">#744</a>\n\n</BODY>\n</HTML>
STATUS:CONFIRMED
CLASS:PUBLIC
URL:https://www.golnetwork.com/game/v/108156/
X-MICROSOFT-CDO-BUSYSTATUS:BUSY
X-MICROSOFT-CDO-IMPORTANCE:1
END:VEVENT
BEGIN:VEVENT
UID:gb2ch@games.golnetwork.com
LOCATION:Cherry Beach East 3
CREATED:20170623T190736Z
DTSTART:20171025T010000Z
DTEND:20171025T020000Z
DTSTAMP:20260420T143422Z
SUMMARY:Galacticos FC vs. Bayside Tigers 
DESCRIPTION:Bayside Tigers  vs. Galacticos FCPlus d'info : #765
X-ALT-DESC;FMTTYPE=text/html:<!DOCTYPE HTML PUBLIC "-//W3C//DTD HTML 3.2//E
	N">\n<HTML>\n<HEAD>\n<TITLE></TITLE>\n</HEAD>\n<BODY>\n<h3>Bayside Tigers  
	vs. Galacticos FC</h3>Plus d'info : <a href="https://www.golnetwork.com/gam
	e/v/108157/">#765</a>\n\n</BODY>\n</HTML>
STATUS:CONFIRMED
CLASS:PUBLIC
URL:https://www.golnetwork.com/game/v/108157/
X-MICROSOFT-CDO-BUSYSTATUS:BUSY
X-MICROSOFT-CDO-IMPORTANCE:1
END:VEVENT
END:VCALENDAR
