BEGIN:VCALENDAR
PRODID:-//gdesolutions.com//MV Framework 1.0.0.1607 Calendar//EN
VERSION:2.0
METHOD:PUBLISH
CALSCALE:GREGORIAN
BEGIN:VEVENT
UID:gb48l@games.golnetwork.com
LOCATION:Central Tech - Field 3
CREATED:20170727T182305Z
DTSTART:20170923T000000Z
DTEND:20170923T010000Z
DTSTAMP:20260424T052539Z
SUMMARY:XTSC Friday Furies vs. 49s
DESCRIPTION:49s vs. XTSC Friday FuriesPlus d'info : #618
X-ALT-DESC;FMTTYPE=text/html:<!DOCTYPE HTML PUBLIC "-//W3C//DTD HTML 3.2//E
	N">\n<HTML>\n<HEAD>\n<TITLE></TITLE>\n</HEAD>\n<BODY>\n<h3>49s vs. XTSC Fri
	day Furies</h3>Plus d'info : <a href="https://www.golnetwork.com/game/v/108
	834/">#618</a>\n\n</BODY>\n</HTML>
STATUS:CONFIRMED
CLASS:PUBLIC
URL:https://www.golnetwork.com/game/v/108834/
X-MICROSOFT-CDO-BUSYSTATUS:BUSY
X-MICROSOFT-CDO-IMPORTANCE:1
END:VEVENT
BEGIN:VEVENT
UID:gb48n@games.golnetwork.com
LOCATION:Central Tech - Field 3
CREATED:20170727T182305Z
DTSTART:20170923T010000Z
DTEND:20170923T020000Z
DTSTAMP:20260424T052539Z
SUMMARY:Los Borrachos FC vs. XTSC TGIF
DESCRIPTION:XTSC TGIF vs. Los Borrachos FCPlus d'info : #622
X-ALT-DESC;FMTTYPE=text/html:<!DOCTYPE HTML PUBLIC "-//W3C//DTD HTML 3.2//E
	N">\n<HTML>\n<HEAD>\n<TITLE></TITLE>\n</HEAD>\n<BODY>\n<h3>XTSC TGIF vs. Lo
	s Borrachos FC</h3>Plus d'info : <a href="https://www.golnetwork.com/game/v
	/108835/">#622</a>\n\n</BODY>\n</HTML>
STATUS:CONFIRMED
CLASS:PUBLIC
URL:https://www.golnetwork.com/game/v/108835/
X-MICROSOFT-CDO-BUSYSTATUS:BUSY
X-MICROSOFT-CDO-IMPORTANCE:1
END:VEVENT
BEGIN:VEVENT
UID:gb48p@games.golnetwork.com
LOCATION:Central Tech - Field 3
CREATED:20170727T182305Z
DTSTART:20170930T000000Z
DTEND:20170930T010000Z
DTSTAMP:20260424T052539Z
SUMMARY:XTSC TGIF vs. XTSC Friday Furies
DESCRIPTION:XTSC Friday Furies vs. XTSC TGIFPlus d'info : #665
X-ALT-DESC;FMTTYPE=text/html:<!DOCTYPE HTML PUBLIC "-//W3C//DTD HTML 3.2//E
	N">\n<HTML>\n<HEAD>\n<TITLE></TITLE>\n</HEAD>\n<BODY>\n<h3>XTSC Friday Furi
	es vs. XTSC TGIF</h3>Plus d'info : <a href="https://www.golnetwork.com/game
	/v/108836/">#665</a>\n\n</BODY>\n</HTML>
STATUS:CONFIRMED
CLASS:PUBLIC
URL:https://www.golnetwork.com/game/v/108836/
X-MICROSOFT-CDO-BUSYSTATUS:BUSY
X-MICROSOFT-CDO-IMPORTANCE:1
END:VEVENT
END:VCALENDAR
