BEGIN:VCALENDAR
PRODID:-//gdesolutions.com//MV Framework 1.0.0.1607 Calendar//EN
VERSION:2.0
METHOD:PUBLISH
CALSCALE:GREGORIAN
BEGIN:VEVENT
UID:gb3qq@games.golnetwork.com
LOCATION:Central Tech - Field 3
CREATED:20170724T130058Z
DTSTART:20170729T000000Z
DTEND:20170729T010000Z
DTSTAMP:20260421T071402Z
SUMMARY:49s vs. Los Borrachos FC
DESCRIPTION:Los Borrachos FC vs. 49sPlus d'info : #120
X-ALT-DESC;FMTTYPE=text/html:<!DOCTYPE HTML PUBLIC "-//W3C//DTD HTML 3.2//E
	N">\n<HTML>\n<HEAD>\n<TITLE></TITLE>\n</HEAD>\n<BODY>\n<h3>Los Borrachos FC
	 vs. 49s</h3>Plus d'info : <a href="https://www.golnetwork.com/game/v/10871
	5/">#120</a>\n\n</BODY>\n</HTML>
STATUS:CONFIRMED
CLASS:PUBLIC
URL:https://www.golnetwork.com/game/v/108715/
X-MICROSOFT-CDO-BUSYSTATUS:BUSY
X-MICROSOFT-CDO-IMPORTANCE:1
END:VEVENT
BEGIN:VEVENT
UID:gb401@games.golnetwork.com
LOCATION:Central Tech - Field 3
CREATED:20170724T130112Z
DTSTART:20170729T010000Z
DTEND:20170729T020000Z
DTSTAMP:20260421T071402Z
SUMMARY:XTSC TGIF vs. XTSC Friday Furies
DESCRIPTION:XTSC Friday Furies vs. XTSC TGIFPlus d'info : #121
X-ALT-DESC;FMTTYPE=text/html:<!DOCTYPE HTML PUBLIC "-//W3C//DTD HTML 3.2//E
	N">\n<HTML>\n<HEAD>\n<TITLE></TITLE>\n</HEAD>\n<BODY>\n<h3>XTSC Friday Furi
	es vs. XTSC TGIF</h3>Plus d'info : <a href="https://www.golnetwork.com/game
	/v/108716/">#121</a>\n\n</BODY>\n</HTML>
STATUS:CONFIRMED
CLASS:PUBLIC
URL:https://www.golnetwork.com/game/v/108716/
X-MICROSOFT-CDO-BUSYSTATUS:BUSY
X-MICROSOFT-CDO-IMPORTANCE:1
END:VEVENT
BEGIN:VEVENT
UID:gb481@games.golnetwork.com
LOCATION:Central Tech - Field 3
CREATED:20170727T181950Z
DTSTART:20170812T000000Z
DTEND:20170812T010000Z
DTSTAMP:20260421T071402Z
SUMMARY:Los Borrachos FC vs. XTSC TGIF
DESCRIPTION:XTSC TGIF vs. Los Borrachos FCPlus d'info : #222
X-ALT-DESC;FMTTYPE=text/html:<!DOCTYPE HTML PUBLIC "-//W3C//DTD HTML 3.2//E
	N">\n<HTML>\n<HEAD>\n<TITLE></TITLE>\n</HEAD>\n<BODY>\n<h3>XTSC TGIF vs. Lo
	s Borrachos FC</h3>Plus d'info : <a href="https://www.golnetwork.com/game/v
	/108824/">#222</a>\n\n</BODY>\n</HTML>
STATUS:CONFIRMED
CLASS:PUBLIC
URL:https://www.golnetwork.com/game/v/108824/
X-MICROSOFT-CDO-BUSYSTATUS:BUSY
X-MICROSOFT-CDO-IMPORTANCE:1
END:VEVENT
BEGIN:VEVENT
UID:gb483@games.golnetwork.com
LOCATION:Central Tech - Field 3
CREATED:20170727T182007Z
DTSTART:20170812T010000Z
DTEND:20170812T020000Z
DTSTAMP:20260421T071402Z
SUMMARY:XTSC Friday Furies vs. 49s
DESCRIPTION:49s vs. XTSC Friday FuriesPlus d'info : #226
X-ALT-DESC;FMTTYPE=text/html:<!DOCTYPE HTML PUBLIC "-//W3C//DTD HTML 3.2//E
	N">\n<HTML>\n<HEAD>\n<TITLE></TITLE>\n</HEAD>\n<BODY>\n<h3>49s vs. XTSC Fri
	day Furies</h3>Plus d'info : <a href="https://www.golnetwork.com/game/v/108
	825/">#226</a>\n\n</BODY>\n</HTML>
STATUS:CONFIRMED
CLASS:PUBLIC
URL:https://www.golnetwork.com/game/v/108825/
X-MICROSOFT-CDO-BUSYSTATUS:BUSY
X-MICROSOFT-CDO-IMPORTANCE:1
END:VEVENT
BEGIN:VEVENT
UID:gb485@games.golnetwork.com
LOCATION:Central Tech - Field 3
CREATED:20170727T182029Z
DTSTART:20170819T000000Z
DTEND:20170819T010000Z
DTSTAMP:20260421T071402Z
SUMMARY:XTSC Friday Furies vs. XTSC TGIF
DESCRIPTION:XTSC TGIF vs. XTSC Friday FuriesPlus d'info : #306
X-ALT-DESC;FMTTYPE=text/html:<!DOCTYPE HTML PUBLIC "-//W3C//DTD HTML 3.2//E
	N">\n<HTML>\n<HEAD>\n<TITLE></TITLE>\n</HEAD>\n<BODY>\n<h3>XTSC TGIF vs. XT
	SC Friday Furies</h3>Plus d'info : <a href="https://www.golnetwork.com/game
	/v/108826/">#306</a>\n\n</BODY>\n</HTML>
STATUS:CONFIRMED
CLASS:PUBLIC
URL:https://www.golnetwork.com/game/v/108826/
X-MICROSOFT-CDO-BUSYSTATUS:BUSY
X-MICROSOFT-CDO-IMPORTANCE:1
END:VEVENT
BEGIN:VEVENT
UID:gb487@games.golnetwork.com
LOCATION:Central Tech - Field 3
CREATED:20170727T182037Z
DTSTART:20170819T010000Z
DTEND:20170819T020000Z
DTSTAMP:20260421T071402Z
SUMMARY:Los Borrachos FC vs. 49s
DESCRIPTION:49s vs. Los Borrachos FCPlus d'info : #310
X-ALT-DESC;FMTTYPE=text/html:<!DOCTYPE HTML PUBLIC "-//W3C//DTD HTML 3.2//E
	N">\n<HTML>\n<HEAD>\n<TITLE></TITLE>\n</HEAD>\n<BODY>\n<h3>49s vs. Los Borr
	achos FC</h3>Plus d'info : <a href="https://www.golnetwork.com/game/v/10882
	7/">#310</a>\n\n</BODY>\n</HTML>
STATUS:CONFIRMED
CLASS:PUBLIC
URL:https://www.golnetwork.com/game/v/108827/
X-MICROSOFT-CDO-BUSYSTATUS:BUSY
X-MICROSOFT-CDO-IMPORTANCE:1
END:VEVENT
BEGIN:VEVENT
UID:gb489@games.golnetwork.com
LOCATION:Central Tech - Field 3
CREATED:20170727T182048Z
DTSTART:20170826T000000Z
DTEND:20170826T010000Z
DTSTAMP:20260421T071402Z
SUMMARY:XTSC Friday Furies vs. Los Borrachos FC
DESCRIPTION:Los Borrachos FC vs. XTSC Friday FuriesPlus d'info : #389
X-ALT-DESC;FMTTYPE=text/html:<!DOCTYPE HTML PUBLIC "-//W3C//DTD HTML 3.2//E
	N">\n<HTML>\n<HEAD>\n<TITLE></TITLE>\n</HEAD>\n<BODY>\n<h3>Los Borrachos FC
	 vs. XTSC Friday Furies</h3>Plus d'info : <a href="https://www.golnetwork.c
	om/game/v/108828/">#389</a>\n\n</BODY>\n</HTML>
STATUS:CONFIRMED
CLASS:PUBLIC
URL:https://www.golnetwork.com/game/v/108828/
X-MICROSOFT-CDO-BUSYSTATUS:BUSY
X-MICROSOFT-CDO-IMPORTANCE:1
END:VEVENT
BEGIN:VEVENT
UID:gb48b@games.golnetwork.com
LOCATION:Central Tech - Field 3
CREATED:20170727T182058Z
DTSTART:20170826T020000Z
DTEND:20170826T030000Z
DTSTAMP:20260421T071402Z
SUMMARY:XTSC TGIF vs. 49s
DESCRIPTION:49s vs. XTSC TGIFPlus d'info : #393
X-ALT-DESC;FMTTYPE=text/html:<!DOCTYPE HTML PUBLIC "-//W3C//DTD HTML 3.2//E
	N">\n<HTML>\n<HEAD>\n<TITLE></TITLE>\n</HEAD>\n<BODY>\n<h3>49s vs. XTSC TGI
	F</h3>Plus d'info : <a href="https://www.golnetwork.com/game/v/108829/">#39
	3</a>\n\n</BODY>\n</HTML>
STATUS:CONFIRMED
CLASS:PUBLIC
URL:https://www.golnetwork.com/game/v/108829/
X-MICROSOFT-CDO-BUSYSTATUS:BUSY
X-MICROSOFT-CDO-IMPORTANCE:1
END:VEVENT
BEGIN:VEVENT
UID:gb48d@games.golnetwork.com
LOCATION:Central Tech - Field 3
CREATED:20170727T182109Z
DTSTART:20170902T010000Z
DTEND:20170902T020000Z
DTSTAMP:20260421T071402Z
SUMMARY:XTSC Friday Furies vs. 49s
DESCRIPTION:49s vs. XTSC Friday FuriesPlus d'info : #468
X-ALT-DESC;FMTTYPE=text/html:<!DOCTYPE HTML PUBLIC "-//W3C//DTD HTML 3.2//E
	N">\n<HTML>\n<HEAD>\n<TITLE></TITLE>\n</HEAD>\n<BODY>\n<h3>49s vs. XTSC Fri
	day Furies</h3>Plus d'info : <a href="https://www.golnetwork.com/game/v/108
	830/">#468</a>\n\n</BODY>\n</HTML>
STATUS:CONFIRMED
CLASS:PUBLIC
URL:https://www.golnetwork.com/game/v/108830/
X-MICROSOFT-CDO-BUSYSTATUS:BUSY
X-MICROSOFT-CDO-IMPORTANCE:1
END:VEVENT
BEGIN:VEVENT
UID:gb48f@games.golnetwork.com
LOCATION:Central Tech - Field 4
CREATED:20170727T182118Z
DTSTART:20170902T010000Z
DTEND:20170902T020000Z
DTSTAMP:20260421T071402Z
SUMMARY:Los Borrachos FC vs. XTSC TGIF
DESCRIPTION:XTSC TGIF vs. Los Borrachos FCPlus d'info : #469
X-ALT-DESC;FMTTYPE=text/html:<!DOCTYPE HTML PUBLIC "-//W3C//DTD HTML 3.2//E
	N">\n<HTML>\n<HEAD>\n<TITLE></TITLE>\n</HEAD>\n<BODY>\n<h3>XTSC TGIF vs. Lo
	s Borrachos FC</h3>Plus d'info : <a href="https://www.golnetwork.com/game/v
	/108831/">#469</a>\n\n</BODY>\n</HTML>
STATUS:CONFIRMED
CLASS:PUBLIC
URL:https://www.golnetwork.com/game/v/108831/
X-MICROSOFT-CDO-BUSYSTATUS:BUSY
X-MICROSOFT-CDO-IMPORTANCE:1
END:VEVENT
BEGIN:VEVENT
UID:gb55d@games.golnetwork.com
LOCATION:Central Tech - Field 3
CREATED:20170809T191105Z
DTSTART:20170902T020000Z
DTEND:20170902T030000Z
DTSTAMP:20260421T071402Z
SUMMARY:XTSC TGIF vs. XTSC Friday Furies
DESCRIPTION:XTSC Friday Furies vs. XTSC TGIFPlus d'info : #470
X-ALT-DESC;FMTTYPE=text/html:<!DOCTYPE HTML PUBLIC "-//W3C//DTD HTML 3.2//E
	N">\n<HTML>\n<HEAD>\n<TITLE></TITLE>\n</HEAD>\n<BODY>\n<h3>XTSC Friday Furi
	es vs. XTSC TGIF</h3>Plus d'info : <a href="https://www.golnetwork.com/game
	/v/109154/">#470</a>\n\n</BODY>\n</HTML>
STATUS:CONFIRMED
CLASS:PUBLIC
URL:https://www.golnetwork.com/game/v/109154/
X-MICROSOFT-CDO-BUSYSTATUS:BUSY
X-MICROSOFT-CDO-IMPORTANCE:1
END:VEVENT
BEGIN:VEVENT
UID:gb47o@games.golnetwork.com
LOCATION:Central Tech - Field 3
CREATED:20170727T181932Z
DTSTART:20170909T020000Z
DTEND:20170909T030000Z
DTSTAMP:20260421T071402Z
SUMMARY:XTSC TGIF vs. 49s
DESCRIPTION:49s vs. XTSC TGIFPlus d'info : #511
X-ALT-DESC;FMTTYPE=text/html:<!DOCTYPE HTML PUBLIC "-//W3C//DTD HTML 3.2//E
	N">\n<HTML>\n<HEAD>\n<TITLE></TITLE>\n</HEAD>\n<BODY>\n<h3>49s vs. XTSC TGI
	F</h3>Plus d'info : <a href="https://www.golnetwork.com/game/v/108822/">#51
	1</a>\n\n</BODY>\n</HTML>
STATUS:CONFIRMED
CLASS:PUBLIC
URL:https://www.golnetwork.com/game/v/108822/
X-MICROSOFT-CDO-BUSYSTATUS:BUSY
X-MICROSOFT-CDO-IMPORTANCE:1
END:VEVENT
BEGIN:VEVENT
UID:gb47q@games.golnetwork.com
LOCATION:Central Tech - Field 4
CREATED:20170727T181941Z
DTSTART:20170909T020000Z
DTEND:20170909T030000Z
DTSTAMP:20260421T071402Z
SUMMARY:XTSC Friday Furies vs. Los Borrachos FC
DESCRIPTION:Los Borrachos FC vs. XTSC Friday FuriesPlus d'info : #512
X-ALT-DESC;FMTTYPE=text/html:<!DOCTYPE HTML PUBLIC "-//W3C//DTD HTML 3.2//E
	N">\n<HTML>\n<HEAD>\n<TITLE></TITLE>\n</HEAD>\n<BODY>\n<h3>Los Borrachos FC
	 vs. XTSC Friday Furies</h3>Plus d'info : <a href="https://www.golnetwork.c
	om/game/v/108823/">#512</a>\n\n</BODY>\n</HTML>
STATUS:CONFIRMED
CLASS:PUBLIC
URL:https://www.golnetwork.com/game/v/108823/
X-MICROSOFT-CDO-BUSYSTATUS:BUSY
X-MICROSOFT-CDO-IMPORTANCE:1
END:VEVENT
BEGIN:VEVENT
UID:gb48h@games.golnetwork.com
LOCATION:Central Tech - Field 3
CREATED:20170727T182131Z
DTSTART:20170916T000000Z
DTEND:20170916T010000Z
DTSTAMP:20260421T071402Z
SUMMARY:49s vs. Los Borrachos FC
DESCRIPTION:Los Borrachos FC vs. 49sPlus d'info : #568
X-ALT-DESC;FMTTYPE=text/html:<!DOCTYPE HTML PUBLIC "-//W3C//DTD HTML 3.2//E
	N">\n<HTML>\n<HEAD>\n<TITLE></TITLE>\n</HEAD>\n<BODY>\n<h3>Los Borrachos FC
	 vs. 49s</h3>Plus d'info : <a href="https://www.golnetwork.com/game/v/10883
	2/">#568</a>\n\n</BODY>\n</HTML>
STATUS:CONFIRMED
CLASS:PUBLIC
URL:https://www.golnetwork.com/game/v/108832/
X-MICROSOFT-CDO-BUSYSTATUS:BUSY
X-MICROSOFT-CDO-IMPORTANCE:1
END:VEVENT
BEGIN:VEVENT
UID:gb48j@games.golnetwork.com
LOCATION:Central Tech - Field 3
CREATED:20170727T182143Z
DTSTART:20170916T010000Z
DTEND:20170916T020000Z
DTSTAMP:20260421T071402Z
SUMMARY:XTSC TGIF vs. XTSC Friday Furies
DESCRIPTION:XTSC Friday Furies vs. XTSC TGIFPlus d'info : #572
X-ALT-DESC;FMTTYPE=text/html:<!DOCTYPE HTML PUBLIC "-//W3C//DTD HTML 3.2//E
	N">\n<HTML>\n<HEAD>\n<TITLE></TITLE>\n</HEAD>\n<BODY>\n<h3>XTSC Friday Furi
	es vs. XTSC TGIF</h3>Plus d'info : <a href="https://www.golnetwork.com/game
	/v/108833/">#572</a>\n\n</BODY>\n</HTML>
STATUS:CONFIRMED
CLASS:PUBLIC
URL:https://www.golnetwork.com/game/v/108833/
X-MICROSOFT-CDO-BUSYSTATUS:BUSY
X-MICROSOFT-CDO-IMPORTANCE:1
END:VEVENT
BEGIN:VEVENT
UID:gb490@games.golnetwork.com
LOCATION:Central Tech - Field 3
CREATED:20170727T182336Z
DTSTART:20170930T010000Z
DTEND:20170930T020000Z
DTSTAMP:20260421T071402Z
SUMMARY:Los Borrachos FC vs. 49s
DESCRIPTION:49s vs. Los Borrachos FCPlus d'info : #669
X-ALT-DESC;FMTTYPE=text/html:<!DOCTYPE HTML PUBLIC "-//W3C//DTD HTML 3.2//E
	N">\n<HTML>\n<HEAD>\n<TITLE></TITLE>\n</HEAD>\n<BODY>\n<h3>49s vs. Los Borr
	achos FC</h3>Plus d'info : <a href="https://www.golnetwork.com/game/v/10883
	7/">#669</a>\n\n</BODY>\n</HTML>
STATUS:CONFIRMED
CLASS:PUBLIC
URL:https://www.golnetwork.com/game/v/108837/
X-MICROSOFT-CDO-BUSYSTATUS:BUSY
X-MICROSOFT-CDO-IMPORTANCE:1
END:VEVENT
END:VCALENDAR
