BEGIN:VCALENDAR
PRODID:-//gdesolutions.com//MV Framework 1.0.0.1607 Calendar//EN
VERSION:2.0
METHOD:PUBLISH
CALSCALE:GREGORIAN
BEGIN:VEVENT
UID:gb964@games.golnetwork.com
LOCATION:Anexxe Trilles des Bois
GEO:45.4395952;-75.6706817
CREATED:20170917T180324Z
DTSTART:20170920T233000Z
DTEND:20170921T002000Z
DTSTAMP:20260422T020850Z
SUMMARY:Zero Pucks Given vs. Reds
DESCRIPTION:Reds vs. Zero Pucks GivenPlus d'info : #1
X-ALT-DESC;FMTTYPE=text/html:<!DOCTYPE HTML PUBLIC "-//W3C//DTD HTML 3.2//E
	N">\n<HTML>\n<HEAD>\n<TITLE></TITLE>\n</HEAD>\n<BODY>\n<h3>Reds vs. Zero Pu
	cks Given</h3>Plus d'info : <a href="https://www.golnetwork.com/game/v/1106
	21/">#1</a>\n\n</BODY>\n</HTML>
STATUS:CONFIRMED
CLASS:PUBLIC
URL:https://www.golnetwork.com/game/v/110621/
X-MICROSOFT-CDO-BUSYSTATUS:BUSY
X-MICROSOFT-CDO-IMPORTANCE:1
END:VEVENT
BEGIN:VEVENT
UID:gb966@games.golnetwork.com
LOCATION:Anexxe Trilles des Bois
GEO:45.4395952;-75.6706817
CREATED:20170917T180324Z
DTSTART:20170921T003000Z
DTEND:20170921T012000Z
DTSTAMP:20260422T020850Z
SUMMARY:Individuals 2 vs. Individuals 1
DESCRIPTION:Individuals 1 vs. Individuals 2Plus d'info : #2
X-ALT-DESC;FMTTYPE=text/html:<!DOCTYPE HTML PUBLIC "-//W3C//DTD HTML 3.2//E
	N">\n<HTML>\n<HEAD>\n<TITLE></TITLE>\n</HEAD>\n<BODY>\n<h3>Individuals 1 vs
	. Individuals 2</h3>Plus d'info : <a href="https://www.golnetwork.com/game/
	v/110622/">#2</a>\n\n</BODY>\n</HTML>
STATUS:CONFIRMED
CLASS:PUBLIC
URL:https://www.golnetwork.com/game/v/110622/
X-MICROSOFT-CDO-BUSYSTATUS:BUSY
X-MICROSOFT-CDO-IMPORTANCE:1
END:VEVENT
BEGIN:VEVENT
UID:gb968@games.golnetwork.com
LOCATION:Anexxe Trilles des Bois
GEO:45.4395952;-75.6706817
CREATED:20170917T180324Z
DTSTART:20170927T233000Z
DTEND:20170928T002000Z
DTSTAMP:20260422T020850Z
SUMMARY:Reds vs. Individuals 1
DESCRIPTION:Individuals 1 vs. RedsPlus d'info : #3
X-ALT-DESC;FMTTYPE=text/html:<!DOCTYPE HTML PUBLIC "-//W3C//DTD HTML 3.2//E
	N">\n<HTML>\n<HEAD>\n<TITLE></TITLE>\n</HEAD>\n<BODY>\n<h3>Individuals 1 vs
	. Reds</h3>Plus d'info : <a href="https://www.golnetwork.com/game/v/110623/
	">#3</a>\n\n</BODY>\n</HTML>
STATUS:CONFIRMED
CLASS:PUBLIC
URL:https://www.golnetwork.com/game/v/110623/
X-MICROSOFT-CDO-BUSYSTATUS:BUSY
X-MICROSOFT-CDO-IMPORTANCE:1
END:VEVENT
BEGIN:VEVENT
UID:gb96a@games.golnetwork.com
LOCATION:Anexxe Trilles des Bois
GEO:45.4395952;-75.6706817
CREATED:20170917T180324Z
DTSTART:20170928T003000Z
DTEND:20170928T012000Z
DTSTAMP:20260422T020850Z
SUMMARY:Individuals 2 vs. Zero Pucks Given
DESCRIPTION:Zero Pucks Given vs. Individuals 2Plus d'info : #4
X-ALT-DESC;FMTTYPE=text/html:<!DOCTYPE HTML PUBLIC "-//W3C//DTD HTML 3.2//E
	N">\n<HTML>\n<HEAD>\n<TITLE></TITLE>\n</HEAD>\n<BODY>\n<h3>Zero Pucks Given
	 vs. Individuals 2</h3>Plus d'info : <a href="https://www.golnetwork.com/ga
	me/v/110624/">#4</a>\n\n</BODY>\n</HTML>
STATUS:CONFIRMED
CLASS:PUBLIC
URL:https://www.golnetwork.com/game/v/110624/
X-MICROSOFT-CDO-BUSYSTATUS:BUSY
X-MICROSOFT-CDO-IMPORTANCE:1
END:VEVENT
BEGIN:VEVENT
UID:gb96c@games.golnetwork.com
LOCATION:Anexxe Trilles des Bois
GEO:45.4395952;-75.6706817
CREATED:20170917T180324Z
DTSTART:20171004T233000Z
DTEND:20171005T002000Z
DTSTAMP:20260422T020850Z
SUMMARY:Individuals 2 vs. Reds
DESCRIPTION:Reds vs. Individuals 2Plus d'info : #5
X-ALT-DESC;FMTTYPE=text/html:<!DOCTYPE HTML PUBLIC "-//W3C//DTD HTML 3.2//E
	N">\n<HTML>\n<HEAD>\n<TITLE></TITLE>\n</HEAD>\n<BODY>\n<h3>Reds vs. Individ
	uals 2</h3>Plus d'info : <a href="https://www.golnetwork.com/game/v/110625/
	">#5</a>\n\n</BODY>\n</HTML>
STATUS:CONFIRMED
CLASS:PUBLIC
URL:https://www.golnetwork.com/game/v/110625/
X-MICROSOFT-CDO-BUSYSTATUS:BUSY
X-MICROSOFT-CDO-IMPORTANCE:1
END:VEVENT
BEGIN:VEVENT
UID:gb96e@games.golnetwork.com
LOCATION:Anexxe Trilles des Bois
GEO:45.4395952;-75.6706817
CREATED:20170917T180324Z
DTSTART:20171005T003000Z
DTEND:20171005T012000Z
DTSTAMP:20260422T020850Z
SUMMARY:Individuals 1 vs. Zero Pucks Given
DESCRIPTION:Zero Pucks Given vs. Individuals 1Plus d'info : #6
X-ALT-DESC;FMTTYPE=text/html:<!DOCTYPE HTML PUBLIC "-//W3C//DTD HTML 3.2//E
	N">\n<HTML>\n<HEAD>\n<TITLE></TITLE>\n</HEAD>\n<BODY>\n<h3>Zero Pucks Given
	 vs. Individuals 1</h3>Plus d'info : <a href="https://www.golnetwork.com/ga
	me/v/110626/">#6</a>\n\n</BODY>\n</HTML>
STATUS:CONFIRMED
CLASS:PUBLIC
URL:https://www.golnetwork.com/game/v/110626/
X-MICROSOFT-CDO-BUSYSTATUS:BUSY
X-MICROSOFT-CDO-IMPORTANCE:1
END:VEVENT
BEGIN:VEVENT
UID:gb96g@games.golnetwork.com
LOCATION:Anexxe Trilles des Bois
GEO:45.4395952;-75.6706817
CREATED:20170917T180324Z
DTSTART:20171011T233000Z
DTEND:20171012T002000Z
DTSTAMP:20260422T020850Z
SUMMARY:Individuals 2 vs. Individuals 1
DESCRIPTION:Individuals 1 vs. Individuals 2Plus d'info : #7
X-ALT-DESC;FMTTYPE=text/html:<!DOCTYPE HTML PUBLIC "-//W3C//DTD HTML 3.2//E
	N">\n<HTML>\n<HEAD>\n<TITLE></TITLE>\n</HEAD>\n<BODY>\n<h3>Individuals 1 vs
	. Individuals 2</h3>Plus d'info : <a href="https://www.golnetwork.com/game/
	v/110627/">#7</a>\n\n</BODY>\n</HTML>
STATUS:CONFIRMED
CLASS:PUBLIC
URL:https://www.golnetwork.com/game/v/110627/
X-MICROSOFT-CDO-BUSYSTATUS:BUSY
X-MICROSOFT-CDO-IMPORTANCE:1
END:VEVENT
BEGIN:VEVENT
UID:gb96i@games.golnetwork.com
LOCATION:Anexxe Trilles des Bois
GEO:45.4395952;-75.6706817
CREATED:20170917T180324Z
DTSTART:20171012T003000Z
DTEND:20171012T012000Z
DTSTAMP:20260422T020850Z
SUMMARY:Zero Pucks Given vs. Reds
DESCRIPTION:Reds vs. Zero Pucks GivenPlus d'info : #8
X-ALT-DESC;FMTTYPE=text/html:<!DOCTYPE HTML PUBLIC "-//W3C//DTD HTML 3.2//E
	N">\n<HTML>\n<HEAD>\n<TITLE></TITLE>\n</HEAD>\n<BODY>\n<h3>Reds vs. Zero Pu
	cks Given</h3>Plus d'info : <a href="https://www.golnetwork.com/game/v/1106
	28/">#8</a>\n\n</BODY>\n</HTML>
STATUS:CONFIRMED
CLASS:PUBLIC
URL:https://www.golnetwork.com/game/v/110628/
X-MICROSOFT-CDO-BUSYSTATUS:BUSY
X-MICROSOFT-CDO-IMPORTANCE:1
END:VEVENT
BEGIN:VEVENT
UID:gb96k@games.golnetwork.com
LOCATION:Anexxe Trilles des Bois
GEO:45.4395952;-75.6706817
CREATED:20170917T180324Z
DTSTART:20171018T233000Z
DTEND:20171019T002000Z
DTSTAMP:20260422T020850Z
SUMMARY:Individuals 2 vs. Zero Pucks Given
DESCRIPTION:Zero Pucks Given vs. Individuals 2Plus d'info : #9
X-ALT-DESC;FMTTYPE=text/html:<!DOCTYPE HTML PUBLIC "-//W3C//DTD HTML 3.2//E
	N">\n<HTML>\n<HEAD>\n<TITLE></TITLE>\n</HEAD>\n<BODY>\n<h3>Zero Pucks Given
	 vs. Individuals 2</h3>Plus d'info : <a href="https://www.golnetwork.com/ga
	me/v/110629/">#9</a>\n\n</BODY>\n</HTML>
STATUS:CONFIRMED
CLASS:PUBLIC
URL:https://www.golnetwork.com/game/v/110629/
X-MICROSOFT-CDO-BUSYSTATUS:BUSY
X-MICROSOFT-CDO-IMPORTANCE:1
END:VEVENT
BEGIN:VEVENT
UID:gb96m@games.golnetwork.com
LOCATION:Anexxe Trilles des Bois
GEO:45.4395952;-75.6706817
CREATED:20170917T180324Z
DTSTART:20171019T003000Z
DTEND:20171019T012000Z
DTSTAMP:20260422T020850Z
SUMMARY:Reds vs. Individuals 1
DESCRIPTION:Individuals 1 vs. RedsPlus d'info : #10
X-ALT-DESC;FMTTYPE=text/html:<!DOCTYPE HTML PUBLIC "-//W3C//DTD HTML 3.2//E
	N">\n<HTML>\n<HEAD>\n<TITLE></TITLE>\n</HEAD>\n<BODY>\n<h3>Individuals 1 vs
	. Reds</h3>Plus d'info : <a href="https://www.golnetwork.com/game/v/110630/
	">#10</a>\n\n</BODY>\n</HTML>
STATUS:CONFIRMED
CLASS:PUBLIC
URL:https://www.golnetwork.com/game/v/110630/
X-MICROSOFT-CDO-BUSYSTATUS:BUSY
X-MICROSOFT-CDO-IMPORTANCE:1
END:VEVENT
BEGIN:VEVENT
UID:gb96o@games.golnetwork.com
LOCATION:Anexxe Trilles des Bois
GEO:45.4395952;-75.6706817
CREATED:20170917T180324Z
DTSTART:20171025T233000Z
DTEND:20171026T002000Z
DTSTAMP:20260422T020850Z
SUMMARY:Individuals 1 vs. Zero Pucks Given
DESCRIPTION:Zero Pucks Given vs. Individuals 1Plus d'info : #11
X-ALT-DESC;FMTTYPE=text/html:<!DOCTYPE HTML PUBLIC "-//W3C//DTD HTML 3.2//E
	N">\n<HTML>\n<HEAD>\n<TITLE></TITLE>\n</HEAD>\n<BODY>\n<h3>Zero Pucks Given
	 vs. Individuals 1</h3>Plus d'info : <a href="https://www.golnetwork.com/ga
	me/v/110631/">#11</a>\n\n</BODY>\n</HTML>
STATUS:CONFIRMED
CLASS:PUBLIC
URL:https://www.golnetwork.com/game/v/110631/
X-MICROSOFT-CDO-BUSYSTATUS:BUSY
X-MICROSOFT-CDO-IMPORTANCE:1
END:VEVENT
BEGIN:VEVENT
UID:gb96q@games.golnetwork.com
LOCATION:Anexxe Trilles des Bois
GEO:45.4395952;-75.6706817
CREATED:20170917T180324Z
DTSTART:20171026T003000Z
DTEND:20171026T012000Z
DTSTAMP:20260422T020850Z
SUMMARY:Individuals 2 vs. Reds
DESCRIPTION:Reds vs. Individuals 2Plus d'info : #12
X-ALT-DESC;FMTTYPE=text/html:<!DOCTYPE HTML PUBLIC "-//W3C//DTD HTML 3.2//E
	N">\n<HTML>\n<HEAD>\n<TITLE></TITLE>\n</HEAD>\n<BODY>\n<h3>Reds vs. Individ
	uals 2</h3>Plus d'info : <a href="https://www.golnetwork.com/game/v/110632/
	">#12</a>\n\n</BODY>\n</HTML>
STATUS:CONFIRMED
CLASS:PUBLIC
URL:https://www.golnetwork.com/game/v/110632/
X-MICROSOFT-CDO-BUSYSTATUS:BUSY
X-MICROSOFT-CDO-IMPORTANCE:1
END:VEVENT
BEGIN:VEVENT
UID:gb971@games.golnetwork.com
LOCATION:Anexxe Trilles des Bois
GEO:45.4395952;-75.6706817
CREATED:20170917T180324Z
DTSTART:20171101T233000Z
DTEND:20171102T002000Z
DTSTAMP:20260422T020850Z
SUMMARY:Zero Pucks Given vs. Reds
DESCRIPTION:Reds vs. Zero Pucks GivenPlus d'info : #13
X-ALT-DESC;FMTTYPE=text/html:<!DOCTYPE HTML PUBLIC "-//W3C//DTD HTML 3.2//E
	N">\n<HTML>\n<HEAD>\n<TITLE></TITLE>\n</HEAD>\n<BODY>\n<h3>Reds vs. Zero Pu
	cks Given</h3>Plus d'info : <a href="https://www.golnetwork.com/game/v/1106
	33/">#13</a>\n\n</BODY>\n</HTML>
STATUS:CONFIRMED
CLASS:PUBLIC
URL:https://www.golnetwork.com/game/v/110633/
X-MICROSOFT-CDO-BUSYSTATUS:BUSY
X-MICROSOFT-CDO-IMPORTANCE:1
END:VEVENT
BEGIN:VEVENT
UID:gb973@games.golnetwork.com
LOCATION:Anexxe Trilles des Bois
GEO:45.4395952;-75.6706817
CREATED:20170917T180324Z
DTSTART:20171102T003000Z
DTEND:20171102T012000Z
DTSTAMP:20260422T020850Z
SUMMARY:Individuals 2 vs. Individuals 1
DESCRIPTION:Individuals 1 vs. Individuals 2Plus d'info : #14
X-ALT-DESC;FMTTYPE=text/html:<!DOCTYPE HTML PUBLIC "-//W3C//DTD HTML 3.2//E
	N">\n<HTML>\n<HEAD>\n<TITLE></TITLE>\n</HEAD>\n<BODY>\n<h3>Individuals 1 vs
	. Individuals 2</h3>Plus d'info : <a href="https://www.golnetwork.com/game/
	v/110634/">#14</a>\n\n</BODY>\n</HTML>
STATUS:CONFIRMED
CLASS:PUBLIC
URL:https://www.golnetwork.com/game/v/110634/
X-MICROSOFT-CDO-BUSYSTATUS:BUSY
X-MICROSOFT-CDO-IMPORTANCE:1
END:VEVENT
BEGIN:VEVENT
UID:gb975@games.golnetwork.com
LOCATION:Anexxe Trilles des Bois
GEO:45.4395952;-75.6706817
CREATED:20170917T180324Z
DTSTART:20171109T003000Z
DTEND:20171109T012000Z
DTSTAMP:20260422T020850Z
SUMMARY:Reds vs. Individuals 1
DESCRIPTION:Individuals 1 vs. RedsPlus d'info : #15
X-ALT-DESC;FMTTYPE=text/html:<!DOCTYPE HTML PUBLIC "-//W3C//DTD HTML 3.2//E
	N">\n<HTML>\n<HEAD>\n<TITLE></TITLE>\n</HEAD>\n<BODY>\n<h3>Individuals 1 vs
	. Reds</h3>Plus d'info : <a href="https://www.golnetwork.com/game/v/110635/
	">#15</a>\n\n</BODY>\n</HTML>
STATUS:CONFIRMED
CLASS:PUBLIC
URL:https://www.golnetwork.com/game/v/110635/
X-MICROSOFT-CDO-BUSYSTATUS:BUSY
X-MICROSOFT-CDO-IMPORTANCE:1
END:VEVENT
BEGIN:VEVENT
UID:gb977@games.golnetwork.com
LOCATION:Anexxe Trilles des Bois
GEO:45.4395952;-75.6706817
CREATED:20170917T180324Z
DTSTART:20171109T013000Z
DTEND:20171109T022000Z
DTSTAMP:20260422T020850Z
SUMMARY:Individuals 2 vs. Zero Pucks Given
DESCRIPTION:Zero Pucks Given vs. Individuals 2Plus d'info : #16
X-ALT-DESC;FMTTYPE=text/html:<!DOCTYPE HTML PUBLIC "-//W3C//DTD HTML 3.2//E
	N">\n<HTML>\n<HEAD>\n<TITLE></TITLE>\n</HEAD>\n<BODY>\n<h3>Zero Pucks Given
	 vs. Individuals 2</h3>Plus d'info : <a href="https://www.golnetwork.com/ga
	me/v/110636/">#16</a>\n\n</BODY>\n</HTML>
STATUS:CONFIRMED
CLASS:PUBLIC
URL:https://www.golnetwork.com/game/v/110636/
X-MICROSOFT-CDO-BUSYSTATUS:BUSY
X-MICROSOFT-CDO-IMPORTANCE:1
END:VEVENT
END:VCALENDAR
