BEGIN:VCALENDAR
PRODID:-//gdesolutions.com//MV Framework 1.0.0.1607 Calendar//EN
VERSION:2.0
METHOD:PUBLISH
CALSCALE:GREGORIAN
BEGIN:VEVENT
UID:gbagn@games.golnetwork.com
LOCATION:Gym #1
GEO:45.512013005005;-73.559831143211
CREATED:20170920T223519Z
DTSTART:20170925T231500Z
DTEND:20170926T002500Z
DTSTAMP:20260426T033353Z
SUMMARY:MAESTRO vs. LES BLEUETS
DESCRIPTION:LES BLEUETS vs. MAESTROPlus d'info : #1
X-ALT-DESC;FMTTYPE=text/html:<!DOCTYPE HTML PUBLIC "-//W3C//DTD HTML 3.2//E
	N">\n<HTML>\n<HEAD>\n<TITLE></TITLE>\n</HEAD>\n<BODY>\n<h3>LES BLEUETS vs. 
	MAESTRO</h3>Plus d'info : <a href="https://www.golnetwork.com/game/v/111130
	/">#1</a>\n\n</BODY>\n</HTML>
STATUS:CONFIRMED
CLASS:PUBLIC
URL:https://www.golnetwork.com/game/v/111130/
X-MICROSOFT-CDO-BUSYSTATUS:BUSY
X-MICROSOFT-CDO-IMPORTANCE:1
END:VEVENT
BEGIN:VEVENT
UID:gbagp@games.golnetwork.com
LOCATION:Gym #2
GEO:45.51199732925;-73.559906959534
CREATED:20170920T223519Z
DTSTART:20170925T231500Z
DTEND:20170926T002500Z
DTSTAMP:20260426T033353Z
SUMMARY:OGC NICE vs. JORIS
DESCRIPTION:JORIS vs. OGC NICEPlus d'info : #2
X-ALT-DESC;FMTTYPE=text/html:<!DOCTYPE HTML PUBLIC "-//W3C//DTD HTML 3.2//E
	N">\n<HTML>\n<HEAD>\n<TITLE></TITLE>\n</HEAD>\n<BODY>\n<h3>JORIS vs. OGC NI
	CE</h3>Plus d'info : <a href="https://www.golnetwork.com/game/v/111131/">#2
	</a>\n\n</BODY>\n</HTML>
STATUS:CONFIRMED
CLASS:PUBLIC
URL:https://www.golnetwork.com/game/v/111131/
X-MICROSOFT-CDO-BUSYSTATUS:BUSY
X-MICROSOFT-CDO-IMPORTANCE:1
END:VEVENT
BEGIN:VEVENT
UID:gbah0@games.golnetwork.com
LOCATION:Gym #1
GEO:45.512013005005;-73.559831143211
CREATED:20170920T223519Z
DTSTART:20171002T231500Z
DTEND:20171003T002500Z
DTSTAMP:20260426T033353Z
SUMMARY:OGC NICE vs. MAESTRO
DESCRIPTION:MAESTRO vs. OGC NICEPlus d'info : #8
X-ALT-DESC;FMTTYPE=text/html:<!DOCTYPE HTML PUBLIC "-//W3C//DTD HTML 3.2//E
	N">\n<HTML>\n<HEAD>\n<TITLE></TITLE>\n</HEAD>\n<BODY>\n<h3>MAESTRO vs. OGC 
	NICE</h3>Plus d'info : <a href="https://www.golnetwork.com/game/v/111132/">
	#8</a>\n\n</BODY>\n</HTML>
STATUS:CONFIRMED
CLASS:PUBLIC
URL:https://www.golnetwork.com/game/v/111132/
X-MICROSOFT-CDO-BUSYSTATUS:BUSY
X-MICROSOFT-CDO-IMPORTANCE:1
END:VEVENT
BEGIN:VEVENT
UID:gbah2@games.golnetwork.com
LOCATION:Gym #2
GEO:45.51199732925;-73.559906959534
CREATED:20170920T223519Z
DTSTART:20171002T231500Z
DTEND:20171003T002500Z
DTSTAMP:20260426T033353Z
SUMMARY:JORIS vs. LES BLEUETS
DESCRIPTION:LES BLEUETS vs. JORISPlus d'info : #9
X-ALT-DESC;FMTTYPE=text/html:<!DOCTYPE HTML PUBLIC "-//W3C//DTD HTML 3.2//E
	N">\n<HTML>\n<HEAD>\n<TITLE></TITLE>\n</HEAD>\n<BODY>\n<h3>LES BLEUETS vs. 
	JORIS</h3>Plus d'info : <a href="https://www.golnetwork.com/game/v/111133/"
	>#9</a>\n\n</BODY>\n</HTML>
STATUS:CONFIRMED
CLASS:PUBLIC
URL:https://www.golnetwork.com/game/v/111133/
X-MICROSOFT-CDO-BUSYSTATUS:BUSY
X-MICROSOFT-CDO-IMPORTANCE:1
END:VEVENT
BEGIN:VEVENT
UID:gbah4@games.golnetwork.com
LOCATION:Gym #1
GEO:45.512013005005;-73.559831143211
CREATED:20170920T223519Z
DTSTART:20171016T231500Z
DTEND:20171017T002500Z
DTSTAMP:20260426T033353Z
SUMMARY:MAESTRO vs. JORIS
DESCRIPTION:JORIS vs. MAESTROPlus d'info : #15
X-ALT-DESC;FMTTYPE=text/html:<!DOCTYPE HTML PUBLIC "-//W3C//DTD HTML 3.2//E
	N">\n<HTML>\n<HEAD>\n<TITLE></TITLE>\n</HEAD>\n<BODY>\n<h3>JORIS vs. MAESTR
	O</h3>Plus d'info : <a href="https://www.golnetwork.com/game/v/111134/">#15
	</a>\n\n</BODY>\n</HTML>
STATUS:CONFIRMED
CLASS:PUBLIC
URL:https://www.golnetwork.com/game/v/111134/
X-MICROSOFT-CDO-BUSYSTATUS:BUSY
X-MICROSOFT-CDO-IMPORTANCE:1
END:VEVENT
BEGIN:VEVENT
UID:gbah6@games.golnetwork.com
LOCATION:Gym #2
GEO:45.51199732925;-73.559906959534
CREATED:20170920T223519Z
DTSTART:20171016T231500Z
DTEND:20171017T002500Z
DTSTAMP:20260426T033353Z
SUMMARY:OGC NICE vs. LES BLEUETS
DESCRIPTION:LES BLEUETS vs. OGC NICEPlus d'info : #16
X-ALT-DESC;FMTTYPE=text/html:<!DOCTYPE HTML PUBLIC "-//W3C//DTD HTML 3.2//E
	N">\n<HTML>\n<HEAD>\n<TITLE></TITLE>\n</HEAD>\n<BODY>\n<h3>LES BLEUETS vs. 
	OGC NICE</h3>Plus d'info : <a href="https://www.golnetwork.com/game/v/11113
	5/">#16</a>\n\n</BODY>\n</HTML>
STATUS:CONFIRMED
CLASS:PUBLIC
URL:https://www.golnetwork.com/game/v/111135/
X-MICROSOFT-CDO-BUSYSTATUS:BUSY
X-MICROSOFT-CDO-IMPORTANCE:1
END:VEVENT
BEGIN:VEVENT
UID:gbah8@games.golnetwork.com
LOCATION:Gym #1
GEO:45.512013005005;-73.559831143211
CREATED:20170920T223519Z
DTSTART:20171030T231500Z
DTEND:20171031T002500Z
DTSTAMP:20260426T033353Z
SUMMARY:MAESTRO vs. LES BLEUETS
DESCRIPTION:LES BLEUETS vs. MAESTROPlus d'info : #22
X-ALT-DESC;FMTTYPE=text/html:<!DOCTYPE HTML PUBLIC "-//W3C//DTD HTML 3.2//E
	N">\n<HTML>\n<HEAD>\n<TITLE></TITLE>\n</HEAD>\n<BODY>\n<h3>LES BLEUETS vs. 
	MAESTRO</h3>Plus d'info : <a href="https://www.golnetwork.com/game/v/111136
	/">#22</a>\n\n</BODY>\n</HTML>
STATUS:CONFIRMED
CLASS:PUBLIC
URL:https://www.golnetwork.com/game/v/111136/
X-MICROSOFT-CDO-BUSYSTATUS:BUSY
X-MICROSOFT-CDO-IMPORTANCE:1
END:VEVENT
BEGIN:VEVENT
UID:gbaha@games.golnetwork.com
LOCATION:Gym #2
GEO:45.51199732925;-73.559906959534
CREATED:20170920T223519Z
DTSTART:20171030T231500Z
DTEND:20171031T002500Z
DTSTAMP:20260426T033353Z
SUMMARY:JORIS vs. OGC NICE
DESCRIPTION:OGC NICE vs. JORISPlus d'info : #23
X-ALT-DESC;FMTTYPE=text/html:<!DOCTYPE HTML PUBLIC "-//W3C//DTD HTML 3.2//E
	N">\n<HTML>\n<HEAD>\n<TITLE></TITLE>\n</HEAD>\n<BODY>\n<h3>OGC NICE vs. JOR
	IS</h3>Plus d'info : <a href="https://www.golnetwork.com/game/v/111137/">#2
	3</a>\n\n</BODY>\n</HTML>
STATUS:CONFIRMED
CLASS:PUBLIC
URL:https://www.golnetwork.com/game/v/111137/
X-MICROSOFT-CDO-BUSYSTATUS:BUSY
X-MICROSOFT-CDO-IMPORTANCE:1
END:VEVENT
BEGIN:VEVENT
UID:gbahc@games.golnetwork.com
LOCATION:Gym #1
GEO:45.512013005005;-73.559831143211
CREATED:20170920T223519Z
DTSTART:20171107T001500Z
DTEND:20171107T012500Z
DTSTAMP:20260426T033353Z
SUMMARY:MAESTRO vs. OGC NICE
DESCRIPTION:OGC NICE vs. MAESTROPlus d'info : #29
X-ALT-DESC;FMTTYPE=text/html:<!DOCTYPE HTML PUBLIC "-//W3C//DTD HTML 3.2//E
	N">\n<HTML>\n<HEAD>\n<TITLE></TITLE>\n</HEAD>\n<BODY>\n<h3>OGC NICE vs. MAE
	STRO</h3>Plus d'info : <a href="https://www.golnetwork.com/game/v/111138/">
	#29</a>\n\n</BODY>\n</HTML>
STATUS:CONFIRMED
CLASS:PUBLIC
URL:https://www.golnetwork.com/game/v/111138/
X-MICROSOFT-CDO-BUSYSTATUS:BUSY
X-MICROSOFT-CDO-IMPORTANCE:1
END:VEVENT
BEGIN:VEVENT
UID:gbahe@games.golnetwork.com
LOCATION:Gym #2
GEO:45.51199732925;-73.559906959534
CREATED:20170920T223519Z
DTSTART:20171107T001500Z
DTEND:20171107T012500Z
DTSTAMP:20260426T033353Z
SUMMARY:LES BLEUETS vs. JORIS
DESCRIPTION:JORIS vs. LES BLEUETSPlus d'info : #30
X-ALT-DESC;FMTTYPE=text/html:<!DOCTYPE HTML PUBLIC "-//W3C//DTD HTML 3.2//E
	N">\n<HTML>\n<HEAD>\n<TITLE></TITLE>\n</HEAD>\n<BODY>\n<h3>JORIS vs. LES BL
	EUETS</h3>Plus d'info : <a href="https://www.golnetwork.com/game/v/111139/"
	>#30</a>\n\n</BODY>\n</HTML>
STATUS:CONFIRMED
CLASS:PUBLIC
URL:https://www.golnetwork.com/game/v/111139/
X-MICROSOFT-CDO-BUSYSTATUS:BUSY
X-MICROSOFT-CDO-IMPORTANCE:1
END:VEVENT
BEGIN:VEVENT
UID:gbahg@games.golnetwork.com
LOCATION:Gym #1
GEO:45.512013005005;-73.559831143211
CREATED:20170920T223519Z
DTSTART:20171114T001500Z
DTEND:20171114T012500Z
DTSTAMP:20260426T033353Z
SUMMARY:OGC NICE vs. LES BLEUETS
DESCRIPTION:LES BLEUETS vs. OGC NICEPlus d'info : #36
X-ALT-DESC;FMTTYPE=text/html:<!DOCTYPE HTML PUBLIC "-//W3C//DTD HTML 3.2//E
	N">\n<HTML>\n<HEAD>\n<TITLE></TITLE>\n</HEAD>\n<BODY>\n<h3>LES BLEUETS vs. 
	OGC NICE</h3>Plus d'info : <a href="https://www.golnetwork.com/game/v/11114
	0/">#36</a>\n\n</BODY>\n</HTML>
STATUS:CONFIRMED
CLASS:PUBLIC
URL:https://www.golnetwork.com/game/v/111140/
X-MICROSOFT-CDO-BUSYSTATUS:BUSY
X-MICROSOFT-CDO-IMPORTANCE:1
END:VEVENT
BEGIN:VEVENT
UID:gbahi@games.golnetwork.com
LOCATION:Gym #2
GEO:45.51199732925;-73.559906959534
CREATED:20170920T223519Z
DTSTART:20171114T001500Z
DTEND:20171114T012500Z
DTSTAMP:20260426T033353Z
SUMMARY:JORIS vs. MAESTRO
DESCRIPTION:MAESTRO vs. JORISPlus d'info : #37
X-ALT-DESC;FMTTYPE=text/html:<!DOCTYPE HTML PUBLIC "-//W3C//DTD HTML 3.2//E
	N">\n<HTML>\n<HEAD>\n<TITLE></TITLE>\n</HEAD>\n<BODY>\n<h3>MAESTRO vs. JORI
	S</h3>Plus d'info : <a href="https://www.golnetwork.com/game/v/111141/">#37
	</a>\n\n</BODY>\n</HTML>
STATUS:CONFIRMED
CLASS:PUBLIC
URL:https://www.golnetwork.com/game/v/111141/
X-MICROSOFT-CDO-BUSYSTATUS:BUSY
X-MICROSOFT-CDO-IMPORTANCE:1
END:VEVENT
BEGIN:VEVENT
UID:gbahk@games.golnetwork.com
LOCATION:Gym #1
GEO:45.512013005005;-73.559831143211
CREATED:20170920T223519Z
DTSTART:20171121T001500Z
DTEND:20171121T012500Z
DTSTAMP:20260426T033353Z
SUMMARY:OGC NICE vs. JORIS
DESCRIPTION:JORIS vs. OGC NICEPlus d'info : #43
X-ALT-DESC;FMTTYPE=text/html:<!DOCTYPE HTML PUBLIC "-//W3C//DTD HTML 3.2//E
	N">\n<HTML>\n<HEAD>\n<TITLE></TITLE>\n</HEAD>\n<BODY>\n<h3>JORIS vs. OGC NI
	CE</h3>Plus d'info : <a href="https://www.golnetwork.com/game/v/111142/">#4
	3</a>\n\n</BODY>\n</HTML>
STATUS:CONFIRMED
CLASS:PUBLIC
URL:https://www.golnetwork.com/game/v/111142/
X-MICROSOFT-CDO-BUSYSTATUS:BUSY
X-MICROSOFT-CDO-IMPORTANCE:1
END:VEVENT
BEGIN:VEVENT
UID:gbahm@games.golnetwork.com
LOCATION:Gym #2
GEO:45.51199732925;-73.559906959534
CREATED:20170920T223519Z
DTSTART:20171121T001500Z
DTEND:20171121T012500Z
DTSTAMP:20260426T033353Z
SUMMARY:LES BLEUETS vs. MAESTRO
DESCRIPTION:MAESTRO vs. LES BLEUETSPlus d'info : #44
X-ALT-DESC;FMTTYPE=text/html:<!DOCTYPE HTML PUBLIC "-//W3C//DTD HTML 3.2//E
	N">\n<HTML>\n<HEAD>\n<TITLE></TITLE>\n</HEAD>\n<BODY>\n<h3>MAESTRO vs. LES 
	BLEUETS</h3>Plus d'info : <a href="https://www.golnetwork.com/game/v/111143
	/">#44</a>\n\n</BODY>\n</HTML>
STATUS:CONFIRMED
CLASS:PUBLIC
URL:https://www.golnetwork.com/game/v/111143/
X-MICROSOFT-CDO-BUSYSTATUS:BUSY
X-MICROSOFT-CDO-IMPORTANCE:1
END:VEVENT
BEGIN:VEVENT
UID:gbaho@games.golnetwork.com
LOCATION:Gym #1
GEO:45.512013005005;-73.559831143211
CREATED:20170920T223519Z
DTSTART:20171128T001500Z
DTEND:20171128T012500Z
DTSTAMP:20260426T033353Z
SUMMARY:MAESTRO vs. OGC NICE
DESCRIPTION:OGC NICE vs. MAESTROPlus d'info : #50
X-ALT-DESC;FMTTYPE=text/html:<!DOCTYPE HTML PUBLIC "-//W3C//DTD HTML 3.2//E
	N">\n<HTML>\n<HEAD>\n<TITLE></TITLE>\n</HEAD>\n<BODY>\n<h3>OGC NICE vs. MAE
	STRO</h3>Plus d'info : <a href="https://www.golnetwork.com/game/v/111144/">
	#50</a>\n\n</BODY>\n</HTML>
STATUS:CONFIRMED
CLASS:PUBLIC
URL:https://www.golnetwork.com/game/v/111144/
X-MICROSOFT-CDO-BUSYSTATUS:BUSY
X-MICROSOFT-CDO-IMPORTANCE:1
END:VEVENT
BEGIN:VEVENT
UID:gbahq@games.golnetwork.com
LOCATION:Gym #2
GEO:45.51199732925;-73.559906959534
CREATED:20170920T223519Z
DTSTART:20171128T001500Z
DTEND:20171128T012500Z
DTSTAMP:20260426T033353Z
SUMMARY:LES BLEUETS vs. JORIS
DESCRIPTION:JORIS vs. LES BLEUETSPlus d'info : #51
X-ALT-DESC;FMTTYPE=text/html:<!DOCTYPE HTML PUBLIC "-//W3C//DTD HTML 3.2//E
	N">\n<HTML>\n<HEAD>\n<TITLE></TITLE>\n</HEAD>\n<BODY>\n<h3>JORIS vs. LES BL
	EUETS</h3>Plus d'info : <a href="https://www.golnetwork.com/game/v/111145/"
	>#51</a>\n\n</BODY>\n</HTML>
STATUS:CONFIRMED
CLASS:PUBLIC
URL:https://www.golnetwork.com/game/v/111145/
X-MICROSOFT-CDO-BUSYSTATUS:BUSY
X-MICROSOFT-CDO-IMPORTANCE:1
END:VEVENT
END:VCALENDAR
