BEGIN:VCALENDAR
PRODID:-//gdesolutions.com//MV Framework 1.0.0.1607 Calendar//EN
VERSION:2.0
METHOD:PUBLISH
CALSCALE:GREGORIAN
BEGIN:VEVENT
UID:gbmng@games.golnetwork.com
LOCATION:Monarch Park Stadium - Field 2
GEO:43.6792789;-79.3234873
CREATED:20171019T161130Z
DTSTART:20171025T020000Z
DTEND:20171025T030000Z
DTSTAMP:20260420T143410Z
SUMMARY:IWP vs. Free Agents
DESCRIPTION:Free Agents vs. IWPPlus d'info : #105
X-ALT-DESC;FMTTYPE=text/html:<!DOCTYPE HTML PUBLIC "-//W3C//DTD HTML 3.2//E
	N">\n<HTML>\n<HEAD>\n<TITLE></TITLE>\n</HEAD>\n<BODY>\n<h3>Free Agents vs. 
	IWP</h3>Plus d'info : <a href="https://www.golnetwork.com/game/v/115595/">#
	105</a>\n\n</BODY>\n</HTML>
STATUS:CONFIRMED
CLASS:PUBLIC
URL:https://www.golnetwork.com/game/v/115595/
X-MICROSOFT-CDO-BUSYSTATUS:BUSY
X-MICROSOFT-CDO-IMPORTANCE:1
END:VEVENT
BEGIN:VEVENT
UID:gbmnc@games.golnetwork.com
LOCATION:Monarch Park Stadium - Field 3
GEO:43.6792789;-79.3234873
CREATED:20171019T161033Z
DTSTART:20171025T020000Z
DTEND:20171025T030000Z
DTSTAMP:20260420T143410Z
SUMMARY:Winter Warriors vs. Big Baller FC
DESCRIPTION:Big Baller FC vs. Winter WarriorsPlus d'info : #106
X-ALT-DESC;FMTTYPE=text/html:<!DOCTYPE HTML PUBLIC "-//W3C//DTD HTML 3.2//E
	N">\n<HTML>\n<HEAD>\n<TITLE></TITLE>\n</HEAD>\n<BODY>\n<h3>Big Baller FC vs
	. Winter Warriors</h3>Plus d'info : <a href="https://www.golnetwork.com/gam
	e/v/115593/">#106</a>\n\n</BODY>\n</HTML>
STATUS:CONFIRMED
CLASS:PUBLIC
URL:https://www.golnetwork.com/game/v/115593/
X-MICROSOFT-CDO-BUSYSTATUS:BUSY
X-MICROSOFT-CDO-IMPORTANCE:1
END:VEVENT
BEGIN:VEVENT
UID:gbmne@games.golnetwork.com
LOCATION:Monarch Park Stadium - Field 2
GEO:43.6792789;-79.3234873
CREATED:20171019T161106Z
DTSTART:20171025T030000Z
DTEND:20171025T040000Z
DTSTAMP:20260420T143410Z
SUMMARY:Galacticos FC vs. Quesada FC
DESCRIPTION:Quesada FC vs. Galacticos FCPlus d'info : #107
X-ALT-DESC;FMTTYPE=text/html:<!DOCTYPE HTML PUBLIC "-//W3C//DTD HTML 3.2//E
	N">\n<HTML>\n<HEAD>\n<TITLE></TITLE>\n</HEAD>\n<BODY>\n<h3>Quesada FC vs. G
	alacticos FC</h3>Plus d'info : <a href="https://www.golnetwork.com/game/v/1
	15594/">#107</a>\n\n</BODY>\n</HTML>
STATUS:CONFIRMED
CLASS:PUBLIC
URL:https://www.golnetwork.com/game/v/115594/
X-MICROSOFT-CDO-BUSYSTATUS:BUSY
X-MICROSOFT-CDO-IMPORTANCE:1
END:VEVENT
BEGIN:VEVENT
UID:gbmni@games.golnetwork.com
LOCATION:Monarch Park Stadium - Field 3
GEO:43.6792789;-79.3234873
CREATED:20171019T161243Z
DTSTART:20171025T030000Z
DTEND:20171025T040000Z
DTSTAMP:20260420T143410Z
SUMMARY:5 Tribes vs. Wykydtrons
DESCRIPTION:Wykydtrons vs. 5 TribesPlus d'info : #108
X-ALT-DESC;FMTTYPE=text/html:<!DOCTYPE HTML PUBLIC "-//W3C//DTD HTML 3.2//E
	N">\n<HTML>\n<HEAD>\n<TITLE></TITLE>\n</HEAD>\n<BODY>\n<h3>Wykydtrons vs. 5
	 Tribes</h3>Plus d'info : <a href="https://www.golnetwork.com/game/v/115596
	/">#108</a>\n\n</BODY>\n</HTML>
STATUS:CONFIRMED
CLASS:PUBLIC
URL:https://www.golnetwork.com/game/v/115596/
X-MICROSOFT-CDO-BUSYSTATUS:BUSY
X-MICROSOFT-CDO-IMPORTANCE:1
END:VEVENT
BEGIN:VEVENT
UID:gbnem@games.golnetwork.com
LOCATION:Monarch Park Stadium - Field 2
GEO:43.6792789;-79.3234873
CREATED:20171025T153203Z
DTSTART:20171031T230000Z
DTEND:20171101T000000Z
DTSTAMP:20260420T143410Z
SUMMARY:Quesada FC vs. Winter Warriors
DESCRIPTION:Winter Warriors vs. Quesada FCPlus d'info : #138
X-ALT-DESC;FMTTYPE=text/html:<!DOCTYPE HTML PUBLIC "-//W3C//DTD HTML 3.2//E
	N">\n<HTML>\n<HEAD>\n<TITLE></TITLE>\n</HEAD>\n<BODY>\n<h3>Winter Warriors 
	vs. Quesada FC</h3>Plus d'info : <a href="https://www.golnetwork.com/game/v
	/115841/">#138</a>\n\n</BODY>\n</HTML>
STATUS:CONFIRMED
CLASS:PUBLIC
URL:https://www.golnetwork.com/game/v/115841/
X-MICROSOFT-CDO-BUSYSTATUS:BUSY
X-MICROSOFT-CDO-IMPORTANCE:1
END:VEVENT
BEGIN:VEVENT
UID:gbneo@games.golnetwork.com
LOCATION:Monarch Park Stadium - Field 2
GEO:43.6792789;-79.3234873
CREATED:20171025T153210Z
DTSTART:20171101T000000Z
DTEND:20171101T010000Z
DTSTAMP:20260420T143410Z
SUMMARY:Big Baller FC vs. Free Agents
DESCRIPTION:Free Agents vs. Big Baller FCPlus d'info : #140
X-ALT-DESC;FMTTYPE=text/html:<!DOCTYPE HTML PUBLIC "-//W3C//DTD HTML 3.2//E
	N">\n<HTML>\n<HEAD>\n<TITLE></TITLE>\n</HEAD>\n<BODY>\n<h3>Free Agents vs. 
	Big Baller FC</h3>Plus d'info : <a href="https://www.golnetwork.com/game/v/
	115842/">#140</a>\n\n</BODY>\n</HTML>
STATUS:CONFIRMED
CLASS:PUBLIC
URL:https://www.golnetwork.com/game/v/115842/
X-MICROSOFT-CDO-BUSYSTATUS:BUSY
X-MICROSOFT-CDO-IMPORTANCE:1
END:VEVENT
BEGIN:VEVENT
UID:gbneq@games.golnetwork.com
LOCATION:Monarch Park Stadium - Field 2
GEO:43.6792789;-79.3234873
CREATED:20171025T153220Z
DTSTART:20171101T010000Z
DTEND:20171101T020000Z
DTSTAMP:20260420T143410Z
SUMMARY:IWP vs. 5 Tribes
DESCRIPTION:5 Tribes vs. IWPPlus d'info : #142
X-ALT-DESC;FMTTYPE=text/html:<!DOCTYPE HTML PUBLIC "-//W3C//DTD HTML 3.2//E
	N">\n<HTML>\n<HEAD>\n<TITLE></TITLE>\n</HEAD>\n<BODY>\n<h3>5 Tribes vs. IWP
	</h3>Plus d'info : <a href="https://www.golnetwork.com/game/v/115843/">#142
	</a>\n\n</BODY>\n</HTML>
STATUS:CONFIRMED
CLASS:PUBLIC
URL:https://www.golnetwork.com/game/v/115843/
X-MICROSOFT-CDO-BUSYSTATUS:BUSY
X-MICROSOFT-CDO-IMPORTANCE:1
END:VEVENT
BEGIN:VEVENT
UID:gbnf1@games.golnetwork.com
LOCATION:Monarch Park Stadium - Field 2
GEO:43.6792789;-79.3234873
CREATED:20171025T153231Z
DTSTART:20171101T020000Z
DTEND:20171101T030000Z
DTSTAMP:20260420T143410Z
SUMMARY:Galacticos FC vs. Wykydtrons
DESCRIPTION:Wykydtrons vs. Galacticos FCPlus d'info : #145
X-ALT-DESC;FMTTYPE=text/html:<!DOCTYPE HTML PUBLIC "-//W3C//DTD HTML 3.2//E
	N">\n<HTML>\n<HEAD>\n<TITLE></TITLE>\n</HEAD>\n<BODY>\n<h3>Wykydtrons vs. G
	alacticos FC</h3>Plus d'info : <a href="https://www.golnetwork.com/game/v/1
	15844/">#145</a>\n\n</BODY>\n</HTML>
STATUS:CONFIRMED
CLASS:PUBLIC
URL:https://www.golnetwork.com/game/v/115844/
X-MICROSOFT-CDO-BUSYSTATUS:BUSY
X-MICROSOFT-CDO-IMPORTANCE:1
END:VEVENT
BEGIN:VEVENT
UID:gbnf3@games.golnetwork.com
LOCATION:Monarch Park Stadium - Field 3
GEO:43.6792789;-79.3234873
CREATED:20171025T153245Z
DTSTART:20171108T030000Z
DTEND:20171108T040000Z
DTSTAMP:20260420T143410Z
SUMMARY:Galacticos FC vs. IWP
DESCRIPTION:IWP vs. Galacticos FCPlus d'info : #216
X-ALT-DESC;FMTTYPE=text/html:<!DOCTYPE HTML PUBLIC "-//W3C//DTD HTML 3.2//E
	N">\n<HTML>\n<HEAD>\n<TITLE></TITLE>\n</HEAD>\n<BODY>\n<h3>IWP vs. Galactic
	os FC</h3>Plus d'info : <a href="https://www.golnetwork.com/game/v/115845/"
	>#216</a>\n\n</BODY>\n</HTML>
STATUS:CONFIRMED
CLASS:PUBLIC
URL:https://www.golnetwork.com/game/v/115845/
X-MICROSOFT-CDO-BUSYSTATUS:BUSY
X-MICROSOFT-CDO-IMPORTANCE:1
END:VEVENT
BEGIN:VEVENT
UID:gbnf5@games.golnetwork.com
LOCATION:Monarch Park Stadium - Field 4
GEO:43.6792789;-79.3234873
CREATED:20171025T153254Z
DTSTART:20171108T030000Z
DTEND:20171108T040000Z
DTSTAMP:20260420T143410Z
SUMMARY:Quesada FC vs. Free Agents
DESCRIPTION:Free Agents vs. Quesada FCPlus d'info : #217
X-ALT-DESC;FMTTYPE=text/html:<!DOCTYPE HTML PUBLIC "-//W3C//DTD HTML 3.2//E
	N">\n<HTML>\n<HEAD>\n<TITLE></TITLE>\n</HEAD>\n<BODY>\n<h3>Free Agents vs. 
	Quesada FC</h3>Plus d'info : <a href="https://www.golnetwork.com/game/v/115
	846/">#217</a>\n\n</BODY>\n</HTML>
STATUS:CONFIRMED
CLASS:PUBLIC
URL:https://www.golnetwork.com/game/v/115846/
X-MICROSOFT-CDO-BUSYSTATUS:BUSY
X-MICROSOFT-CDO-IMPORTANCE:1
END:VEVENT
BEGIN:VEVENT
UID:gbnf7@games.golnetwork.com
LOCATION:Monarch Park Stadium - Field 3
GEO:43.6792789;-79.3234873
CREATED:20171025T153306Z
DTSTART:20171108T040000Z
DTEND:20171108T050000Z
DTSTAMP:20260420T143410Z
SUMMARY:5 Tribes vs. Winter Warriors
DESCRIPTION:Winter Warriors vs. 5 TribesPlus d'info : #221
X-ALT-DESC;FMTTYPE=text/html:<!DOCTYPE HTML PUBLIC "-//W3C//DTD HTML 3.2//E
	N">\n<HTML>\n<HEAD>\n<TITLE></TITLE>\n</HEAD>\n<BODY>\n<h3>Winter Warriors 
	vs. 5 Tribes</h3>Plus d'info : <a href="https://www.golnetwork.com/game/v/1
	15847/">#221</a>\n\n</BODY>\n</HTML>
STATUS:CONFIRMED
CLASS:PUBLIC
URL:https://www.golnetwork.com/game/v/115847/
X-MICROSOFT-CDO-BUSYSTATUS:BUSY
X-MICROSOFT-CDO-IMPORTANCE:1
END:VEVENT
BEGIN:VEVENT
UID:gbnf9@games.golnetwork.com
LOCATION:Monarch Park Stadium - Field 4
GEO:43.6792789;-79.3234873
CREATED:20171025T153319Z
DTSTART:20171108T040000Z
DTEND:20171108T050000Z
DTSTAMP:20260420T143410Z
SUMMARY:Wykydtrons vs. Big Baller FC
DESCRIPTION:Big Baller FC vs. WykydtronsPlus d'info : #222
X-ALT-DESC;FMTTYPE=text/html:<!DOCTYPE HTML PUBLIC "-//W3C//DTD HTML 3.2//E
	N">\n<HTML>\n<HEAD>\n<TITLE></TITLE>\n</HEAD>\n<BODY>\n<h3>Big Baller FC vs
	. Wykydtrons</h3>Plus d'info : <a href="https://www.golnetwork.com/game/v/1
	15848/">#222</a>\n\n</BODY>\n</HTML>
STATUS:CONFIRMED
CLASS:PUBLIC
URL:https://www.golnetwork.com/game/v/115848/
X-MICROSOFT-CDO-BUSYSTATUS:BUSY
X-MICROSOFT-CDO-IMPORTANCE:1
END:VEVENT
BEGIN:VEVENT
UID:gbnfb@games.golnetwork.com
LOCATION:Monarch Park Stadium - Field 2
GEO:43.6792789;-79.3234873
CREATED:20171025T153336Z
DTSTART:20171115T000000Z
DTEND:20171115T010000Z
DTSTAMP:20260420T143410Z
SUMMARY:Wykydtrons vs. IWP
DESCRIPTION:IWP vs. WykydtronsPlus d'info : #280
X-ALT-DESC;FMTTYPE=text/html:<!DOCTYPE HTML PUBLIC "-//W3C//DTD HTML 3.2//E
	N">\n<HTML>\n<HEAD>\n<TITLE></TITLE>\n</HEAD>\n<BODY>\n<h3>IWP vs. Wykydtro
	ns</h3>Plus d'info : <a href="https://www.golnetwork.com/game/v/115849/">#2
	80</a>\n\n</BODY>\n</HTML>
STATUS:CONFIRMED
CLASS:PUBLIC
URL:https://www.golnetwork.com/game/v/115849/
X-MICROSOFT-CDO-BUSYSTATUS:BUSY
X-MICROSOFT-CDO-IMPORTANCE:1
END:VEVENT
BEGIN:VEVENT
UID:gbnfd@games.golnetwork.com
LOCATION:Monarch Park Stadium - Field 2
GEO:43.6792789;-79.3234873
CREATED:20171025T153345Z
DTSTART:20171115T010000Z
DTEND:20171115T020000Z
DTSTAMP:20260420T143410Z
SUMMARY:Galacticos FC vs. Winter Warriors
DESCRIPTION:Winter Warriors vs. Galacticos FCPlus d'info : #282
X-ALT-DESC;FMTTYPE=text/html:<!DOCTYPE HTML PUBLIC "-//W3C//DTD HTML 3.2//E
	N">\n<HTML>\n<HEAD>\n<TITLE></TITLE>\n</HEAD>\n<BODY>\n<h3>Winter Warriors 
	vs. Galacticos FC</h3>Plus d'info : <a href="https://www.golnetwork.com/gam
	e/v/115850/">#282</a>\n\n</BODY>\n</HTML>
STATUS:CONFIRMED
CLASS:PUBLIC
URL:https://www.golnetwork.com/game/v/115850/
X-MICROSOFT-CDO-BUSYSTATUS:BUSY
X-MICROSOFT-CDO-IMPORTANCE:1
END:VEVENT
BEGIN:VEVENT
UID:gbnff@games.golnetwork.com
LOCATION:Monarch Park Stadium - Field 2
GEO:43.6792789;-79.3234873
CREATED:20171025T153355Z
DTSTART:20171115T030000Z
DTEND:20171115T040000Z
DTSTAMP:20260420T143410Z
SUMMARY:Quesada FC vs. Big Baller FC
DESCRIPTION:Big Baller FC vs. Quesada FCPlus d'info : #288
X-ALT-DESC;FMTTYPE=text/html:<!DOCTYPE HTML PUBLIC "-//W3C//DTD HTML 3.2//E
	N">\n<HTML>\n<HEAD>\n<TITLE></TITLE>\n</HEAD>\n<BODY>\n<h3>Big Baller FC vs
	. Quesada FC</h3>Plus d'info : <a href="https://www.golnetwork.com/game/v/1
	15851/">#288</a>\n\n</BODY>\n</HTML>
STATUS:CONFIRMED
CLASS:PUBLIC
URL:https://www.golnetwork.com/game/v/115851/
X-MICROSOFT-CDO-BUSYSTATUS:BUSY
X-MICROSOFT-CDO-IMPORTANCE:1
END:VEVENT
BEGIN:VEVENT
UID:gbnfh@games.golnetwork.com
LOCATION:Monarch Park Stadium - Field 2
GEO:43.6792789;-79.3234873
CREATED:20171025T153408Z
DTSTART:20171115T040000Z
DTEND:20171115T050000Z
DTSTAMP:20260420T143410Z
SUMMARY:5 Tribes vs. Free Agents
DESCRIPTION:Free Agents vs. 5 TribesPlus d'info : #293
X-ALT-DESC;FMTTYPE=text/html:<!DOCTYPE HTML PUBLIC "-//W3C//DTD HTML 3.2//E
	N">\n<HTML>\n<HEAD>\n<TITLE></TITLE>\n</HEAD>\n<BODY>\n<h3>Free Agents vs. 
	5 Tribes</h3>Plus d'info : <a href="https://www.golnetwork.com/game/v/11585
	2/">#293</a>\n\n</BODY>\n</HTML>
STATUS:CONFIRMED
CLASS:PUBLIC
URL:https://www.golnetwork.com/game/v/115852/
X-MICROSOFT-CDO-BUSYSTATUS:BUSY
X-MICROSOFT-CDO-IMPORTANCE:1
END:VEVENT
BEGIN:VEVENT
UID:gbnia@games.golnetwork.com
LOCATION:Monarch Park Stadium - Field 3
GEO:43.6792789;-79.3234873
CREATED:20171025T153645Z
DTSTART:20171122T030000Z
DTEND:20171122T040000Z
DTSTAMP:20260420T143410Z
SUMMARY:Wykydtrons vs. Winter Warriors
DESCRIPTION:Winter Warriors vs. WykydtronsPlus d'info : #386
X-ALT-DESC;FMTTYPE=text/html:<!DOCTYPE HTML PUBLIC "-//W3C//DTD HTML 3.2//E
	N">\n<HTML>\n<HEAD>\n<TITLE></TITLE>\n</HEAD>\n<BODY>\n<h3>Winter Warriors 
	vs. Wykydtrons</h3>Plus d'info : <a href="https://www.golnetwork.com/game/v
	/115889/">#386</a>\n\n</BODY>\n</HTML>
STATUS:CONFIRMED
CLASS:PUBLIC
URL:https://www.golnetwork.com/game/v/115889/
X-MICROSOFT-CDO-BUSYSTATUS:BUSY
X-MICROSOFT-CDO-IMPORTANCE:1
END:VEVENT
BEGIN:VEVENT
UID:gbnic@games.golnetwork.com
LOCATION:Monarch Park Stadium - Field 4
GEO:43.6792789;-79.3234873
CREATED:20171025T153654Z
DTSTART:20171122T030000Z
DTEND:20171122T040000Z
DTSTAMP:20260420T143410Z
SUMMARY:Big Baller FC vs. 5 Tribes
DESCRIPTION:5 Tribes vs. Big Baller FCPlus d'info : #387
X-ALT-DESC;FMTTYPE=text/html:<!DOCTYPE HTML PUBLIC "-//W3C//DTD HTML 3.2//E
	N">\n<HTML>\n<HEAD>\n<TITLE></TITLE>\n</HEAD>\n<BODY>\n<h3>5 Tribes vs. Big
	 Baller FC</h3>Plus d'info : <a href="https://www.golnetwork.com/game/v/115
	890/">#387</a>\n\n</BODY>\n</HTML>
STATUS:CONFIRMED
CLASS:PUBLIC
URL:https://www.golnetwork.com/game/v/115890/
X-MICROSOFT-CDO-BUSYSTATUS:BUSY
X-MICROSOFT-CDO-IMPORTANCE:1
END:VEVENT
BEGIN:VEVENT
UID:gbnig@games.golnetwork.com
LOCATION:Monarch Park Stadium - Field 3
GEO:43.6792789;-79.3234873
CREATED:20171025T153708Z
DTSTART:20171122T040000Z
DTEND:20171122T050000Z
DTSTAMP:20260420T143410Z
SUMMARY:Free Agents vs. Galacticos FC
DESCRIPTION:Galacticos FC vs. Free AgentsPlus d'info : #393
X-ALT-DESC;FMTTYPE=text/html:<!DOCTYPE HTML PUBLIC "-//W3C//DTD HTML 3.2//E
	N">\n<HTML>\n<HEAD>\n<TITLE></TITLE>\n</HEAD>\n<BODY>\n<h3>Galacticos FC vs
	. Free Agents</h3>Plus d'info : <a href="https://www.golnetwork.com/game/v/
	115892/">#393</a>\n\n</BODY>\n</HTML>
STATUS:CONFIRMED
CLASS:PUBLIC
URL:https://www.golnetwork.com/game/v/115892/
X-MICROSOFT-CDO-BUSYSTATUS:BUSY
X-MICROSOFT-CDO-IMPORTANCE:1
END:VEVENT
BEGIN:VEVENT
UID:gbnie@games.golnetwork.com
LOCATION:Monarch Park Stadium - Field 4
GEO:43.6792789;-79.3234873
CREATED:20171025T153702Z
DTSTART:20171122T040000Z
DTEND:20171122T050000Z
DTSTAMP:20260420T143410Z
SUMMARY:IWP vs. Quesada FC
DESCRIPTION:Quesada FC vs. IWPPlus d'info : #394
X-ALT-DESC;FMTTYPE=text/html:<!DOCTYPE HTML PUBLIC "-//W3C//DTD HTML 3.2//E
	N">\n<HTML>\n<HEAD>\n<TITLE></TITLE>\n</HEAD>\n<BODY>\n<h3>Quesada FC vs. I
	WP</h3>Plus d'info : <a href="https://www.golnetwork.com/game/v/115891/">#3
	94</a>\n\n</BODY>\n</HTML>
STATUS:CONFIRMED
CLASS:PUBLIC
URL:https://www.golnetwork.com/game/v/115891/
X-MICROSOFT-CDO-BUSYSTATUS:BUSY
X-MICROSOFT-CDO-IMPORTANCE:1
END:VEVENT
BEGIN:VEVENT
UID:gbnii@games.golnetwork.com
LOCATION:Monarch Park Stadium - Field 2
GEO:43.6792789;-79.3234873
CREATED:20171025T153722Z
DTSTART:20171129T000000Z
DTEND:20171129T010000Z
DTSTAMP:20260420T143410Z
SUMMARY:Free Agents vs. Wykydtrons
DESCRIPTION:Wykydtrons vs. Free AgentsPlus d'info : #460
X-ALT-DESC;FMTTYPE=text/html:<!DOCTYPE HTML PUBLIC "-//W3C//DTD HTML 3.2//E
	N">\n<HTML>\n<HEAD>\n<TITLE></TITLE>\n</HEAD>\n<BODY>\n<h3>Wykydtrons vs. F
	ree Agents</h3>Plus d'info : <a href="https://www.golnetwork.com/game/v/115
	893/">#460</a>\n\n</BODY>\n</HTML>
STATUS:CONFIRMED
CLASS:PUBLIC
URL:https://www.golnetwork.com/game/v/115893/
X-MICROSOFT-CDO-BUSYSTATUS:BUSY
X-MICROSOFT-CDO-IMPORTANCE:1
END:VEVENT
BEGIN:VEVENT
UID:gbnik@games.golnetwork.com
LOCATION:Monarch Park Stadium - Field 2
GEO:43.6792789;-79.3234873
CREATED:20171025T153731Z
DTSTART:20171129T010000Z
DTEND:20171129T020000Z
DTSTAMP:20260420T143410Z
SUMMARY:5 Tribes vs. Quesada FC
DESCRIPTION:Quesada FC vs. 5 TribesPlus d'info : #463
X-ALT-DESC;FMTTYPE=text/html:<!DOCTYPE HTML PUBLIC "-//W3C//DTD HTML 3.2//E
	N">\n<HTML>\n<HEAD>\n<TITLE></TITLE>\n</HEAD>\n<BODY>\n<h3>Quesada FC vs. 5
	 Tribes</h3>Plus d'info : <a href="https://www.golnetwork.com/game/v/115894
	/">#463</a>\n\n</BODY>\n</HTML>
STATUS:CONFIRMED
CLASS:PUBLIC
URL:https://www.golnetwork.com/game/v/115894/
X-MICROSOFT-CDO-BUSYSTATUS:BUSY
X-MICROSOFT-CDO-IMPORTANCE:1
END:VEVENT
BEGIN:VEVENT
UID:gbnio@games.golnetwork.com
LOCATION:Monarch Park Stadium - Field 2
GEO:43.6792789;-79.3234873
CREATED:20171025T153752Z
DTSTART:20171129T030000Z
DTEND:20171129T040000Z
DTSTAMP:20260420T143410Z
SUMMARY:Winter Warriors vs. IWP
DESCRIPTION:IWP vs. Winter WarriorsPlus d'info : #474
X-ALT-DESC;FMTTYPE=text/html:<!DOCTYPE HTML PUBLIC "-//W3C//DTD HTML 3.2//E
	N">\n<HTML>\n<HEAD>\n<TITLE></TITLE>\n</HEAD>\n<BODY>\n<h3>IWP vs. Winter W
	arriors</h3>Plus d'info : <a href="https://www.golnetwork.com/game/v/115896
	/">#474</a>\n\n</BODY>\n</HTML>
STATUS:CONFIRMED
CLASS:PUBLIC
URL:https://www.golnetwork.com/game/v/115896/
X-MICROSOFT-CDO-BUSYSTATUS:BUSY
X-MICROSOFT-CDO-IMPORTANCE:1
END:VEVENT
BEGIN:VEVENT
UID:gbnim@games.golnetwork.com
LOCATION:Monarch Park Stadium - Field 2
GEO:43.6792789;-79.3234873
CREATED:20171025T153743Z
DTSTART:20171129T040000Z
DTEND:20171129T050000Z
DTSTAMP:20260420T143410Z
SUMMARY:Galacticos FC vs. Big Baller FC
DESCRIPTION:Big Baller FC vs. Galacticos FCPlus d'info : #482
X-ALT-DESC;FMTTYPE=text/html:<!DOCTYPE HTML PUBLIC "-//W3C//DTD HTML 3.2//E
	N">\n<HTML>\n<HEAD>\n<TITLE></TITLE>\n</HEAD>\n<BODY>\n<h3>Big Baller FC vs
	. Galacticos FC</h3>Plus d'info : <a href="https://www.golnetwork.com/game/
	v/115895/">#482</a>\n\n</BODY>\n</HTML>
STATUS:CONFIRMED
CLASS:PUBLIC
URL:https://www.golnetwork.com/game/v/115895/
X-MICROSOFT-CDO-BUSYSTATUS:BUSY
X-MICROSOFT-CDO-IMPORTANCE:1
END:VEVENT
BEGIN:VEVENT
UID:gbniq@games.golnetwork.com
LOCATION:Monarch Park Stadium - Field 3
GEO:43.6792789;-79.3234873
CREATED:20171025T153808Z
DTSTART:20171206T030000Z
DTEND:20171206T040000Z
DTSTAMP:20260420T143410Z
SUMMARY:Wykydtrons vs. Quesada FC
DESCRIPTION:Quesada FC vs. WykydtronsPlus d'info : #560
X-ALT-DESC;FMTTYPE=text/html:<!DOCTYPE HTML PUBLIC "-//W3C//DTD HTML 3.2//E
	N">\n<HTML>\n<HEAD>\n<TITLE></TITLE>\n</HEAD>\n<BODY>\n<h3>Quesada FC vs. W
	ykydtrons</h3>Plus d'info : <a href="https://www.golnetwork.com/game/v/1158
	97/">#560</a>\n\n</BODY>\n</HTML>
STATUS:CONFIRMED
CLASS:PUBLIC
URL:https://www.golnetwork.com/game/v/115897/
X-MICROSOFT-CDO-BUSYSTATUS:BUSY
X-MICROSOFT-CDO-IMPORTANCE:1
END:VEVENT
BEGIN:VEVENT
UID:gbnj1@games.golnetwork.com
LOCATION:Monarch Park Stadium - Field 4
GEO:43.6792789;-79.3234873
CREATED:20171025T153817Z
DTSTART:20171206T030000Z
DTEND:20171206T040000Z
DTSTAMP:20260420T143410Z
SUMMARY:5 Tribes vs. Galacticos FC
DESCRIPTION:Galacticos FC vs. 5 TribesPlus d'info : #561
X-ALT-DESC;FMTTYPE=text/html:<!DOCTYPE HTML PUBLIC "-//W3C//DTD HTML 3.2//E
	N">\n<HTML>\n<HEAD>\n<TITLE></TITLE>\n</HEAD>\n<BODY>\n<h3>Galacticos FC vs
	. 5 Tribes</h3>Plus d'info : <a href="https://www.golnetwork.com/game/v/115
	898/">#561</a>\n\n</BODY>\n</HTML>
STATUS:CONFIRMED
CLASS:PUBLIC
URL:https://www.golnetwork.com/game/v/115898/
X-MICROSOFT-CDO-BUSYSTATUS:BUSY
X-MICROSOFT-CDO-IMPORTANCE:1
END:VEVENT
BEGIN:VEVENT
UID:gbnj9@games.golnetwork.com
LOCATION:Monarch Park Stadium - Field 3
GEO:43.6792789;-79.3234873
CREATED:20171025T154106Z
DTSTART:20171206T040000Z
DTEND:20171206T050000Z
DTSTAMP:20260420T143410Z
SUMMARY:Big Baller FC vs. IWP
DESCRIPTION:IWP vs. Big Baller FCPlus d'info : #568
X-ALT-DESC;FMTTYPE=text/html:<!DOCTYPE HTML PUBLIC "-//W3C//DTD HTML 3.2//E
	N">\n<HTML>\n<HEAD>\n<TITLE></TITLE>\n</HEAD>\n<BODY>\n<h3>IWP vs. Big Ball
	er FC</h3>Plus d'info : <a href="https://www.golnetwork.com/game/v/115902/"
	>#568</a>\n\n</BODY>\n</HTML>
STATUS:CONFIRMED
CLASS:PUBLIC
URL:https://www.golnetwork.com/game/v/115902/
X-MICROSOFT-CDO-BUSYSTATUS:BUSY
X-MICROSOFT-CDO-IMPORTANCE:1
END:VEVENT
BEGIN:VEVENT
UID:gbnjb@games.golnetwork.com
LOCATION:Monarch Park Stadium - Field 4
GEO:43.6792789;-79.3234873
CREATED:20171025T154117Z
DTSTART:20171206T040000Z
DTEND:20171206T050000Z
DTSTAMP:20260420T143410Z
SUMMARY:Winter Warriors vs. Free Agents
DESCRIPTION:Free Agents vs. Winter WarriorsPlus d'info : #569
X-ALT-DESC;FMTTYPE=text/html:<!DOCTYPE HTML PUBLIC "-//W3C//DTD HTML 3.2//E
	N">\n<HTML>\n<HEAD>\n<TITLE></TITLE>\n</HEAD>\n<BODY>\n<h3>Free Agents vs. 
	Winter Warriors</h3>Plus d'info : <a href="https://www.golnetwork.com/game/
	v/115903/">#569</a>\n\n</BODY>\n</HTML>
STATUS:CONFIRMED
CLASS:PUBLIC
URL:https://www.golnetwork.com/game/v/115903/
X-MICROSOFT-CDO-BUSYSTATUS:BUSY
X-MICROSOFT-CDO-IMPORTANCE:1
END:VEVENT
BEGIN:VEVENT
UID:gbnjf@games.golnetwork.com
LOCATION:Monarch Park Stadium - Field 2
GEO:43.6792789;-79.3234873
CREATED:20171025T154133Z
DTSTART:20171213T030000Z
DTEND:20171213T040000Z
DTSTAMP:20260420T143410Z
SUMMARY:Big Baller FC vs. 5 Tribes
DESCRIPTION:5 Tribes vs. Big Baller FCPlus d'info : #646
X-ALT-DESC;FMTTYPE=text/html:<!DOCTYPE HTML PUBLIC "-//W3C//DTD HTML 3.2//E
	N">\n<HTML>\n<HEAD>\n<TITLE></TITLE>\n</HEAD>\n<BODY>\n<h3>5 Tribes vs. Big
	 Baller FC</h3>Plus d'info : <a href="https://www.golnetwork.com/game/v/115
	905/">#646</a>\n\n</BODY>\n</HTML>
STATUS:CONFIRMED
CLASS:PUBLIC
URL:https://www.golnetwork.com/game/v/115905/
X-MICROSOFT-CDO-BUSYSTATUS:BUSY
X-MICROSOFT-CDO-IMPORTANCE:1
END:VEVENT
BEGIN:VEVENT
UID:gbnjd@games.golnetwork.com
LOCATION:Monarch Park Stadium - Field 2
GEO:43.6792789;-79.3234873
CREATED:20171025T154129Z
DTSTART:20171213T040000Z
DTEND:20171213T050000Z
DTSTAMP:20260420T143410Z
SUMMARY:Wykydtrons vs. Quesada FC
DESCRIPTION:Quesada FC vs. WykydtronsPlus d'info : #654
X-ALT-DESC;FMTTYPE=text/html:<!DOCTYPE HTML PUBLIC "-//W3C//DTD HTML 3.2//E
	N">\n<HTML>\n<HEAD>\n<TITLE></TITLE>\n</HEAD>\n<BODY>\n<h3>Quesada FC vs. W
	ykydtrons</h3>Plus d'info : <a href="https://www.golnetwork.com/game/v/1159
	04/">#654</a>\n\n</BODY>\n</HTML>
STATUS:CONFIRMED
CLASS:PUBLIC
URL:https://www.golnetwork.com/game/v/115904/
X-MICROSOFT-CDO-BUSYSTATUS:BUSY
X-MICROSOFT-CDO-IMPORTANCE:1
END:VEVENT
BEGIN:VEVENT
UID:gbnjh@games.golnetwork.com
LOCATION:Monarch Park Stadium - Field 4
GEO:43.6792789;-79.3234873
CREATED:20171025T154339Z
DTSTART:20171220T030000Z
DTEND:20171220T040000Z
DTSTAMP:20260420T143410Z
SUMMARY:5 Tribes vs. Quesada FC
DESCRIPTION:Quesada FC vs. 5 TribesPlus d'info : #723
X-ALT-DESC;FMTTYPE=text/html:<!DOCTYPE HTML PUBLIC "-//W3C//DTD HTML 3.2//E
	N">\n<HTML>\n<HEAD>\n<TITLE></TITLE>\n</HEAD>\n<BODY>\n<h3>Quesada FC vs. 5
	 Tribes</h3>Plus d'info : <a href="https://www.golnetwork.com/game/v/115906
	/">#723</a>\n\n</BODY>\n</HTML>
STATUS:CONFIRMED
CLASS:PUBLIC
URL:https://www.golnetwork.com/game/v/115906/
X-MICROSOFT-CDO-BUSYSTATUS:BUSY
X-MICROSOFT-CDO-IMPORTANCE:1
END:VEVENT
BEGIN:VEVENT
UID:gbnjj@games.golnetwork.com
LOCATION:Monarch Park Stadium - Field 2
GEO:43.6792789;-79.3234873
CREATED:20171025T154345Z
DTSTART:20171220T040000Z
DTEND:20171220T050000Z
DTSTAMP:20260420T143410Z
SUMMARY:Winter Warriors vs. IWP
DESCRIPTION:IWP vs. Winter WarriorsPlus d'info : #727
X-ALT-DESC;FMTTYPE=text/html:<!DOCTYPE HTML PUBLIC "-//W3C//DTD HTML 3.2//E
	N">\n<HTML>\n<HEAD>\n<TITLE></TITLE>\n</HEAD>\n<BODY>\n<h3>IWP vs. Winter W
	arriors</h3>Plus d'info : <a href="https://www.golnetwork.com/game/v/115907
	/">#727</a>\n\n</BODY>\n</HTML>
STATUS:CONFIRMED
CLASS:PUBLIC
URL:https://www.golnetwork.com/game/v/115907/
X-MICROSOFT-CDO-BUSYSTATUS:BUSY
X-MICROSOFT-CDO-IMPORTANCE:1
END:VEVENT
BEGIN:VEVENT
UID:gbnjl@games.golnetwork.com
LOCATION:Monarch Park Stadium - Field 4
GEO:43.6792789;-79.3234873
CREATED:20171025T154353Z
DTSTART:20171220T040000Z
DTEND:20171220T050000Z
DTSTAMP:20260420T143410Z
SUMMARY:Big Baller FC vs. Wykydtrons
DESCRIPTION:Wykydtrons vs. Big Baller FCPlus d'info : #729
X-ALT-DESC;FMTTYPE=text/html:<!DOCTYPE HTML PUBLIC "-//W3C//DTD HTML 3.2//E
	N">\n<HTML>\n<HEAD>\n<TITLE></TITLE>\n</HEAD>\n<BODY>\n<h3>Wykydtrons vs. B
	ig Baller FC</h3>Plus d'info : <a href="https://www.golnetwork.com/game/v/1
	15908/">#729</a>\n\n</BODY>\n</HTML>
STATUS:CONFIRMED
CLASS:PUBLIC
URL:https://www.golnetwork.com/game/v/115908/
X-MICROSOFT-CDO-BUSYSTATUS:BUSY
X-MICROSOFT-CDO-IMPORTANCE:1
END:VEVENT
END:VCALENDAR
