BEGIN:VCALENDAR
PRODID:-//gdesolutions.com//MV Framework 1.0.0.1607 Calendar//EN
VERSION:2.0
METHOD:PUBLISH
CALSCALE:GREGORIAN
BEGIN:VEVENT
UID:gc9gp@games.golnetwork.com
LOCATION:CALC
GEO:43.6758748;-79.3603533
CREATED:20180214T152644Z
DTSTART:20180221T234500Z
DTEND:20180222T004500Z
DTSTAMP:20260421T203634Z
SUMMARY:Mad Ballers vs. Got Any Grapes
DESCRIPTION:Got Any Grapes vs. Mad BallersPlus d'info : #3
X-ALT-DESC;FMTTYPE=text/html:<!DOCTYPE HTML PUBLIC "-//W3C//DTD HTML 3.2//E
	N">\n<HTML>\n<HEAD>\n<TITLE></TITLE>\n</HEAD>\n<BODY>\n<h3>Got Any Grapes v
	s. Mad Ballers</h3>Plus d'info : <a href="https://www.golnetwork.com/game/v
	/120608/">#3</a>\n\n</BODY>\n</HTML>
STATUS:CONFIRMED
CLASS:PUBLIC
URL:https://www.golnetwork.com/game/v/120608/
X-MICROSOFT-CDO-BUSYSTATUS:BUSY
X-MICROSOFT-CDO-IMPORTANCE:1
END:VEVENT
BEGIN:VEVENT
UID:gc9h0@games.golnetwork.com
LOCATION:CALC
GEO:43.6758748;-79.3603533
CREATED:20180214T152700Z
DTSTART:20180222T010000Z
DTEND:20180222T020000Z
DTSTAMP:20260421T203634Z
SUMMARY:Angry Whoppers vs. Withrow Warriors
DESCRIPTION:Withrow Warriors vs. Angry WhoppersPlus d'info : #4
X-ALT-DESC;FMTTYPE=text/html:<!DOCTYPE HTML PUBLIC "-//W3C//DTD HTML 3.2//E
	N">\n<HTML>\n<HEAD>\n<TITLE></TITLE>\n</HEAD>\n<BODY>\n<h3>Withrow Warriors
	 vs. Angry Whoppers</h3>Plus d'info : <a href="https://www.golnetwork.com/g
	ame/v/120609/">#4</a>\n\n</BODY>\n</HTML>
STATUS:CONFIRMED
CLASS:PUBLIC
URL:https://www.golnetwork.com/game/v/120609/
X-MICROSOFT-CDO-BUSYSTATUS:BUSY
X-MICROSOFT-CDO-IMPORTANCE:1
END:VEVENT
BEGIN:VEVENT
UID:gc9j0@games.golnetwork.com
LOCATION:CALC
GEO:43.6758748;-79.3603533
CREATED:20180216T214046Z
DTSTART:20180228T234500Z
DTEND:20180301T004500Z
DTSTAMP:20260421T203634Z
SUMMARY:Got Any Grapes vs. Withrow Warriors
DESCRIPTION:Withrow Warriors vs. Got Any GrapesPlus d'info : #7
X-ALT-DESC;FMTTYPE=text/html:<!DOCTYPE HTML PUBLIC "-//W3C//DTD HTML 3.2//E
	N">\n<HTML>\n<HEAD>\n<TITLE></TITLE>\n</HEAD>\n<BODY>\n<h3>Withrow Warriors
	 vs. Got Any Grapes</h3>Plus d'info : <a href="https://www.golnetwork.com/g
	ame/v/120636/">#7</a>\n\n</BODY>\n</HTML>
STATUS:CONFIRMED
CLASS:PUBLIC
URL:https://www.golnetwork.com/game/v/120636/
X-MICROSOFT-CDO-BUSYSTATUS:BUSY
X-MICROSOFT-CDO-IMPORTANCE:1
END:VEVENT
BEGIN:VEVENT
UID:gc9j2@games.golnetwork.com
LOCATION:CALC
GEO:43.6758748;-79.3603533
CREATED:20180216T214054Z
DTSTART:20180301T010000Z
DTEND:20180301T020000Z
DTSTAMP:20260421T203634Z
SUMMARY:Mad Ballers vs. Angry Whoppers
DESCRIPTION:Angry Whoppers vs. Mad BallersPlus d'info : #8
X-ALT-DESC;FMTTYPE=text/html:<!DOCTYPE HTML PUBLIC "-//W3C//DTD HTML 3.2//E
	N">\n<HTML>\n<HEAD>\n<TITLE></TITLE>\n</HEAD>\n<BODY>\n<h3>Angry Whoppers v
	s. Mad Ballers</h3>Plus d'info : <a href="https://www.golnetwork.com/game/v
	/120637/">#8</a>\n\n</BODY>\n</HTML>
STATUS:CONFIRMED
CLASS:PUBLIC
URL:https://www.golnetwork.com/game/v/120637/
X-MICROSOFT-CDO-BUSYSTATUS:BUSY
X-MICROSOFT-CDO-IMPORTANCE:1
END:VEVENT
BEGIN:VEVENT
UID:gc9j4@games.golnetwork.com
LOCATION:CALC
GEO:43.6758748;-79.3603533
CREATED:20180216T214105Z
DTSTART:20180307T234500Z
DTEND:20180308T004500Z
DTSTAMP:20260421T203634Z
SUMMARY:Mad Ballers vs. Withrow Warriors
DESCRIPTION:Withrow Warriors vs. Mad BallersPlus d'info : #11
X-ALT-DESC;FMTTYPE=text/html:<!DOCTYPE HTML PUBLIC "-//W3C//DTD HTML 3.2//E
	N">\n<HTML>\n<HEAD>\n<TITLE></TITLE>\n</HEAD>\n<BODY>\n<h3>Withrow Warriors
	 vs. Mad Ballers</h3>Plus d'info : <a href="https://www.golnetwork.com/game
	/v/120638/">#11</a>\n\n</BODY>\n</HTML>
STATUS:CONFIRMED
CLASS:PUBLIC
URL:https://www.golnetwork.com/game/v/120638/
X-MICROSOFT-CDO-BUSYSTATUS:BUSY
X-MICROSOFT-CDO-IMPORTANCE:1
END:VEVENT
BEGIN:VEVENT
UID:gc9j6@games.golnetwork.com
LOCATION:CALC
GEO:43.6758748;-79.3603533
CREATED:20180216T214112Z
DTSTART:20180308T010000Z
DTEND:20180308T020000Z
DTSTAMP:20260421T203634Z
SUMMARY:Angry Whoppers vs. Got Any Grapes
DESCRIPTION:Got Any Grapes vs. Angry WhoppersPlus d'info : #12
X-ALT-DESC;FMTTYPE=text/html:<!DOCTYPE HTML PUBLIC "-//W3C//DTD HTML 3.2//E
	N">\n<HTML>\n<HEAD>\n<TITLE></TITLE>\n</HEAD>\n<BODY>\n<h3>Got Any Grapes v
	s. Angry Whoppers</h3>Plus d'info : <a href="https://www.golnetwork.com/gam
	e/v/120639/">#12</a>\n\n</BODY>\n</HTML>
STATUS:CONFIRMED
CLASS:PUBLIC
URL:https://www.golnetwork.com/game/v/120639/
X-MICROSOFT-CDO-BUSYSTATUS:BUSY
X-MICROSOFT-CDO-IMPORTANCE:1
END:VEVENT
BEGIN:VEVENT
UID:gc9j8@games.golnetwork.com
LOCATION:CALC
GEO:43.6758748;-79.3603533
CREATED:20180216T214122Z
DTSTART:20180321T224500Z
DTEND:20180321T234500Z
DTSTAMP:20260421T203634Z
SUMMARY:Angry Whoppers vs. Withrow Warriors
DESCRIPTION:Withrow Warriors vs. Angry WhoppersPlus d'info : #15
X-ALT-DESC;FMTTYPE=text/html:<!DOCTYPE HTML PUBLIC "-//W3C//DTD HTML 3.2//E
	N">\n<HTML>\n<HEAD>\n<TITLE></TITLE>\n</HEAD>\n<BODY>\n<h3>Withrow Warriors
	 vs. Angry Whoppers</h3>Plus d'info : <a href="https://www.golnetwork.com/g
	ame/v/120640/">#15</a>\n\n</BODY>\n</HTML>
STATUS:CONFIRMED
CLASS:PUBLIC
URL:https://www.golnetwork.com/game/v/120640/
X-MICROSOFT-CDO-BUSYSTATUS:BUSY
X-MICROSOFT-CDO-IMPORTANCE:1
END:VEVENT
BEGIN:VEVENT
UID:gc9ja@games.golnetwork.com
LOCATION:CALC
GEO:43.6758748;-79.3603533
CREATED:20180216T214131Z
DTSTART:20180322T000000Z
DTEND:20180322T010000Z
DTSTAMP:20260421T203634Z
SUMMARY:Mad Ballers vs. Got Any Grapes
DESCRIPTION:Got Any Grapes vs. Mad BallersPlus d'info : #16
X-ALT-DESC;FMTTYPE=text/html:<!DOCTYPE HTML PUBLIC "-//W3C//DTD HTML 3.2//E
	N">\n<HTML>\n<HEAD>\n<TITLE></TITLE>\n</HEAD>\n<BODY>\n<h3>Got Any Grapes v
	s. Mad Ballers</h3>Plus d'info : <a href="https://www.golnetwork.com/game/v
	/120641/">#16</a>\n\n</BODY>\n</HTML>
STATUS:CONFIRMED
CLASS:PUBLIC
URL:https://www.golnetwork.com/game/v/120641/
X-MICROSOFT-CDO-BUSYSTATUS:BUSY
X-MICROSOFT-CDO-IMPORTANCE:1
END:VEVENT
BEGIN:VEVENT
UID:gc9jc@games.golnetwork.com
LOCATION:CALC
GEO:43.6758748;-79.3603533
CREATED:20180216T214144Z
DTSTART:20180328T223000Z
DTEND:20180328T233000Z
DTSTAMP:20260421T203634Z
SUMMARY:Mad Ballers vs. Angry Whoppers
DESCRIPTION:Angry Whoppers vs. Mad BallersPlus d'info : #20
X-ALT-DESC;FMTTYPE=text/html:<!DOCTYPE HTML PUBLIC "-//W3C//DTD HTML 3.2//E
	N">\n<HTML>\n<HEAD>\n<TITLE></TITLE>\n</HEAD>\n<BODY>\n<h3>Angry Whoppers v
	s. Mad Ballers</h3>Plus d'info : <a href="https://www.golnetwork.com/game/v
	/120642/">#20</a>\n\n</BODY>\n</HTML>
STATUS:CONFIRMED
CLASS:PUBLIC
URL:https://www.golnetwork.com/game/v/120642/
X-MICROSOFT-CDO-BUSYSTATUS:BUSY
X-MICROSOFT-CDO-IMPORTANCE:1
END:VEVENT
BEGIN:VEVENT
UID:gc9jg@games.golnetwork.com
LOCATION:CALC
GEO:43.6758748;-79.3603533
CREATED:20180216T214201Z
DTSTART:20180328T233000Z
DTEND:20180329T003000Z
DTSTAMP:20260421T203634Z
SUMMARY:Angry Whoppers vs. Got Any Grapes
DESCRIPTION:Got Any Grapes vs. Angry WhoppersPlus d'info : #21
X-ALT-DESC;FMTTYPE=text/html:<!DOCTYPE HTML PUBLIC "-//W3C//DTD HTML 3.2//E
	N">\n<HTML>\n<HEAD>\n<TITLE></TITLE>\n</HEAD>\n<BODY>\n<h3>Got Any Grapes v
	s. Angry Whoppers</h3>Plus d'info : <a href="https://www.golnetwork.com/gam
	e/v/120644/">#21</a>\n\n</BODY>\n</HTML>
STATUS:CONFIRMED
CLASS:PUBLIC
URL:https://www.golnetwork.com/game/v/120644/
X-MICROSOFT-CDO-BUSYSTATUS:BUSY
X-MICROSOFT-CDO-IMPORTANCE:1
END:VEVENT
BEGIN:VEVENT
UID:gc9je@games.golnetwork.com
LOCATION:CALC
GEO:43.6758748;-79.3603533
CREATED:20180216T214152Z
DTSTART:20180329T003000Z
DTEND:20180329T013000Z
DTSTAMP:20260421T203634Z
SUMMARY:Got Any Grapes vs. Withrow Warriors
DESCRIPTION:Withrow Warriors vs. Got Any GrapesPlus d'info : #22
X-ALT-DESC;FMTTYPE=text/html:<!DOCTYPE HTML PUBLIC "-//W3C//DTD HTML 3.2//E
	N">\n<HTML>\n<HEAD>\n<TITLE></TITLE>\n</HEAD>\n<BODY>\n<h3>Withrow Warriors
	 vs. Got Any Grapes</h3>Plus d'info : <a href="https://www.golnetwork.com/g
	ame/v/120643/">#22</a>\n\n</BODY>\n</HTML>
STATUS:CONFIRMED
CLASS:PUBLIC
URL:https://www.golnetwork.com/game/v/120643/
X-MICROSOFT-CDO-BUSYSTATUS:BUSY
X-MICROSOFT-CDO-IMPORTANCE:1
END:VEVENT
BEGIN:VEVENT
UID:gc9jk@games.golnetwork.com
LOCATION:CALC
GEO:43.6758748;-79.3603533
CREATED:20180216T214219Z
DTSTART:20180404T223000Z
DTEND:20180404T233000Z
DTSTAMP:20260421T203634Z
SUMMARY:Mad Ballers vs. Got Any Grapes
DESCRIPTION:Got Any Grapes vs. Mad BallersPlus d'info : #26
X-ALT-DESC;FMTTYPE=text/html:<!DOCTYPE HTML PUBLIC "-//W3C//DTD HTML 3.2//E
	N">\n<HTML>\n<HEAD>\n<TITLE></TITLE>\n</HEAD>\n<BODY>\n<h3>Got Any Grapes v
	s. Mad Ballers</h3>Plus d'info : <a href="https://www.golnetwork.com/game/v
	/120646/">#26</a>\n\n</BODY>\n</HTML>
STATUS:CONFIRMED
CLASS:PUBLIC
URL:https://www.golnetwork.com/game/v/120646/
X-MICROSOFT-CDO-BUSYSTATUS:BUSY
X-MICROSOFT-CDO-IMPORTANCE:1
END:VEVENT
BEGIN:VEVENT
UID:gc9ji@games.golnetwork.com
LOCATION:CALC
GEO:43.6758748;-79.3603533
CREATED:20180216T214209Z
DTSTART:20180404T233000Z
DTEND:20180405T003000Z
DTSTAMP:20260421T203634Z
SUMMARY:Mad Ballers vs. Withrow Warriors
DESCRIPTION:Withrow Warriors vs. Mad BallersPlus d'info : #27
X-ALT-DESC;FMTTYPE=text/html:<!DOCTYPE HTML PUBLIC "-//W3C//DTD HTML 3.2//E
	N">\n<HTML>\n<HEAD>\n<TITLE></TITLE>\n</HEAD>\n<BODY>\n<h3>Withrow Warriors
	 vs. Mad Ballers</h3>Plus d'info : <a href="https://www.golnetwork.com/game
	/v/120645/">#27</a>\n\n</BODY>\n</HTML>
STATUS:CONFIRMED
CLASS:PUBLIC
URL:https://www.golnetwork.com/game/v/120645/
X-MICROSOFT-CDO-BUSYSTATUS:BUSY
X-MICROSOFT-CDO-IMPORTANCE:1
END:VEVENT
BEGIN:VEVENT
UID:gc9jm@games.golnetwork.com
LOCATION:CALC
GEO:43.6758748;-79.3603533
CREATED:20180216T214227Z
DTSTART:20180405T003000Z
DTEND:20180405T013000Z
DTSTAMP:20260421T203634Z
SUMMARY:Angry Whoppers vs. Withrow Warriors
DESCRIPTION:Withrow Warriors vs. Angry WhoppersPlus d'info : #28
X-ALT-DESC;FMTTYPE=text/html:<!DOCTYPE HTML PUBLIC "-//W3C//DTD HTML 3.2//E
	N">\n<HTML>\n<HEAD>\n<TITLE></TITLE>\n</HEAD>\n<BODY>\n<h3>Withrow Warriors
	 vs. Angry Whoppers</h3>Plus d'info : <a href="https://www.golnetwork.com/g
	ame/v/120647/">#28</a>\n\n</BODY>\n</HTML>
STATUS:CONFIRMED
CLASS:PUBLIC
URL:https://www.golnetwork.com/game/v/120647/
X-MICROSOFT-CDO-BUSYSTATUS:BUSY
X-MICROSOFT-CDO-IMPORTANCE:1
END:VEVENT
BEGIN:VEVENT
UID:gc9jo@games.golnetwork.com
LOCATION:CALC
GEO:43.6758748;-79.3603533
CREATED:20180216T214234Z
DTSTART:20180418T224500Z
DTEND:20180418T234500Z
DTSTAMP:20260421T203634Z
SUMMARY:Mad Ballers vs. Got Any Grapes
DESCRIPTION:Got Any Grapes vs. Mad BallersPlus d'info : #35
X-ALT-DESC;FMTTYPE=text/html:<!DOCTYPE HTML PUBLIC "-//W3C//DTD HTML 3.2//E
	N">\n<HTML>\n<HEAD>\n<TITLE></TITLE>\n</HEAD>\n<BODY>\n<h3>Got Any Grapes v
	s. Mad Ballers</h3>Plus d'info : <a href="https://www.golnetwork.com/game/v
	/120648/">#35</a>\n\n</BODY>\n</HTML>
STATUS:CONFIRMED
CLASS:PUBLIC
URL:https://www.golnetwork.com/game/v/120648/
X-MICROSOFT-CDO-BUSYSTATUS:BUSY
X-MICROSOFT-CDO-IMPORTANCE:1
END:VEVENT
END:VCALENDAR
