BEGIN:VCALENDAR
PRODID:-//gdesolutions.com//MV Framework 1.0.0.1607 Calendar//EN
VERSION:2.0
METHOD:PUBLISH
CALSCALE:GREGORIAN
BEGIN:VEVENT
UID:gca9b@games.golnetwork.com
LOCATION:Bickford/West End Alternative
GEO:43.662764;-79.4202341
CREATED:20180227T163603Z
DTSTART:20180305T233000Z
DTEND:20180306T003000Z
DTSTAMP:20260422T211539Z
SUMMARY:Axonometrics vs. Anti-Oppressors FC
DESCRIPTION:Anti-Oppressors FC vs. AxonometricsPlus d'info : #3
X-ALT-DESC;FMTTYPE=text/html:<!DOCTYPE HTML PUBLIC "-//W3C//DTD HTML 3.2//E
	N">\n<HTML>\n<HEAD>\n<TITLE></TITLE>\n</HEAD>\n<BODY>\n<h3>Anti-Oppressors 
	FC vs. Axonometrics</h3>Plus d'info : <a href="https://www.golnetwork.com/g
	ame/v/120871/">#3</a>\n\n</BODY>\n</HTML>
STATUS:CONFIRMED
CLASS:PUBLIC
URL:https://www.golnetwork.com/game/v/120871/
X-MICROSOFT-CDO-BUSYSTATUS:BUSY
X-MICROSOFT-CDO-IMPORTANCE:1
END:VEVENT
BEGIN:VEVENT
UID:gca9d@games.golnetwork.com
LOCATION:Bickford/West End Alternative
GEO:43.662764;-79.4202341
CREATED:20180227T163611Z
DTSTART:20180306T003000Z
DTEND:20180306T013000Z
DTSTAMP:20260422T211539Z
SUMMARY:Midnight Marauders vs. Kickballz
DESCRIPTION:Kickballz vs. Midnight MaraudersPlus d'info : #4
X-ALT-DESC;FMTTYPE=text/html:<!DOCTYPE HTML PUBLIC "-//W3C//DTD HTML 3.2//E
	N">\n<HTML>\n<HEAD>\n<TITLE></TITLE>\n</HEAD>\n<BODY>\n<h3>Kickballz vs. Mi
	dnight Marauders</h3>Plus d'info : <a href="https://www.golnetwork.com/game
	/v/120872/">#4</a>\n\n</BODY>\n</HTML>
STATUS:CONFIRMED
CLASS:PUBLIC
URL:https://www.golnetwork.com/game/v/120872/
X-MICROSOFT-CDO-BUSYSTATUS:BUSY
X-MICROSOFT-CDO-IMPORTANCE:1
END:VEVENT
BEGIN:VEVENT
UID:gca9f@games.golnetwork.com
LOCATION:Bickford/West End Alternative
GEO:43.662764;-79.4202341
CREATED:20180227T163617Z
DTSTART:20180306T013000Z
DTEND:20180306T023000Z
DTSTAMP:20260422T211539Z
SUMMARY:No Show Joes vs. Team United
DESCRIPTION:Team United vs. No Show JoesPlus d'info : #5
X-ALT-DESC;FMTTYPE=text/html:<!DOCTYPE HTML PUBLIC "-//W3C//DTD HTML 3.2//E
	N">\n<HTML>\n<HEAD>\n<TITLE></TITLE>\n</HEAD>\n<BODY>\n<h3>Team United vs. 
	No Show Joes</h3>Plus d'info : <a href="https://www.golnetwork.com/game/v/1
	20873/">#5</a>\n\n</BODY>\n</HTML>
STATUS:CONFIRMED
CLASS:PUBLIC
URL:https://www.golnetwork.com/game/v/120873/
X-MICROSOFT-CDO-BUSYSTATUS:BUSY
X-MICROSOFT-CDO-IMPORTANCE:1
END:VEVENT
BEGIN:VEVENT
UID:gcaok@games.golnetwork.com
LOCATION:Bickford/West End Alternative
GEO:43.662764;-79.4202341
CREATED:20180306T173615Z
DTSTART:20180319T223000Z
DTEND:20180319T233000Z
DTSTAMP:20260422T211539Z
SUMMARY:Midnight Marauders vs. No Show Joes
DESCRIPTION:No Show Joes vs. Midnight MaraudersPlus d'info : #8
X-ALT-DESC;FMTTYPE=text/html:<!DOCTYPE HTML PUBLIC "-//W3C//DTD HTML 3.2//E
	N">\n<HTML>\n<HEAD>\n<TITLE></TITLE>\n</HEAD>\n<BODY>\n<h3>No Show Joes vs.
	 Midnight Marauders</h3>Plus d'info : <a href="https://www.golnetwork.com/g
	ame/v/121078/">#8</a>\n\n</BODY>\n</HTML>
STATUS:CONFIRMED
CLASS:PUBLIC
URL:https://www.golnetwork.com/game/v/121078/
X-MICROSOFT-CDO-BUSYSTATUS:BUSY
X-MICROSOFT-CDO-IMPORTANCE:1
END:VEVENT
BEGIN:VEVENT
UID:gcaom@games.golnetwork.com
LOCATION:Bickford/West End Alternative
GEO:43.662764;-79.4202341
CREATED:20180306T173622Z
DTSTART:20180319T233000Z
DTEND:20180320T003000Z
DTSTAMP:20260422T211539Z
SUMMARY:Axonometrics vs. Team United
DESCRIPTION:Team United vs. AxonometricsPlus d'info : #9
X-ALT-DESC;FMTTYPE=text/html:<!DOCTYPE HTML PUBLIC "-//W3C//DTD HTML 3.2//E
	N">\n<HTML>\n<HEAD>\n<TITLE></TITLE>\n</HEAD>\n<BODY>\n<h3>Team United vs. 
	Axonometrics</h3>Plus d'info : <a href="https://www.golnetwork.com/game/v/1
	21079/">#9</a>\n\n</BODY>\n</HTML>
STATUS:CONFIRMED
CLASS:PUBLIC
URL:https://www.golnetwork.com/game/v/121079/
X-MICROSOFT-CDO-BUSYSTATUS:BUSY
X-MICROSOFT-CDO-IMPORTANCE:1
END:VEVENT
BEGIN:VEVENT
UID:gcaoo@games.golnetwork.com
LOCATION:Bickford/West End Alternative
GEO:43.662764;-79.4202341
CREATED:20180306T173630Z
DTSTART:20180320T003000Z
DTEND:20180320T013000Z
DTSTAMP:20260422T211539Z
SUMMARY:Kickballz vs. Anti-Oppressors FC
DESCRIPTION:Anti-Oppressors FC vs. KickballzPlus d'info : #10
X-ALT-DESC;FMTTYPE=text/html:<!DOCTYPE HTML PUBLIC "-//W3C//DTD HTML 3.2//E
	N">\n<HTML>\n<HEAD>\n<TITLE></TITLE>\n</HEAD>\n<BODY>\n<h3>Anti-Oppressors 
	FC vs. Kickballz</h3>Plus d'info : <a href="https://www.golnetwork.com/game
	/v/121080/">#10</a>\n\n</BODY>\n</HTML>
STATUS:CONFIRMED
CLASS:PUBLIC
URL:https://www.golnetwork.com/game/v/121080/
X-MICROSOFT-CDO-BUSYSTATUS:BUSY
X-MICROSOFT-CDO-IMPORTANCE:1
END:VEVENT
BEGIN:VEVENT
UID:gcaoq@games.golnetwork.com
LOCATION:Bickford/West End Alternative
GEO:43.662764;-79.4202341
CREATED:20180306T173639Z
DTSTART:20180326T223000Z
DTEND:20180326T233000Z
DTSTAMP:20260422T211539Z
SUMMARY:Kickballz vs. No Show Joes
DESCRIPTION:No Show Joes vs. KickballzPlus d'info : #13
X-ALT-DESC;FMTTYPE=text/html:<!DOCTYPE HTML PUBLIC "-//W3C//DTD HTML 3.2//E
	N">\n<HTML>\n<HEAD>\n<TITLE></TITLE>\n</HEAD>\n<BODY>\n<h3>No Show Joes vs.
	 Kickballz</h3>Plus d'info : <a href="https://www.golnetwork.com/game/v/121
	081/">#13</a>\n\n</BODY>\n</HTML>
STATUS:CONFIRMED
CLASS:PUBLIC
URL:https://www.golnetwork.com/game/v/121081/
X-MICROSOFT-CDO-BUSYSTATUS:BUSY
X-MICROSOFT-CDO-IMPORTANCE:1
END:VEVENT
BEGIN:VEVENT
UID:gcap1@games.golnetwork.com
LOCATION:Bickford/West End Alternative
GEO:43.662764;-79.4202341
CREATED:20180306T173645Z
DTSTART:20180326T233000Z
DTEND:20180327T003000Z
DTSTAMP:20260422T211539Z
SUMMARY:Team United vs. Anti-Oppressors FC
DESCRIPTION:Anti-Oppressors FC vs. Team UnitedPlus d'info : #14
X-ALT-DESC;FMTTYPE=text/html:<!DOCTYPE HTML PUBLIC "-//W3C//DTD HTML 3.2//E
	N">\n<HTML>\n<HEAD>\n<TITLE></TITLE>\n</HEAD>\n<BODY>\n<h3>Anti-Oppressors 
	FC vs. Team United</h3>Plus d'info : <a href="https://www.golnetwork.com/ga
	me/v/121082/">#14</a>\n\n</BODY>\n</HTML>
STATUS:CONFIRMED
CLASS:PUBLIC
URL:https://www.golnetwork.com/game/v/121082/
X-MICROSOFT-CDO-BUSYSTATUS:BUSY
X-MICROSOFT-CDO-IMPORTANCE:1
END:VEVENT
BEGIN:VEVENT
UID:gcap3@games.golnetwork.com
LOCATION:Bickford/West End Alternative
GEO:43.662764;-79.4202341
CREATED:20180306T173652Z
DTSTART:20180327T003000Z
DTEND:20180327T013000Z
DTSTAMP:20260422T211539Z
SUMMARY:Axonometrics vs. Midnight Marauders
DESCRIPTION:Midnight Marauders vs. AxonometricsPlus d'info : #15
X-ALT-DESC;FMTTYPE=text/html:<!DOCTYPE HTML PUBLIC "-//W3C//DTD HTML 3.2//E
	N">\n<HTML>\n<HEAD>\n<TITLE></TITLE>\n</HEAD>\n<BODY>\n<h3>Midnight Maraude
	rs vs. Axonometrics</h3>Plus d'info : <a href="https://www.golnetwork.com/g
	ame/v/121083/">#15</a>\n\n</BODY>\n</HTML>
STATUS:CONFIRMED
CLASS:PUBLIC
URL:https://www.golnetwork.com/game/v/121083/
X-MICROSOFT-CDO-BUSYSTATUS:BUSY
X-MICROSOFT-CDO-IMPORTANCE:1
END:VEVENT
BEGIN:VEVENT
UID:gcap5@games.golnetwork.com
LOCATION:Bickford/West End Alternative
GEO:43.662764;-79.4202341
CREATED:20180306T173702Z
DTSTART:20180409T223000Z
DTEND:20180409T233000Z
DTSTAMP:20260422T211539Z
SUMMARY:Team United vs. Midnight Marauders
DESCRIPTION:Midnight Marauders vs. Team UnitedPlus d'info : #20
X-ALT-DESC;FMTTYPE=text/html:<!DOCTYPE HTML PUBLIC "-//W3C//DTD HTML 3.2//E
	N">\n<HTML>\n<HEAD>\n<TITLE></TITLE>\n</HEAD>\n<BODY>\n<h3>Midnight Maraude
	rs vs. Team United</h3>Plus d'info : <a href="https://www.golnetwork.com/ga
	me/v/121084/">#20</a>\n\n</BODY>\n</HTML>
STATUS:CONFIRMED
CLASS:PUBLIC
URL:https://www.golnetwork.com/game/v/121084/
X-MICROSOFT-CDO-BUSYSTATUS:BUSY
X-MICROSOFT-CDO-IMPORTANCE:1
END:VEVENT
BEGIN:VEVENT
UID:gcap7@games.golnetwork.com
LOCATION:Bickford/West End Alternative
GEO:43.662764;-79.4202341
CREATED:20180306T173709Z
DTSTART:20180409T233000Z
DTEND:20180410T003000Z
DTSTAMP:20260422T211539Z
SUMMARY:Anti-Oppressors FC vs. No Show Joes
DESCRIPTION:No Show Joes vs. Anti-Oppressors FCPlus d'info : #21
X-ALT-DESC;FMTTYPE=text/html:<!DOCTYPE HTML PUBLIC "-//W3C//DTD HTML 3.2//E
	N">\n<HTML>\n<HEAD>\n<TITLE></TITLE>\n</HEAD>\n<BODY>\n<h3>No Show Joes vs.
	 Anti-Oppressors FC</h3>Plus d'info : <a href="https://www.golnetwork.com/g
	ame/v/121085/">#21</a>\n\n</BODY>\n</HTML>
STATUS:CONFIRMED
CLASS:PUBLIC
URL:https://www.golnetwork.com/game/v/121085/
X-MICROSOFT-CDO-BUSYSTATUS:BUSY
X-MICROSOFT-CDO-IMPORTANCE:1
END:VEVENT
BEGIN:VEVENT
UID:gcap9@games.golnetwork.com
LOCATION:Bickford/West End Alternative
GEO:43.662764;-79.4202341
CREATED:20180306T173716Z
DTSTART:20180410T003000Z
DTEND:20180410T013000Z
DTSTAMP:20260422T211539Z
SUMMARY:Kickballz vs. Axonometrics
DESCRIPTION:Axonometrics vs. KickballzPlus d'info : #22
X-ALT-DESC;FMTTYPE=text/html:<!DOCTYPE HTML PUBLIC "-//W3C//DTD HTML 3.2//E
	N">\n<HTML>\n<HEAD>\n<TITLE></TITLE>\n</HEAD>\n<BODY>\n<h3>Axonometrics vs.
	 Kickballz</h3>Plus d'info : <a href="https://www.golnetwork.com/game/v/121
	086/">#22</a>\n\n</BODY>\n</HTML>
STATUS:CONFIRMED
CLASS:PUBLIC
URL:https://www.golnetwork.com/game/v/121086/
X-MICROSOFT-CDO-BUSYSTATUS:BUSY
X-MICROSOFT-CDO-IMPORTANCE:1
END:VEVENT
BEGIN:VEVENT
UID:gcaph@games.golnetwork.com
LOCATION:Bickford/West End Alternative
GEO:43.662764;-79.4202341
CREATED:20180306T173752Z
DTSTART:20180423T223000Z
DTEND:20180423T233000Z
DTSTAMP:20260422T211539Z
SUMMARY:Axonometrics vs. Anti-Oppressors FC
DESCRIPTION:Anti-Oppressors FC vs. AxonometricsPlus d'info : #27
X-ALT-DESC;FMTTYPE=text/html:<!DOCTYPE HTML PUBLIC "-//W3C//DTD HTML 3.2//E
	N">\n<HTML>\n<HEAD>\n<TITLE></TITLE>\n</HEAD>\n<BODY>\n<h3>Anti-Oppressors 
	FC vs. Axonometrics</h3>Plus d'info : <a href="https://www.golnetwork.com/g
	ame/v/121090/">#27</a>\n\n</BODY>\n</HTML>
STATUS:CONFIRMED
CLASS:PUBLIC
URL:https://www.golnetwork.com/game/v/121090/
X-MICROSOFT-CDO-BUSYSTATUS:BUSY
X-MICROSOFT-CDO-IMPORTANCE:1
END:VEVENT
BEGIN:VEVENT
UID:gcapj@games.golnetwork.com
LOCATION:Bickford/West End Alternative
GEO:43.662764;-79.4202341
CREATED:20180306T173759Z
DTSTART:20180423T233000Z
DTEND:20180424T003000Z
DTSTAMP:20260422T211539Z
SUMMARY:Midnight Marauders vs. Kickballz
DESCRIPTION:Kickballz vs. Midnight MaraudersPlus d'info : #28
X-ALT-DESC;FMTTYPE=text/html:<!DOCTYPE HTML PUBLIC "-//W3C//DTD HTML 3.2//E
	N">\n<HTML>\n<HEAD>\n<TITLE></TITLE>\n</HEAD>\n<BODY>\n<h3>Kickballz vs. Mi
	dnight Marauders</h3>Plus d'info : <a href="https://www.golnetwork.com/game
	/v/121091/">#28</a>\n\n</BODY>\n</HTML>
STATUS:CONFIRMED
CLASS:PUBLIC
URL:https://www.golnetwork.com/game/v/121091/
X-MICROSOFT-CDO-BUSYSTATUS:BUSY
X-MICROSOFT-CDO-IMPORTANCE:1
END:VEVENT
BEGIN:VEVENT
UID:gcapl@games.golnetwork.com
LOCATION:Bickford/West End Alternative
GEO:43.662764;-79.4202341
CREATED:20180306T173807Z
DTSTART:20180424T003000Z
DTEND:20180424T013000Z
DTSTAMP:20260422T211539Z
SUMMARY:No Show Joes vs. Team United
DESCRIPTION:Team United vs. No Show JoesPlus d'info : #29
X-ALT-DESC;FMTTYPE=text/html:<!DOCTYPE HTML PUBLIC "-//W3C//DTD HTML 3.2//E
	N">\n<HTML>\n<HEAD>\n<TITLE></TITLE>\n</HEAD>\n<BODY>\n<h3>Team United vs. 
	No Show Joes</h3>Plus d'info : <a href="https://www.golnetwork.com/game/v/1
	21092/">#29</a>\n\n</BODY>\n</HTML>
STATUS:CONFIRMED
CLASS:PUBLIC
URL:https://www.golnetwork.com/game/v/121092/
X-MICROSOFT-CDO-BUSYSTATUS:BUSY
X-MICROSOFT-CDO-IMPORTANCE:1
END:VEVENT
BEGIN:VEVENT
UID:gcapn@games.golnetwork.com
LOCATION:Bickford/West End Alternative
GEO:43.662764;-79.4202341
CREATED:20180306T173816Z
DTSTART:20180430T223000Z
DTEND:20180430T233000Z
DTSTAMP:20260422T211539Z
SUMMARY:Midnight Marauders vs. No Show Joes
DESCRIPTION:No Show Joes vs. Midnight MaraudersPlus d'info : #32
X-ALT-DESC;FMTTYPE=text/html:<!DOCTYPE HTML PUBLIC "-//W3C//DTD HTML 3.2//E
	N">\n<HTML>\n<HEAD>\n<TITLE></TITLE>\n</HEAD>\n<BODY>\n<h3>No Show Joes vs.
	 Midnight Marauders</h3>Plus d'info : <a href="https://www.golnetwork.com/g
	ame/v/121093/">#32</a>\n\n</BODY>\n</HTML>
STATUS:CONFIRMED
CLASS:PUBLIC
URL:https://www.golnetwork.com/game/v/121093/
X-MICROSOFT-CDO-BUSYSTATUS:BUSY
X-MICROSOFT-CDO-IMPORTANCE:1
END:VEVENT
BEGIN:VEVENT
UID:gcapp@games.golnetwork.com
LOCATION:Bickford/West End Alternative
GEO:43.662764;-79.4202341
CREATED:20180306T173823Z
DTSTART:20180430T233000Z
DTEND:20180501T003000Z
DTSTAMP:20260422T211539Z
SUMMARY:Axonometrics vs. Team United
DESCRIPTION:Team United vs. AxonometricsPlus d'info : #33
X-ALT-DESC;FMTTYPE=text/html:<!DOCTYPE HTML PUBLIC "-//W3C//DTD HTML 3.2//E
	N">\n<HTML>\n<HEAD>\n<TITLE></TITLE>\n</HEAD>\n<BODY>\n<h3>Team United vs. 
	Axonometrics</h3>Plus d'info : <a href="https://www.golnetwork.com/game/v/1
	21094/">#33</a>\n\n</BODY>\n</HTML>
STATUS:CONFIRMED
CLASS:PUBLIC
URL:https://www.golnetwork.com/game/v/121094/
X-MICROSOFT-CDO-BUSYSTATUS:BUSY
X-MICROSOFT-CDO-IMPORTANCE:1
END:VEVENT
BEGIN:VEVENT
UID:gcaq0@games.golnetwork.com
LOCATION:Bickford/West End Alternative
GEO:43.662764;-79.4202341
CREATED:20180306T173831Z
DTSTART:20180501T003000Z
DTEND:20180501T013000Z
DTSTAMP:20260422T211539Z
SUMMARY:Kickballz vs. Anti-Oppressors FC
DESCRIPTION:Anti-Oppressors FC vs. KickballzPlus d'info : #34
X-ALT-DESC;FMTTYPE=text/html:<!DOCTYPE HTML PUBLIC "-//W3C//DTD HTML 3.2//E
	N">\n<HTML>\n<HEAD>\n<TITLE></TITLE>\n</HEAD>\n<BODY>\n<h3>Anti-Oppressors 
	FC vs. Kickballz</h3>Plus d'info : <a href="https://www.golnetwork.com/game
	/v/121095/">#34</a>\n\n</BODY>\n</HTML>
STATUS:CONFIRMED
CLASS:PUBLIC
URL:https://www.golnetwork.com/game/v/121095/
X-MICROSOFT-CDO-BUSYSTATUS:BUSY
X-MICROSOFT-CDO-IMPORTANCE:1
END:VEVENT
BEGIN:VEVENT
UID:gcapb@games.golnetwork.com
LOCATION:Bickford/West End Alternative
GEO:43.662764;-79.4202341
CREATED:20180306T173728Z
DTSTART:20180507T223000Z
DTEND:20180507T233000Z
DTSTAMP:20260422T211539Z
SUMMARY:Team United vs. Kickballz
DESCRIPTION:Kickballz vs. Team UnitedPlus d'info : #37
X-ALT-DESC;FMTTYPE=text/html:<!DOCTYPE HTML PUBLIC "-//W3C//DTD HTML 3.2//E
	N">\n<HTML>\n<HEAD>\n<TITLE></TITLE>\n</HEAD>\n<BODY>\n<h3>Kickballz vs. Te
	am United</h3>Plus d'info : <a href="https://www.golnetwork.com/game/v/1210
	87/">#37</a>\n\n</BODY>\n</HTML>
STATUS:CONFIRMED
CLASS:PUBLIC
URL:https://www.golnetwork.com/game/v/121087/
X-MICROSOFT-CDO-BUSYSTATUS:BUSY
X-MICROSOFT-CDO-IMPORTANCE:1
END:VEVENT
BEGIN:VEVENT
UID:gcapd@games.golnetwork.com
LOCATION:Bickford/West End Alternative
GEO:43.662764;-79.4202341
CREATED:20180306T173736Z
DTSTART:20180507T233000Z
DTEND:20180508T003000Z
DTSTAMP:20260422T211539Z
SUMMARY:No Show Joes vs. Axonometrics
DESCRIPTION:Axonometrics vs. No Show JoesPlus d'info : #38
X-ALT-DESC;FMTTYPE=text/html:<!DOCTYPE HTML PUBLIC "-//W3C//DTD HTML 3.2//E
	N">\n<HTML>\n<HEAD>\n<TITLE></TITLE>\n</HEAD>\n<BODY>\n<h3>Axonometrics vs.
	 No Show Joes</h3>Plus d'info : <a href="https://www.golnetwork.com/game/v/
	121088/">#38</a>\n\n</BODY>\n</HTML>
STATUS:CONFIRMED
CLASS:PUBLIC
URL:https://www.golnetwork.com/game/v/121088/
X-MICROSOFT-CDO-BUSYSTATUS:BUSY
X-MICROSOFT-CDO-IMPORTANCE:1
END:VEVENT
BEGIN:VEVENT
UID:gcapf@games.golnetwork.com
LOCATION:Bickford/West End Alternative
GEO:43.662764;-79.4202341
CREATED:20180306T173743Z
DTSTART:20180508T003000Z
DTEND:20180508T013000Z
DTSTAMP:20260422T211539Z
SUMMARY:Midnight Marauders vs. Anti-Oppressors FC
DESCRIPTION:Anti-Oppressors FC vs. Midnight MaraudersPlus d'info : #39
X-ALT-DESC;FMTTYPE=text/html:<!DOCTYPE HTML PUBLIC "-//W3C//DTD HTML 3.2//E
	N">\n<HTML>\n<HEAD>\n<TITLE></TITLE>\n</HEAD>\n<BODY>\n<h3>Anti-Oppressors 
	FC vs. Midnight Marauders</h3>Plus d'info : <a href="https://www.golnetwork
	.com/game/v/121089/">#39</a>\n\n</BODY>\n</HTML>
STATUS:CONFIRMED
CLASS:PUBLIC
URL:https://www.golnetwork.com/game/v/121089/
X-MICROSOFT-CDO-BUSYSTATUS:BUSY
X-MICROSOFT-CDO-IMPORTANCE:1
END:VEVENT
BEGIN:VEVENT
UID:gcaq2@games.golnetwork.com
LOCATION:Bickford/West End Alternative
GEO:43.662764;-79.4202341
CREATED:20180306T173838Z
DTSTART:20180514T223000Z
DTEND:20180514T233000Z
DTSTAMP:20260422T211539Z
SUMMARY:Anti-Oppressors FC vs. Axonometrics
DESCRIPTION:Axonometrics vs. Anti-Oppressors FCPlus d'info : #40
X-ALT-DESC;FMTTYPE=text/html:<!DOCTYPE HTML PUBLIC "-//W3C//DTD HTML 3.2//E
	N">\n<HTML>\n<HEAD>\n<TITLE></TITLE>\n</HEAD>\n<BODY>\n<h3>Axonometrics vs.
	 Anti-Oppressors FC</h3>Plus d'info : <a href="https://www.golnetwork.com/g
	ame/v/121096/">#40</a>\n\n</BODY>\n</HTML>
STATUS:CONFIRMED
CLASS:PUBLIC
URL:https://www.golnetwork.com/game/v/121096/
X-MICROSOFT-CDO-BUSYSTATUS:BUSY
X-MICROSOFT-CDO-IMPORTANCE:1
END:VEVENT
BEGIN:VEVENT
UID:gcaq4@games.golnetwork.com
LOCATION:Bickford/West End Alternative
GEO:43.662764;-79.4202341
CREATED:20180306T173841Z
DTSTART:20180528T223000Z
DTEND:20180528T233000Z
DTSTAMP:20260422T211539Z
SUMMARY:Kickballz vs. Axonometrics
DESCRIPTION:Axonometrics vs. KickballzPlus d'info : #43
X-ALT-DESC;FMTTYPE=text/html:<!DOCTYPE HTML PUBLIC "-//W3C//DTD HTML 3.2//E
	N">\n<HTML>\n<HEAD>\n<TITLE></TITLE>\n</HEAD>\n<BODY>\n<h3>Axonometrics vs.
	 Kickballz</h3>Plus d'info : <a href="https://www.golnetwork.com/game/v/121
	097/">#43</a>\n\n</BODY>\n</HTML>
STATUS:CONFIRMED
CLASS:PUBLIC
URL:https://www.golnetwork.com/game/v/121097/
X-MICROSOFT-CDO-BUSYSTATUS:BUSY
X-MICROSOFT-CDO-IMPORTANCE:1
END:VEVENT
BEGIN:VEVENT
UID:gcaq6@games.golnetwork.com
LOCATION:Bickford/West End Alternative
GEO:43.662764;-79.4202341
CREATED:20180306T173846Z
DTSTART:20180529T003000Z
DTEND:20180529T013000Z
DTSTAMP:20260422T211539Z
SUMMARY:No Show Joes vs. Anti-Oppressors FC
DESCRIPTION:Anti-Oppressors FC vs. No Show JoesPlus d'info : #45
X-ALT-DESC;FMTTYPE=text/html:<!DOCTYPE HTML PUBLIC "-//W3C//DTD HTML 3.2//E
	N">\n<HTML>\n<HEAD>\n<TITLE></TITLE>\n</HEAD>\n<BODY>\n<h3>Anti-Oppressors 
	FC vs. No Show Joes</h3>Plus d'info : <a href="https://www.golnetwork.com/g
	ame/v/121098/">#45</a>\n\n</BODY>\n</HTML>
STATUS:CONFIRMED
CLASS:PUBLIC
URL:https://www.golnetwork.com/game/v/121098/
X-MICROSOFT-CDO-BUSYSTATUS:BUSY
X-MICROSOFT-CDO-IMPORTANCE:1
END:VEVENT
END:VCALENDAR
