BEGIN:VCALENDAR
PRODID:-//gdesolutions.com//MV Framework 1.0.0.1607 Calendar//EN
VERSION:2.0
METHOD:PUBLISH
CALSCALE:GREGORIAN
BEGIN:VEVENT
UID:gca4o@games.golnetwork.com
LOCATION:Bickford/West End Alternative
GEO:43.662764;-79.4202341
CREATED:20180222T174739Z
DTSTART:20180228T234500Z
DTEND:20180301T004500Z
DTSTAMP:20260422T211842Z
SUMMARY:Soylent Banana vs. One Flew Over the Raven’s Nest
DESCRIPTION:One Flew Over the Raven’s Nest vs. Soylent BananaPlus d'info 
	: #1
X-ALT-DESC;FMTTYPE=text/html:<!DOCTYPE HTML PUBLIC "-//W3C//DTD HTML 3.2//E
	N">\n<HTML>\n<HEAD>\n<TITLE></TITLE>\n</HEAD>\n<BODY>\n<h3>One Flew Over th
	e Raven’s Nest vs. Soylent Banana</h3>Plus d'info : <a href="https://www.
	golnetwork.com/game/v/120810/">#1</a>\n\n</BODY>\n</HTML>
STATUS:CONFIRMED
CLASS:PUBLIC
URL:https://www.golnetwork.com/game/v/120810/
X-MICROSOFT-CDO-BUSYSTATUS:BUSY
X-MICROSOFT-CDO-IMPORTANCE:1
END:VEVENT
BEGIN:VEVENT
UID:gca4q@games.golnetwork.com
LOCATION:Bickford/West End Alternative
GEO:43.662764;-79.4202341
CREATED:20180222T174751Z
DTSTART:20180301T010000Z
DTEND:20180301T020000Z
DTSTAMP:20260422T211842Z
SUMMARY:The Slums vs. Smashers FC
DESCRIPTION:Smashers FC vs. The SlumsPlus d'info : #2
X-ALT-DESC;FMTTYPE=text/html:<!DOCTYPE HTML PUBLIC "-//W3C//DTD HTML 3.2//E
	N">\n<HTML>\n<HEAD>\n<TITLE></TITLE>\n</HEAD>\n<BODY>\n<h3>Smashers FC vs. 
	The Slums</h3>Plus d'info : <a href="https://www.golnetwork.com/game/v/1208
	11/">#2</a>\n\n</BODY>\n</HTML>
STATUS:CONFIRMED
CLASS:PUBLIC
URL:https://www.golnetwork.com/game/v/120811/
X-MICROSOFT-CDO-BUSYSTATUS:BUSY
X-MICROSOFT-CDO-IMPORTANCE:1
END:VEVENT
BEGIN:VEVENT
UID:gca5j@games.golnetwork.com
LOCATION:Bickford/West End Alternative
GEO:43.662764;-79.4202341
CREATED:20180226T165456Z
DTSTART:20180307T234500Z
DTEND:20180308T004500Z
DTSTAMP:20260422T211842Z
SUMMARY:The Slums vs. Soylent Banana
DESCRIPTION:Soylent Banana vs. The SlumsPlus d'info : #6
X-ALT-DESC;FMTTYPE=text/html:<!DOCTYPE HTML PUBLIC "-//W3C//DTD HTML 3.2//E
	N">\n<HTML>\n<HEAD>\n<TITLE></TITLE>\n</HEAD>\n<BODY>\n<h3>Soylent Banana v
	s. The Slums</h3>Plus d'info : <a href="https://www.golnetwork.com/game/v/1
	20821/">#6</a>\n\n</BODY>\n</HTML>
STATUS:CONFIRMED
CLASS:PUBLIC
URL:https://www.golnetwork.com/game/v/120821/
X-MICROSOFT-CDO-BUSYSTATUS:BUSY
X-MICROSOFT-CDO-IMPORTANCE:1
END:VEVENT
BEGIN:VEVENT
UID:gca5l@games.golnetwork.com
LOCATION:Bickford/West End Alternative
GEO:43.662764;-79.4202341
CREATED:20180226T165504Z
DTSTART:20180308T010000Z
DTEND:20180308T020000Z
DTSTAMP:20260422T211842Z
SUMMARY:Smashers FC vs. One Flew Over the Raven’s Nest
DESCRIPTION:One Flew Over the Raven’s Nest vs. Smashers FCPlus d'info : #
	7
X-ALT-DESC;FMTTYPE=text/html:<!DOCTYPE HTML PUBLIC "-//W3C//DTD HTML 3.2//E
	N">\n<HTML>\n<HEAD>\n<TITLE></TITLE>\n</HEAD>\n<BODY>\n<h3>One Flew Over th
	e Raven’s Nest vs. Smashers FC</h3>Plus d'info : <a href="https://www.gol
	network.com/game/v/120822/">#7</a>\n\n</BODY>\n</HTML>
STATUS:CONFIRMED
CLASS:PUBLIC
URL:https://www.golnetwork.com/game/v/120822/
X-MICROSOFT-CDO-BUSYSTATUS:BUSY
X-MICROSOFT-CDO-IMPORTANCE:1
END:VEVENT
BEGIN:VEVENT
UID:gca5n@games.golnetwork.com
LOCATION:Bickford/West End Alternative
GEO:43.662764;-79.4202341
CREATED:20180226T165514Z
DTSTART:20180321T224500Z
DTEND:20180321T234500Z
DTSTAMP:20260422T211842Z
SUMMARY:Soylent Banana vs. Smashers FC
DESCRIPTION:Smashers FC vs. Soylent BananaPlus d'info : #11
X-ALT-DESC;FMTTYPE=text/html:<!DOCTYPE HTML PUBLIC "-//W3C//DTD HTML 3.2//E
	N">\n<HTML>\n<HEAD>\n<TITLE></TITLE>\n</HEAD>\n<BODY>\n<h3>Smashers FC vs. 
	Soylent Banana</h3>Plus d'info : <a href="https://www.golnetwork.com/game/v
	/120823/">#11</a>\n\n</BODY>\n</HTML>
STATUS:CONFIRMED
CLASS:PUBLIC
URL:https://www.golnetwork.com/game/v/120823/
X-MICROSOFT-CDO-BUSYSTATUS:BUSY
X-MICROSOFT-CDO-IMPORTANCE:1
END:VEVENT
BEGIN:VEVENT
UID:gca5p@games.golnetwork.com
LOCATION:Bickford/West End Alternative
GEO:43.662764;-79.4202341
CREATED:20180226T165522Z
DTSTART:20180322T000000Z
DTEND:20180322T010000Z
DTSTAMP:20260422T211842Z
SUMMARY:The Slums vs. One Flew Over the Raven’s Nest
DESCRIPTION:One Flew Over the Raven’s Nest vs. The SlumsPlus d'info : #12
X-ALT-DESC;FMTTYPE=text/html:<!DOCTYPE HTML PUBLIC "-//W3C//DTD HTML 3.2//E
	N">\n<HTML>\n<HEAD>\n<TITLE></TITLE>\n</HEAD>\n<BODY>\n<h3>One Flew Over th
	e Raven’s Nest vs. The Slums</h3>Plus d'info : <a href="https://www.golne
	twork.com/game/v/120824/">#12</a>\n\n</BODY>\n</HTML>
STATUS:CONFIRMED
CLASS:PUBLIC
URL:https://www.golnetwork.com/game/v/120824/
X-MICROSOFT-CDO-BUSYSTATUS:BUSY
X-MICROSOFT-CDO-IMPORTANCE:1
END:VEVENT
BEGIN:VEVENT
UID:gca60@games.golnetwork.com
LOCATION:Bickford/West End Alternative
GEO:43.662764;-79.4202341
CREATED:20180226T165530Z
DTSTART:20180328T224500Z
DTEND:20180328T234500Z
DTSTAMP:20260422T211842Z
SUMMARY:The Slums vs. Smashers FC
DESCRIPTION:Smashers FC vs. The SlumsPlus d'info : #16
X-ALT-DESC;FMTTYPE=text/html:<!DOCTYPE HTML PUBLIC "-//W3C//DTD HTML 3.2//E
	N">\n<HTML>\n<HEAD>\n<TITLE></TITLE>\n</HEAD>\n<BODY>\n<h3>Smashers FC vs. 
	The Slums</h3>Plus d'info : <a href="https://www.golnetwork.com/game/v/1208
	25/">#16</a>\n\n</BODY>\n</HTML>
STATUS:CONFIRMED
CLASS:PUBLIC
URL:https://www.golnetwork.com/game/v/120825/
X-MICROSOFT-CDO-BUSYSTATUS:BUSY
X-MICROSOFT-CDO-IMPORTANCE:1
END:VEVENT
BEGIN:VEVENT
UID:gca62@games.golnetwork.com
LOCATION:Bickford/West End Alternative
GEO:43.662764;-79.4202341
CREATED:20180226T165539Z
DTSTART:20180329T000000Z
DTEND:20180329T010000Z
DTSTAMP:20260422T211842Z
SUMMARY:Soylent Banana vs. One Flew Over the Raven’s Nest
DESCRIPTION:One Flew Over the Raven’s Nest vs. Soylent BananaPlus d'info 
	: #17
X-ALT-DESC;FMTTYPE=text/html:<!DOCTYPE HTML PUBLIC "-//W3C//DTD HTML 3.2//E
	N">\n<HTML>\n<HEAD>\n<TITLE></TITLE>\n</HEAD>\n<BODY>\n<h3>One Flew Over th
	e Raven’s Nest vs. Soylent Banana</h3>Plus d'info : <a href="https://www.
	golnetwork.com/game/v/120826/">#17</a>\n\n</BODY>\n</HTML>
STATUS:CONFIRMED
CLASS:PUBLIC
URL:https://www.golnetwork.com/game/v/120826/
X-MICROSOFT-CDO-BUSYSTATUS:BUSY
X-MICROSOFT-CDO-IMPORTANCE:1
END:VEVENT
BEGIN:VEVENT
UID:gca64@games.golnetwork.com
LOCATION:Bickford/West End Alternative
GEO:43.662764;-79.4202341
CREATED:20180226T165550Z
DTSTART:20180404T224500Z
DTEND:20180404T234500Z
DTSTAMP:20260422T211842Z
SUMMARY:The Slums vs. Soylent Banana
DESCRIPTION:Soylent Banana vs. The SlumsPlus d'info : #18
X-ALT-DESC;FMTTYPE=text/html:<!DOCTYPE HTML PUBLIC "-//W3C//DTD HTML 3.2//E
	N">\n<HTML>\n<HEAD>\n<TITLE></TITLE>\n</HEAD>\n<BODY>\n<h3>Soylent Banana v
	s. The Slums</h3>Plus d'info : <a href="https://www.golnetwork.com/game/v/1
	20827/">#18</a>\n\n</BODY>\n</HTML>
STATUS:CONFIRMED
CLASS:PUBLIC
URL:https://www.golnetwork.com/game/v/120827/
X-MICROSOFT-CDO-BUSYSTATUS:BUSY
X-MICROSOFT-CDO-IMPORTANCE:1
END:VEVENT
BEGIN:VEVENT
UID:gca66@games.golnetwork.com
LOCATION:Bickford/West End Alternative
GEO:43.662764;-79.4202341
CREATED:20180226T165559Z
DTSTART:20180405T000000Z
DTEND:20180405T010000Z
DTSTAMP:20260422T211842Z
SUMMARY:Smashers FC vs. One Flew Over the Raven’s Nest
DESCRIPTION:One Flew Over the Raven’s Nest vs. Smashers FCPlus d'info : #
	19
X-ALT-DESC;FMTTYPE=text/html:<!DOCTYPE HTML PUBLIC "-//W3C//DTD HTML 3.2//E
	N">\n<HTML>\n<HEAD>\n<TITLE></TITLE>\n</HEAD>\n<BODY>\n<h3>One Flew Over th
	e Raven’s Nest vs. Smashers FC</h3>Plus d'info : <a href="https://www.gol
	network.com/game/v/120828/">#19</a>\n\n</BODY>\n</HTML>
STATUS:CONFIRMED
CLASS:PUBLIC
URL:https://www.golnetwork.com/game/v/120828/
X-MICROSOFT-CDO-BUSYSTATUS:BUSY
X-MICROSOFT-CDO-IMPORTANCE:1
END:VEVENT
BEGIN:VEVENT
UID:gca68@games.golnetwork.com
LOCATION:Bickford/West End Alternative
GEO:43.662764;-79.4202341
CREATED:20180226T165608Z
DTSTART:20180411T224500Z
DTEND:20180411T234500Z
DTSTAMP:20260422T211842Z
SUMMARY:Soylent Banana vs. Smashers FC
DESCRIPTION:Smashers FC vs. Soylent BananaPlus d'info : #23
X-ALT-DESC;FMTTYPE=text/html:<!DOCTYPE HTML PUBLIC "-//W3C//DTD HTML 3.2//E
	N">\n<HTML>\n<HEAD>\n<TITLE></TITLE>\n</HEAD>\n<BODY>\n<h3>Smashers FC vs. 
	Soylent Banana</h3>Plus d'info : <a href="https://www.golnetwork.com/game/v
	/120829/">#23</a>\n\n</BODY>\n</HTML>
STATUS:CONFIRMED
CLASS:PUBLIC
URL:https://www.golnetwork.com/game/v/120829/
X-MICROSOFT-CDO-BUSYSTATUS:BUSY
X-MICROSOFT-CDO-IMPORTANCE:1
END:VEVENT
BEGIN:VEVENT
UID:gca6a@games.golnetwork.com
LOCATION:Bickford/West End Alternative
GEO:43.662764;-79.4202341
CREATED:20180226T165616Z
DTSTART:20180412T000000Z
DTEND:20180412T010000Z
DTSTAMP:20260422T211842Z
SUMMARY:The Slums vs. One Flew Over the Raven’s Nest
DESCRIPTION:One Flew Over the Raven’s Nest vs. The SlumsPlus d'info : #24
X-ALT-DESC;FMTTYPE=text/html:<!DOCTYPE HTML PUBLIC "-//W3C//DTD HTML 3.2//E
	N">\n<HTML>\n<HEAD>\n<TITLE></TITLE>\n</HEAD>\n<BODY>\n<h3>One Flew Over th
	e Raven’s Nest vs. The Slums</h3>Plus d'info : <a href="https://www.golne
	twork.com/game/v/120830/">#24</a>\n\n</BODY>\n</HTML>
STATUS:CONFIRMED
CLASS:PUBLIC
URL:https://www.golnetwork.com/game/v/120830/
X-MICROSOFT-CDO-BUSYSTATUS:BUSY
X-MICROSOFT-CDO-IMPORTANCE:1
END:VEVENT
BEGIN:VEVENT
UID:gca6c@games.golnetwork.com
LOCATION:Bickford/West End Alternative
GEO:43.662764;-79.4202341
CREATED:20180226T165626Z
DTSTART:20180418T224500Z
DTEND:20180418T234500Z
DTSTAMP:20260422T211842Z
SUMMARY:Soylent Banana vs. One Flew Over the Raven’s Nest
DESCRIPTION:One Flew Over the Raven’s Nest vs. Soylent BananaPlus d'info 
	: #25
X-ALT-DESC;FMTTYPE=text/html:<!DOCTYPE HTML PUBLIC "-//W3C//DTD HTML 3.2//E
	N">\n<HTML>\n<HEAD>\n<TITLE></TITLE>\n</HEAD>\n<BODY>\n<h3>One Flew Over th
	e Raven’s Nest vs. Soylent Banana</h3>Plus d'info : <a href="https://www.
	golnetwork.com/game/v/120831/">#25</a>\n\n</BODY>\n</HTML>
STATUS:CONFIRMED
CLASS:PUBLIC
URL:https://www.golnetwork.com/game/v/120831/
X-MICROSOFT-CDO-BUSYSTATUS:BUSY
X-MICROSOFT-CDO-IMPORTANCE:1
END:VEVENT
BEGIN:VEVENT
UID:gca6e@games.golnetwork.com
LOCATION:Bickford/West End Alternative
GEO:43.662764;-79.4202341
CREATED:20180226T165634Z
DTSTART:20180419T000000Z
DTEND:20180419T010000Z
DTSTAMP:20260422T211842Z
SUMMARY:The Slums vs. Smashers FC
DESCRIPTION:Smashers FC vs. The SlumsPlus d'info : #26
X-ALT-DESC;FMTTYPE=text/html:<!DOCTYPE HTML PUBLIC "-//W3C//DTD HTML 3.2//E
	N">\n<HTML>\n<HEAD>\n<TITLE></TITLE>\n</HEAD>\n<BODY>\n<h3>Smashers FC vs. 
	The Slums</h3>Plus d'info : <a href="https://www.golnetwork.com/game/v/1208
	32/">#26</a>\n\n</BODY>\n</HTML>
STATUS:CONFIRMED
CLASS:PUBLIC
URL:https://www.golnetwork.com/game/v/120832/
X-MICROSOFT-CDO-BUSYSTATUS:BUSY
X-MICROSOFT-CDO-IMPORTANCE:1
END:VEVENT
BEGIN:VEVENT
UID:gca6g@games.golnetwork.com
LOCATION:Bickford/West End Alternative
GEO:43.662764;-79.4202341
CREATED:20180226T165641Z
DTSTART:20180502T224500Z
DTEND:20180502T234500Z
DTSTAMP:20260422T211842Z
SUMMARY:The Slums vs. Smashers FC
DESCRIPTION:Smashers FC vs. The SlumsPlus d'info : #35
X-ALT-DESC;FMTTYPE=text/html:<!DOCTYPE HTML PUBLIC "-//W3C//DTD HTML 3.2//E
	N">\n<HTML>\n<HEAD>\n<TITLE></TITLE>\n</HEAD>\n<BODY>\n<h3>Smashers FC vs. 
	The Slums</h3>Plus d'info : <a href="https://www.golnetwork.com/game/v/1208
	33/">#35</a>\n\n</BODY>\n</HTML>
STATUS:CONFIRMED
CLASS:PUBLIC
URL:https://www.golnetwork.com/game/v/120833/
X-MICROSOFT-CDO-BUSYSTATUS:BUSY
X-MICROSOFT-CDO-IMPORTANCE:1
END:VEVENT
END:VCALENDAR
