BEGIN:VCALENDAR
PRODID:-//gdesolutions.com//MV Framework 1.0.0.1607 Calendar//EN
VERSION:2.0
METHOD:PUBLISH
CALSCALE:GREGORIAN
BEGIN:VEVENT
UID:gca8c@games.golnetwork.com
LOCATION:Louis Riel #2
GEO:45.4410208;-75.5715394
CREATED:20180227T065035Z
DTSTART:20180302T020000Z
DTEND:20180302T025000Z
DTSTAMP:20260424T094114Z
SUMMARY:TBD vs. Fluorescent Platypuses
DESCRIPTION:Fluorescent Platypuses vs. TBDPlus d'info : #7
X-ALT-DESC;FMTTYPE=text/html:<!DOCTYPE HTML PUBLIC "-//W3C//DTD HTML 3.2//E
	N">\n<HTML>\n<HEAD>\n<TITLE></TITLE>\n</HEAD>\n<BODY>\n<h3>Fluorescent Plat
	ypuses vs. TBD</h3>Plus d'info : <a href="https://www.golnetwork.com/game/v
	/120858/">#7</a>\n\n</BODY>\n</HTML>
STATUS:CONFIRMED
CLASS:PUBLIC
URL:https://www.golnetwork.com/game/v/120858/
X-MICROSOFT-CDO-BUSYSTATUS:BUSY
X-MICROSOFT-CDO-IMPORTANCE:1
END:VEVENT
BEGIN:VEVENT
UID:gca8a@games.golnetwork.com
LOCATION:Louis Riel #3
GEO:45.4410208;-75.5715394
CREATED:20180227T065022Z
DTSTART:20180302T030000Z
DTEND:20180302T035000Z
DTSTAMP:20260424T094114Z
SUMMARY:Strikers vs. Junkyard Dogs
DESCRIPTION:Junkyard Dogs vs. StrikersPlus d'info : #13
X-ALT-DESC;FMTTYPE=text/html:<!DOCTYPE HTML PUBLIC "-//W3C//DTD HTML 3.2//E
	N">\n<HTML>\n<HEAD>\n<TITLE></TITLE>\n</HEAD>\n<BODY>\n<h3>Junkyard Dogs vs
	. Strikers</h3>Plus d'info : <a href="https://www.golnetwork.com/game/v/120
	857/">#13</a>\n\n</BODY>\n</HTML>
STATUS:CONFIRMED
CLASS:PUBLIC
URL:https://www.golnetwork.com/game/v/120857/
X-MICROSOFT-CDO-BUSYSTATUS:BUSY
X-MICROSOFT-CDO-IMPORTANCE:1
END:VEVENT
BEGIN:VEVENT
UID:gcagm@games.golnetwork.com
LOCATION:Louis Riel #2
GEO:45.4410208;-75.5715394
CREATED:20180305T070426Z
DTSTART:20180309T010000Z
DTEND:20180309T015000Z
DTSTAMP:20260424T094114Z
SUMMARY:Junkyard Dogs vs. Fluorescent Platypuses
DESCRIPTION:Fluorescent Platypuses vs. Junkyard DogsPlus d'info : #20
X-ALT-DESC;FMTTYPE=text/html:<!DOCTYPE HTML PUBLIC "-//W3C//DTD HTML 3.2//E
	N">\n<HTML>\n<HEAD>\n<TITLE></TITLE>\n</HEAD>\n<BODY>\n<h3>Fluorescent Plat
	ypuses vs. Junkyard Dogs</h3>Plus d'info : <a href="https://www.golnetwork.
	com/game/v/120971/">#20</a>\n\n</BODY>\n</HTML>
STATUS:CONFIRMED
CLASS:PUBLIC
URL:https://www.golnetwork.com/game/v/120971/
X-MICROSOFT-CDO-BUSYSTATUS:BUSY
X-MICROSOFT-CDO-IMPORTANCE:1
END:VEVENT
BEGIN:VEVENT
UID:gcago@games.golnetwork.com
LOCATION:Louis Riel #2
GEO:45.4410208;-75.5715394
CREATED:20180305T070434Z
DTSTART:20180309T020000Z
DTEND:20180309T025000Z
DTSTAMP:20260424T094114Z
SUMMARY:TBD vs. Ineedasub FC
DESCRIPTION:Ineedasub FC vs. TBDPlus d'info : #23
X-ALT-DESC;FMTTYPE=text/html:<!DOCTYPE HTML PUBLIC "-//W3C//DTD HTML 3.2//E
	N">\n<HTML>\n<HEAD>\n<TITLE></TITLE>\n</HEAD>\n<BODY>\n<h3>Ineedasub FC vs.
	 TBD</h3>Plus d'info : <a href="https://www.golnetwork.com/game/v/120972/">
	#23</a>\n\n</BODY>\n</HTML>
STATUS:CONFIRMED
CLASS:PUBLIC
URL:https://www.golnetwork.com/game/v/120972/
X-MICROSOFT-CDO-BUSYSTATUS:BUSY
X-MICROSOFT-CDO-IMPORTANCE:1
END:VEVENT
BEGIN:VEVENT
UID:gcb94@games.golnetwork.com
LOCATION:Lees Dome Field #3
GEO:45.415776;-75.6684899
CREATED:20180312T061756Z
DTSTART:20180315T230000Z
DTEND:20180315T235000Z
DTSTAMP:20260424T094114Z
SUMMARY:Feedbag vs. Fluorescent Platypuses
DESCRIPTION:Fluorescent Platypuses vs. FeedbagPlus d'info : #32
X-ALT-DESC;FMTTYPE=text/html:<!DOCTYPE HTML PUBLIC "-//W3C//DTD HTML 3.2//E
	N">\n<HTML>\n<HEAD>\n<TITLE></TITLE>\n</HEAD>\n<BODY>\n<h3>Fluorescent Plat
	ypuses vs. Feedbag</h3>Plus d'info : <a href="https://www.golnetwork.com/ga
	me/v/121232/">#32</a>\n\n</BODY>\n</HTML>
STATUS:CONFIRMED
CLASS:PUBLIC
URL:https://www.golnetwork.com/game/v/121232/
X-MICROSOFT-CDO-BUSYSTATUS:BUSY
X-MICROSOFT-CDO-IMPORTANCE:1
END:VEVENT
BEGIN:VEVENT
UID:gcb96@games.golnetwork.com
LOCATION:Hornet's Nest #3
GEO:45.4428309;-75.575268
CREATED:20180312T061811Z
DTSTART:20180316T013000Z
DTEND:20180316T022000Z
DTSTAMP:20260424T094114Z
SUMMARY:Ineedasub FC vs. Junkyard Dogs
DESCRIPTION:Junkyard Dogs vs. Ineedasub FCPlus d'info : #39
X-ALT-DESC;FMTTYPE=text/html:<!DOCTYPE HTML PUBLIC "-//W3C//DTD HTML 3.2//E
	N">\n<HTML>\n<HEAD>\n<TITLE></TITLE>\n</HEAD>\n<BODY>\n<h3>Junkyard Dogs vs
	. Ineedasub FC</h3>Plus d'info : <a href="https://www.golnetwork.com/game/v
	/121233/">#39</a>\n\n</BODY>\n</HTML>
STATUS:CONFIRMED
CLASS:PUBLIC
URL:https://www.golnetwork.com/game/v/121233/
X-MICROSOFT-CDO-BUSYSTATUS:BUSY
X-MICROSOFT-CDO-IMPORTANCE:1
END:VEVENT
BEGIN:VEVENT
UID:gcc5l@games.golnetwork.com
LOCATION:Louis Riel #3
GEO:45.4410208;-75.5715394
CREATED:20180319T073105Z
DTSTART:20180322T230000Z
DTEND:20180322T235000Z
DTSTAMP:20260424T094114Z
SUMMARY:Fluorescent Platypuses vs. Ineedasub FC
DESCRIPTION:Ineedasub FC vs. Fluorescent PlatypusesPlus d'info : #3
X-ALT-DESC;FMTTYPE=text/html:<!DOCTYPE HTML PUBLIC "-//W3C//DTD HTML 3.2//E
	N">\n<HTML>\n<HEAD>\n<TITLE></TITLE>\n</HEAD>\n<BODY>\n<h3>Ineedasub FC vs.
	 Fluorescent Platypuses</h3>Plus d'info : <a href="https://www.golnetwork.c
	om/game/v/121551/">#3</a>\n\n</BODY>\n</HTML>
STATUS:CONFIRMED
CLASS:PUBLIC
URL:https://www.golnetwork.com/game/v/121551/
X-MICROSOFT-CDO-BUSYSTATUS:BUSY
X-MICROSOFT-CDO-IMPORTANCE:1
END:VEVENT
BEGIN:VEVENT
UID:gcc60@games.golnetwork.com
LOCATION:Louis Riel #3
GEO:45.4410208;-75.5715394
CREATED:20180319T073105Z
DTSTART:20180323T000000Z
DTEND:20180323T005000Z
DTSTAMP:20260424T094114Z
SUMMARY:Junkyard Dogs vs. Aztlan
DESCRIPTION:Aztlan vs. Junkyard DogsPlus d'info : #6
X-ALT-DESC;FMTTYPE=text/html:<!DOCTYPE HTML PUBLIC "-//W3C//DTD HTML 3.2//E
	N">\n<HTML>\n<HEAD>\n<TITLE></TITLE>\n</HEAD>\n<BODY>\n<h3>Aztlan vs. Junky
	ard Dogs</h3>Plus d'info : <a href="https://www.golnetwork.com/game/v/12155
	4/">#6</a>\n\n</BODY>\n</HTML>
STATUS:CONFIRMED
CLASS:PUBLIC
URL:https://www.golnetwork.com/game/v/121554/
X-MICROSOFT-CDO-BUSYSTATUS:BUSY
X-MICROSOFT-CDO-IMPORTANCE:1
END:VEVENT
BEGIN:VEVENT
UID:gcc64@games.golnetwork.com
LOCATION:Louis Riel #2
GEO:45.4410208;-75.5715394
CREATED:20180319T073105Z
DTSTART:20180323T010000Z
DTEND:20180323T015000Z
DTSTAMP:20260424T094114Z
SUMMARY:50 Shades of Pink vs. TBD
DESCRIPTION:TBD vs. 50 Shades of PinkPlus d'info : #8
X-ALT-DESC;FMTTYPE=text/html:<!DOCTYPE HTML PUBLIC "-//W3C//DTD HTML 3.2//E
	N">\n<HTML>\n<HEAD>\n<TITLE></TITLE>\n</HEAD>\n<BODY>\n<h3>TBD vs. 50 Shade
	s of Pink</h3>Plus d'info : <a href="https://www.golnetwork.com/game/v/1215
	56/">#8</a>\n\n</BODY>\n</HTML>
STATUS:CONFIRMED
CLASS:PUBLIC
URL:https://www.golnetwork.com/game/v/121556/
X-MICROSOFT-CDO-BUSYSTATUS:BUSY
X-MICROSOFT-CDO-IMPORTANCE:1
END:VEVENT
BEGIN:VEVENT
UID:gcc75@games.golnetwork.com
LOCATION:Louis Riel #2
GEO:45.4410208;-75.5715394
CREATED:20180319T073106Z
DTSTART:20180330T003000Z
DTEND:20180330T012000Z
DTSTAMP:20260424T094114Z
SUMMARY:Ineedasub FC vs. Aztlan
DESCRIPTION:Aztlan vs. Ineedasub FCPlus d'info : #22
X-ALT-DESC;FMTTYPE=text/html:<!DOCTYPE HTML PUBLIC "-//W3C//DTD HTML 3.2//E
	N">\n<HTML>\n<HEAD>\n<TITLE></TITLE>\n</HEAD>\n<BODY>\n<h3>Aztlan vs. Ineed
	asub FC</h3>Plus d'info : <a href="https://www.golnetwork.com/game/v/121570
	/">#22</a>\n\n</BODY>\n</HTML>
STATUS:CONFIRMED
CLASS:PUBLIC
URL:https://www.golnetwork.com/game/v/121570/
X-MICROSOFT-CDO-BUSYSTATUS:BUSY
X-MICROSOFT-CDO-IMPORTANCE:1
END:VEVENT
BEGIN:VEVENT
UID:gcc7b@games.golnetwork.com
LOCATION:Louis Riel #2
GEO:45.4410208;-75.5715394
CREATED:20180319T073106Z
DTSTART:20180330T013000Z
DTEND:20180330T022000Z
DTSTAMP:20260424T094114Z
SUMMARY:Fluorescent Platypuses vs. Aztlan
DESCRIPTION:Aztlan vs. Fluorescent PlatypusesPlus d'info : #25
X-ALT-DESC;FMTTYPE=text/html:<!DOCTYPE HTML PUBLIC "-//W3C//DTD HTML 3.2//E
	N">\n<HTML>\n<HEAD>\n<TITLE></TITLE>\n</HEAD>\n<BODY>\n<h3>Aztlan vs. Fluor
	escent Platypuses</h3>Plus d'info : <a href="https://www.golnetwork.com/gam
	e/v/121573/">#25</a>\n\n</BODY>\n</HTML>
STATUS:CONFIRMED
CLASS:PUBLIC
URL:https://www.golnetwork.com/game/v/121573/
X-MICROSOFT-CDO-BUSYSTATUS:BUSY
X-MICROSOFT-CDO-IMPORTANCE:1
END:VEVENT
BEGIN:VEVENT
UID:gcc7l@games.golnetwork.com
LOCATION:Louis Riel #2
GEO:45.4410208;-75.5715394
CREATED:20180319T073106Z
DTSTART:20180405T223000Z
DTEND:20180405T232000Z
DTSTAMP:20260424T094114Z
SUMMARY:Hammerheads vs. Aztlan
DESCRIPTION:Aztlan vs. HammerheadsPlus d'info : #30
X-ALT-DESC;FMTTYPE=text/html:<!DOCTYPE HTML PUBLIC "-//W3C//DTD HTML 3.2//E
	N">\n<HTML>\n<HEAD>\n<TITLE></TITLE>\n</HEAD>\n<BODY>\n<h3>Aztlan vs. Hamme
	rheads</h3>Plus d'info : <a href="https://www.golnetwork.com/game/v/121578/
	">#30</a>\n\n</BODY>\n</HTML>
STATUS:CONFIRMED
CLASS:PUBLIC
URL:https://www.golnetwork.com/game/v/121578/
X-MICROSOFT-CDO-BUSYSTATUS:BUSY
X-MICROSOFT-CDO-IMPORTANCE:1
END:VEVENT
BEGIN:VEVENT
UID:gcc82@games.golnetwork.com
LOCATION:Louis Riel #3
GEO:45.4410208;-75.5715394
CREATED:20180319T073106Z
DTSTART:20180405T233000Z
DTEND:20180406T002000Z
DTSTAMP:20260424T094114Z
SUMMARY:Junkyard Dogs vs. TBD
DESCRIPTION:TBD vs. Junkyard DogsPlus d'info : #34
X-ALT-DESC;FMTTYPE=text/html:<!DOCTYPE HTML PUBLIC "-//W3C//DTD HTML 3.2//E
	N">\n<HTML>\n<HEAD>\n<TITLE></TITLE>\n</HEAD>\n<BODY>\n<h3>TBD vs. Junkyard
	 Dogs</h3>Plus d'info : <a href="https://www.golnetwork.com/game/v/121582/"
	>#34</a>\n\n</BODY>\n</HTML>
STATUS:CONFIRMED
CLASS:PUBLIC
URL:https://www.golnetwork.com/game/v/121582/
X-MICROSOFT-CDO-BUSYSTATUS:BUSY
X-MICROSOFT-CDO-IMPORTANCE:1
END:VEVENT
BEGIN:VEVENT
UID:gcc86@games.golnetwork.com
LOCATION:Louis Riel #2
GEO:45.4410208;-75.5715394
CREATED:20180319T073106Z
DTSTART:20180406T003000Z
DTEND:20180406T012000Z
DTSTAMP:20260424T094114Z
SUMMARY:Cornerstone FC vs. Ineedasub FC
DESCRIPTION:Ineedasub FC vs. Cornerstone FCPlus d'info : #36
X-ALT-DESC;FMTTYPE=text/html:<!DOCTYPE HTML PUBLIC "-//W3C//DTD HTML 3.2//E
	N">\n<HTML>\n<HEAD>\n<TITLE></TITLE>\n</HEAD>\n<BODY>\n<h3>Ineedasub FC vs.
	 Cornerstone FC</h3>Plus d'info : <a href="https://www.golnetwork.com/game/
	v/121584/">#36</a>\n\n</BODY>\n</HTML>
STATUS:CONFIRMED
CLASS:PUBLIC
URL:https://www.golnetwork.com/game/v/121584/
X-MICROSOFT-CDO-BUSYSTATUS:BUSY
X-MICROSOFT-CDO-IMPORTANCE:1
END:VEVENT
BEGIN:VEVENT
UID:gcc9b@games.golnetwork.com
LOCATION:Lees Dome Field #1
GEO:45.415776;-75.6684899
CREATED:20180319T073106Z
DTSTART:20180413T000000Z
DTEND:20180413T005000Z
DTSTAMP:20260424T094114Z
SUMMARY:Winded FC vs. Aztlan
DESCRIPTION:Aztlan vs. Winded FCPlus d'info : #52
X-ALT-DESC;FMTTYPE=text/html:<!DOCTYPE HTML PUBLIC "-//W3C//DTD HTML 3.2//E
	N">\n<HTML>\n<HEAD>\n<TITLE></TITLE>\n</HEAD>\n<BODY>\n<h3>Aztlan vs. Winde
	d FC</h3>Plus d'info : <a href="https://www.golnetwork.com/game/v/121600/">
	#52</a>\n\n</BODY>\n</HTML>
STATUS:CONFIRMED
CLASS:PUBLIC
URL:https://www.golnetwork.com/game/v/121600/
X-MICROSOFT-CDO-BUSYSTATUS:BUSY
X-MICROSOFT-CDO-IMPORTANCE:1
END:VEVENT
BEGIN:VEVENT
UID:gcc9d@games.golnetwork.com
LOCATION:Lees Dome Field #2
GEO:45.415776;-75.6684899
CREATED:20180319T073106Z
DTSTART:20180413T000000Z
DTEND:20180413T005000Z
DTSTAMP:20260424T094114Z
SUMMARY:Junkyard Dogs vs. Fluorescent Platypuses
DESCRIPTION:Fluorescent Platypuses vs. Junkyard DogsPlus d'info : #53
X-ALT-DESC;FMTTYPE=text/html:<!DOCTYPE HTML PUBLIC "-//W3C//DTD HTML 3.2//E
	N">\n<HTML>\n<HEAD>\n<TITLE></TITLE>\n</HEAD>\n<BODY>\n<h3>Fluorescent Plat
	ypuses vs. Junkyard Dogs</h3>Plus d'info : <a href="https://www.golnetwork.
	com/game/v/121601/">#53</a>\n\n</BODY>\n</HTML>
STATUS:CONFIRMED
CLASS:PUBLIC
URL:https://www.golnetwork.com/game/v/121601/
X-MICROSOFT-CDO-BUSYSTATUS:BUSY
X-MICROSOFT-CDO-IMPORTANCE:1
END:VEVENT
BEGIN:VEVENT
UID:gcca2@games.golnetwork.com
LOCATION:Louis Riel #1
GEO:45.4410208;-75.5715394
CREATED:20180319T073106Z
DTSTART:20180420T000000Z
DTEND:20180420T005000Z
DTSTAMP:20260424T094114Z
SUMMARY:Feedbag vs. Ineedasub FC
DESCRIPTION:Ineedasub FC vs. FeedbagPlus d'info : #61
X-ALT-DESC;FMTTYPE=text/html:<!DOCTYPE HTML PUBLIC "-//W3C//DTD HTML 3.2//E
	N">\n<HTML>\n<HEAD>\n<TITLE></TITLE>\n</HEAD>\n<BODY>\n<h3>Ineedasub FC vs.
	 Feedbag</h3>Plus d'info : <a href="https://www.golnetwork.com/game/v/12160
	9/">#61</a>\n\n</BODY>\n</HTML>
STATUS:CONFIRMED
CLASS:PUBLIC
URL:https://www.golnetwork.com/game/v/121609/
X-MICROSOFT-CDO-BUSYSTATUS:BUSY
X-MICROSOFT-CDO-IMPORTANCE:1
END:VEVENT
BEGIN:VEVENT
UID:gce24@games.golnetwork.com
LOCATION:Louis Riel #2
GEO:45.4410208;-75.5715394
CREATED:20180423T182444Z
DTSTART:20180427T010000Z
DTEND:20180427T015000Z
DTSTAMP:20260424T094114Z
SUMMARY:Fluorescent Platypuses vs. Junkyard Dogs
DESCRIPTION:Junkyard Dogs vs. Fluorescent PlatypusesPlus d'info : #118
X-ALT-DESC;FMTTYPE=text/html:<!DOCTYPE HTML PUBLIC "-//W3C//DTD HTML 3.2//E
	N">\n<HTML>\n<HEAD>\n<TITLE></TITLE>\n</HEAD>\n<BODY>\n<h3>Junkyard Dogs vs
	. Fluorescent Platypuses</h3>Plus d'info : <a href="https://www.golnetwork.
	com/game/v/122231/">#118</a>\n\n</BODY>\n</HTML>
STATUS:CONFIRMED
CLASS:PUBLIC
URL:https://www.golnetwork.com/game/v/122231/
X-MICROSOFT-CDO-BUSYSTATUS:BUSY
X-MICROSOFT-CDO-IMPORTANCE:1
END:VEVENT
BEGIN:VEVENT
UID:gce26@games.golnetwork.com
LOCATION:Louis Riel #2
GEO:45.4410208;-75.5715394
CREATED:20180423T182455Z
DTSTART:20180427T020000Z
DTEND:20180427T025000Z
DTSTAMP:20260424T094114Z
SUMMARY:Ineedasub FC vs. TBD
DESCRIPTION:TBD vs. Ineedasub FCPlus d'info : #123
X-ALT-DESC;FMTTYPE=text/html:<!DOCTYPE HTML PUBLIC "-//W3C//DTD HTML 3.2//E
	N">\n<HTML>\n<HEAD>\n<TITLE></TITLE>\n</HEAD>\n<BODY>\n<h3>TBD vs. Ineedasu
	b FC</h3>Plus d'info : <a href="https://www.golnetwork.com/game/v/122232/">
	#123</a>\n\n</BODY>\n</HTML>
STATUS:CONFIRMED
CLASS:PUBLIC
URL:https://www.golnetwork.com/game/v/122232/
X-MICROSOFT-CDO-BUSYSTATUS:BUSY
X-MICROSOFT-CDO-IMPORTANCE:1
END:VEVENT
BEGIN:VEVENT
UID:gcf2n@games.golnetwork.com
LOCATION:Louis Riel #2
GEO:45.4410208;-75.5715394
CREATED:20180430T071704Z
DTSTART:20180503T230000Z
DTEND:20180503T235000Z
DTSTAMP:20260424T094114Z
SUMMARY:Fluorescent Platypuses vs. TBD
DESCRIPTION:TBD vs. Fluorescent PlatypusesPlus d'info : #126
X-ALT-DESC;FMTTYPE=text/html:<!DOCTYPE HTML PUBLIC "-//W3C//DTD HTML 3.2//E
	N">\n<HTML>\n<HEAD>\n<TITLE></TITLE>\n</HEAD>\n<BODY>\n<h3>TBD vs. Fluoresc
	ent Platypuses</h3>Plus d'info : <a href="https://www.golnetwork.com/game/v
	/122605/">#126</a>\n\n</BODY>\n</HTML>
STATUS:CONFIRMED
CLASS:PUBLIC
URL:https://www.golnetwork.com/game/v/122605/
X-MICROSOFT-CDO-BUSYSTATUS:BUSY
X-MICROSOFT-CDO-IMPORTANCE:1
END:VEVENT
BEGIN:VEVENT
UID:gcf3a@games.golnetwork.com
LOCATION:Louis Riel #2
GEO:45.4410208;-75.5715394
CREATED:20180430T072005Z
DTSTART:20180504T020000Z
DTEND:20180504T025000Z
DTSTAMP:20260424T094114Z
SUMMARY:Nat & The Wookies vs. Aztlan
DESCRIPTION:Aztlan vs. Nat & The WookiesPlus d'info : #137
X-ALT-DESC;FMTTYPE=text/html:<!DOCTYPE HTML PUBLIC "-//W3C//DTD HTML 3.2//E
	N">\n<HTML>\n<HEAD>\n<TITLE></TITLE>\n</HEAD>\n<BODY>\n<h3>Aztlan vs. Nat &
	 The Wookies</h3>Plus d'info : <a href="https://www.golnetwork.com/game/v/1
	22612/">#137</a>\n\n</BODY>\n</HTML>
STATUS:CONFIRMED
CLASS:PUBLIC
URL:https://www.golnetwork.com/game/v/122612/
X-MICROSOFT-CDO-BUSYSTATUS:BUSY
X-MICROSOFT-CDO-IMPORTANCE:1
END:VEVENT
BEGIN:VEVENT
UID:gcf2p@games.golnetwork.com
LOCATION:Louis Riel #3
GEO:45.4410208;-75.5715394
CREATED:20180430T071715Z
DTSTART:20180504T020000Z
DTEND:20180504T025000Z
DTSTAMP:20260424T094114Z
SUMMARY:Junkyard Dogs vs. Ineedasub FC
DESCRIPTION:Ineedasub FC vs. Junkyard DogsPlus d'info : #138
X-ALT-DESC;FMTTYPE=text/html:<!DOCTYPE HTML PUBLIC "-//W3C//DTD HTML 3.2//E
	N">\n<HTML>\n<HEAD>\n<TITLE></TITLE>\n</HEAD>\n<BODY>\n<h3>Ineedasub FC vs.
	 Junkyard Dogs</h3>Plus d'info : <a href="https://www.golnetwork.com/game/v
	/122606/">#138</a>\n\n</BODY>\n</HTML>
STATUS:CONFIRMED
CLASS:PUBLIC
URL:https://www.golnetwork.com/game/v/122606/
X-MICROSOFT-CDO-BUSYSTATUS:BUSY
X-MICROSOFT-CDO-IMPORTANCE:1
END:VEVENT
BEGIN:VEVENT
UID:gcfh4@games.golnetwork.com
LOCATION:Hornet's Nest #2
GEO:45.4428309;-75.575268
CREATED:20180507T074402Z
DTSTART:20180511T010000Z
DTEND:20180511T015000Z
DTSTAMP:20260424T094114Z
SUMMARY:TBD vs. Junkyard Dogs
DESCRIPTION:Junkyard Dogs vs. TBDPlus d'info : #146
X-ALT-DESC;FMTTYPE=text/html:<!DOCTYPE HTML PUBLIC "-//W3C//DTD HTML 3.2//E
	N">\n<HTML>\n<HEAD>\n<TITLE></TITLE>\n</HEAD>\n<BODY>\n<h3>Junkyard Dogs vs
	. TBD</h3>Plus d'info : <a href="https://www.golnetwork.com/game/v/122798/"
	>#146</a>\n\n</BODY>\n</HTML>
STATUS:CONFIRMED
CLASS:PUBLIC
URL:https://www.golnetwork.com/game/v/122798/
X-MICROSOFT-CDO-BUSYSTATUS:BUSY
X-MICROSOFT-CDO-IMPORTANCE:1
END:VEVENT
BEGIN:VEVENT
UID:gcfh6@games.golnetwork.com
LOCATION:Hornet's Nest #3
GEO:45.4428309;-75.575268
CREATED:20180507T074418Z
DTSTART:20180511T010000Z
DTEND:20180511T015000Z
DTSTAMP:20260424T094114Z
SUMMARY:Strikers vs. Fluorescent Platypuses
DESCRIPTION:Fluorescent Platypuses vs. StrikersPlus d'info : #147
X-ALT-DESC;FMTTYPE=text/html:<!DOCTYPE HTML PUBLIC "-//W3C//DTD HTML 3.2//E
	N">\n<HTML>\n<HEAD>\n<TITLE></TITLE>\n</HEAD>\n<BODY>\n<h3>Fluorescent Plat
	ypuses vs. Strikers</h3>Plus d'info : <a href="https://www.golnetwork.com/g
	ame/v/122799/">#147</a>\n\n</BODY>\n</HTML>
STATUS:CONFIRMED
CLASS:PUBLIC
URL:https://www.golnetwork.com/game/v/122799/
X-MICROSOFT-CDO-BUSYSTATUS:BUSY
X-MICROSOFT-CDO-IMPORTANCE:1
END:VEVENT
END:VCALENDAR
