BEGIN:VCALENDAR
PRODID:-//gdesolutions.com//MV Framework 1.0.0.1607 Calendar//EN
VERSION:2.0
METHOD:PUBLISH
CALSCALE:GREGORIAN
BEGIN:VEVENT
UID:gci0a@games.golnetwork.com
LOCATION:Central Tech - Field 4
CREATED:20180508T213622Z
DTSTART:20180513T220000Z
DTEND:20180513T225000Z
DTSTAMP:20260425T215714Z
SUMMARY:Curry Republic vs. XTSC Technicians
DESCRIPTION:XTSC Technicians vs. Curry RepublicPlus d'info : #28
X-ALT-DESC;FMTTYPE=text/html:<!DOCTYPE HTML PUBLIC "-//W3C//DTD HTML 3.2//E
	N">\n<HTML>\n<HEAD>\n<TITLE></TITLE>\n</HEAD>\n<BODY>\n<h3>XTSC Technicians
	 vs. Curry Republic</h3>Plus d'info : <a href="https://www.golnetwork.com/g
	ame/v/123665/">#28</a>\n\n</BODY>\n</HTML>
STATUS:CONFIRMED
CLASS:PUBLIC
URL:https://www.golnetwork.com/game/v/123665/
X-MICROSOFT-CDO-BUSYSTATUS:BUSY
X-MICROSOFT-CDO-IMPORTANCE:1
END:VEVENT
BEGIN:VEVENT
UID:gci0c@games.golnetwork.com
LOCATION:Central Tech - Field 4
CREATED:20180508T213633Z
DTSTART:20180513T230000Z
DTEND:20180513T235000Z
DTSTAMP:20260425T215714Z
SUMMARY:Tamales FC vs. Football Bandits
DESCRIPTION:Football Bandits vs. Tamales FCPlus d'info : #31
X-ALT-DESC;FMTTYPE=text/html:<!DOCTYPE HTML PUBLIC "-//W3C//DTD HTML 3.2//E
	N">\n<HTML>\n<HEAD>\n<TITLE></TITLE>\n</HEAD>\n<BODY>\n<h3>Football Bandits
	 vs. Tamales FC</h3>Plus d'info : <a href="https://www.golnetwork.com/game/
	v/123666/">#31</a>\n\n</BODY>\n</HTML>
STATUS:CONFIRMED
CLASS:PUBLIC
URL:https://www.golnetwork.com/game/v/123666/
X-MICROSOFT-CDO-BUSYSTATUS:BUSY
X-MICROSOFT-CDO-IMPORTANCE:1
END:VEVENT
BEGIN:VEVENT
UID:gci0e@games.golnetwork.com
LOCATION:Central Tech - Field 4
CREATED:20180508T213641Z
DTSTART:20180514T000000Z
DTEND:20180514T005000Z
DTSTAMP:20260425T215714Z
SUMMARY:North York City FC vs. FCB II
DESCRIPTION:FCB II vs. North York City FCPlus d'info : #34
X-ALT-DESC;FMTTYPE=text/html:<!DOCTYPE HTML PUBLIC "-//W3C//DTD HTML 3.2//E
	N">\n<HTML>\n<HEAD>\n<TITLE></TITLE>\n</HEAD>\n<BODY>\n<h3>FCB II vs. North
	 York City FC</h3>Plus d'info : <a href="https://www.golnetwork.com/game/v/
	123667/">#34</a>\n\n</BODY>\n</HTML>
STATUS:CONFIRMED
CLASS:PUBLIC
URL:https://www.golnetwork.com/game/v/123667/
X-MICROSOFT-CDO-BUSYSTATUS:BUSY
X-MICROSOFT-CDO-IMPORTANCE:1
END:VEVENT
BEGIN:VEVENT
UID:gciq2@games.golnetwork.com
LOCATION:Central Tech - Field 4
CREATED:20180514T191624Z
DTSTART:20180520T230000Z
DTEND:20180520T235000Z
DTSTAMP:20260425T215714Z
SUMMARY:Curry Republic vs. FCB II
DESCRIPTION:FCB II vs. Curry RepublicPlus d'info : #60
X-ALT-DESC;FMTTYPE=text/html:<!DOCTYPE HTML PUBLIC "-//W3C//DTD HTML 3.2//E
	N">\n<HTML>\n<HEAD>\n<TITLE></TITLE>\n</HEAD>\n<BODY>\n<h3>FCB II vs. Curry
	 Republic</h3>Plus d'info : <a href="https://www.golnetwork.com/game/v/1240
	12/">#60</a>\n\n</BODY>\n</HTML>
STATUS:CONFIRMED
CLASS:PUBLIC
URL:https://www.golnetwork.com/game/v/124012/
X-MICROSOFT-CDO-BUSYSTATUS:BUSY
X-MICROSOFT-CDO-IMPORTANCE:1
END:VEVENT
BEGIN:VEVENT
UID:gciq0@games.golnetwork.com
LOCATION:Central Tech - Field 3
CREATED:20180514T191610Z
DTSTART:20180521T000000Z
DTEND:20180521T005000Z
DTSTAMP:20260425T215714Z
SUMMARY:Tamales FC vs. North York City FC
DESCRIPTION:North York City FC vs. Tamales FCPlus d'info : #61
X-ALT-DESC;FMTTYPE=text/html:<!DOCTYPE HTML PUBLIC "-//W3C//DTD HTML 3.2//E
	N">\n<HTML>\n<HEAD>\n<TITLE></TITLE>\n</HEAD>\n<BODY>\n<h3>North York City 
	FC vs. Tamales FC</h3>Plus d'info : <a href="https://www.golnetwork.com/gam
	e/v/124011/">#61</a>\n\n</BODY>\n</HTML>
STATUS:CONFIRMED
CLASS:PUBLIC
URL:https://www.golnetwork.com/game/v/124011/
X-MICROSOFT-CDO-BUSYSTATUS:BUSY
X-MICROSOFT-CDO-IMPORTANCE:1
END:VEVENT
BEGIN:VEVENT
UID:gciq4@games.golnetwork.com
LOCATION:Central Tech - Field 3
CREATED:20180514T191636Z
DTSTART:20180521T020000Z
DTEND:20180521T025000Z
DTSTAMP:20260425T215714Z
SUMMARY:Football Bandits vs. XTSC Technicians
DESCRIPTION:XTSC Technicians vs. Football BanditsPlus d'info : #64
X-ALT-DESC;FMTTYPE=text/html:<!DOCTYPE HTML PUBLIC "-//W3C//DTD HTML 3.2//E
	N">\n<HTML>\n<HEAD>\n<TITLE></TITLE>\n</HEAD>\n<BODY>\n<h3>XTSC Technicians
	 vs. Football Bandits</h3>Plus d'info : <a href="https://www.golnetwork.com
	/game/v/124013/">#64</a>\n\n</BODY>\n</HTML>
STATUS:CONFIRMED
CLASS:PUBLIC
URL:https://www.golnetwork.com/game/v/124013/
X-MICROSOFT-CDO-BUSYSTATUS:BUSY
X-MICROSOFT-CDO-IMPORTANCE:1
END:VEVENT
BEGIN:VEVENT
UID:gcjla@games.golnetwork.com
LOCATION:Central Tech - Field 4
CREATED:20180518T154825Z
DTSTART:20180527T220000Z
DTEND:20180527T225000Z
DTSTAMP:20260425T215714Z
SUMMARY:Football Bandits vs. North York City FC
DESCRIPTION:North York City FC vs. Football BanditsPlus d'info : #84
X-ALT-DESC;FMTTYPE=text/html:<!DOCTYPE HTML PUBLIC "-//W3C//DTD HTML 3.2//E
	N">\n<HTML>\n<HEAD>\n<TITLE></TITLE>\n</HEAD>\n<BODY>\n<h3>North York City 
	FC vs. Football Bandits</h3>Plus d'info : <a href="https://www.golnetwork.c
	om/game/v/124313/">#84</a>\n\n</BODY>\n</HTML>
STATUS:CONFIRMED
CLASS:PUBLIC
URL:https://www.golnetwork.com/game/v/124313/
X-MICROSOFT-CDO-BUSYSTATUS:BUSY
X-MICROSOFT-CDO-IMPORTANCE:1
END:VEVENT
BEGIN:VEVENT
UID:gcjlc@games.golnetwork.com
LOCATION:Central Tech - Field 2
GEO:43.6637272;-79.4087613
CREATED:20180518T154833Z
DTSTART:20180528T000000Z
DTEND:20180528T005000Z
DTSTAMP:20260425T215714Z
SUMMARY:FCB II vs. XTSC Technicians
DESCRIPTION:XTSC Technicians vs. FCB IIPlus d'info : #88
X-ALT-DESC;FMTTYPE=text/html:<!DOCTYPE HTML PUBLIC "-//W3C//DTD HTML 3.2//E
	N">\n<HTML>\n<HEAD>\n<TITLE></TITLE>\n</HEAD>\n<BODY>\n<h3>XTSC Technicians
	 vs. FCB II</h3>Plus d'info : <a href="https://www.golnetwork.com/game/v/12
	4314/">#88</a>\n\n</BODY>\n</HTML>
STATUS:CONFIRMED
CLASS:PUBLIC
URL:https://www.golnetwork.com/game/v/124314/
X-MICROSOFT-CDO-BUSYSTATUS:BUSY
X-MICROSOFT-CDO-IMPORTANCE:1
END:VEVENT
BEGIN:VEVENT
UID:gcjle@games.golnetwork.com
LOCATION:Central Tech - Field 4
CREATED:20180518T154848Z
DTSTART:20180528T020000Z
DTEND:20180528T025000Z
DTSTAMP:20260425T215714Z
SUMMARY:Curry Republic vs. Tamales FC
DESCRIPTION:Tamales FC vs. Curry RepublicPlus d'info : #93
X-ALT-DESC;FMTTYPE=text/html:<!DOCTYPE HTML PUBLIC "-//W3C//DTD HTML 3.2//E
	N">\n<HTML>\n<HEAD>\n<TITLE></TITLE>\n</HEAD>\n<BODY>\n<h3>Tamales FC vs. C
	urry Republic</h3>Plus d'info : <a href="https://www.golnetwork.com/game/v/
	124315/">#93</a>\n\n</BODY>\n</HTML>
STATUS:CONFIRMED
CLASS:PUBLIC
URL:https://www.golnetwork.com/game/v/124315/
X-MICROSOFT-CDO-BUSYSTATUS:BUSY
X-MICROSOFT-CDO-IMPORTANCE:1
END:VEVENT
BEGIN:VEVENT
UID:gcjlg@games.golnetwork.com
LOCATION:Central Tech - Field 2
GEO:43.6637272;-79.4087613
CREATED:20180518T154902Z
DTSTART:20180604T000000Z
DTEND:20180604T005000Z
DTSTAMP:20260425T215714Z
SUMMARY:Football Bandits vs. Curry Republic
DESCRIPTION:Curry Republic vs. Football BanditsPlus d'info : #118
X-ALT-DESC;FMTTYPE=text/html:<!DOCTYPE HTML PUBLIC "-//W3C//DTD HTML 3.2//E
	N">\n<HTML>\n<HEAD>\n<TITLE></TITLE>\n</HEAD>\n<BODY>\n<h3>Curry Republic v
	s. Football Bandits</h3>Plus d'info : <a href="https://www.golnetwork.com/g
	ame/v/124316/">#118</a>\n\n</BODY>\n</HTML>
STATUS:CONFIRMED
CLASS:PUBLIC
URL:https://www.golnetwork.com/game/v/124316/
X-MICROSOFT-CDO-BUSYSTATUS:BUSY
X-MICROSOFT-CDO-IMPORTANCE:1
END:VEVENT
BEGIN:VEVENT
UID:gcjli@games.golnetwork.com
LOCATION:Central Tech - Field 2
GEO:43.6637272;-79.4087613
CREATED:20180518T154909Z
DTSTART:20180604T010000Z
DTEND:20180604T015000Z
DTSTAMP:20260425T215714Z
SUMMARY:FCB II vs. Tamales FC
DESCRIPTION:Tamales FC vs. FCB IIPlus d'info : #120
X-ALT-DESC;FMTTYPE=text/html:<!DOCTYPE HTML PUBLIC "-//W3C//DTD HTML 3.2//E
	N">\n<HTML>\n<HEAD>\n<TITLE></TITLE>\n</HEAD>\n<BODY>\n<h3>Tamales FC vs. F
	CB II</h3>Plus d'info : <a href="https://www.golnetwork.com/game/v/124317/"
	>#120</a>\n\n</BODY>\n</HTML>
STATUS:CONFIRMED
CLASS:PUBLIC
URL:https://www.golnetwork.com/game/v/124317/
X-MICROSOFT-CDO-BUSYSTATUS:BUSY
X-MICROSOFT-CDO-IMPORTANCE:1
END:VEVENT
BEGIN:VEVENT
UID:gcjlk@games.golnetwork.com
LOCATION:Central Tech - Field 2
GEO:43.6637272;-79.4087613
CREATED:20180518T154918Z
DTSTART:20180604T020000Z
DTEND:20180604T025000Z
DTSTAMP:20260425T215714Z
SUMMARY:XTSC Technicians vs. North York City FC
DESCRIPTION:North York City FC vs. XTSC TechniciansPlus d'info : #122
X-ALT-DESC;FMTTYPE=text/html:<!DOCTYPE HTML PUBLIC "-//W3C//DTD HTML 3.2//E
	N">\n<HTML>\n<HEAD>\n<TITLE></TITLE>\n</HEAD>\n<BODY>\n<h3>North York City 
	FC vs. XTSC Technicians</h3>Plus d'info : <a href="https://www.golnetwork.c
	om/game/v/124318/">#122</a>\n\n</BODY>\n</HTML>
STATUS:CONFIRMED
CLASS:PUBLIC
URL:https://www.golnetwork.com/game/v/124318/
X-MICROSOFT-CDO-BUSYSTATUS:BUSY
X-MICROSOFT-CDO-IMPORTANCE:1
END:VEVENT
BEGIN:VEVENT
UID:gcjlm@games.golnetwork.com
LOCATION:Central Tech - Field 3
CREATED:20180518T154930Z
DTSTART:20180610T230000Z
DTEND:20180610T235000Z
DTSTAMP:20260425T215714Z
SUMMARY:North York City FC vs. Curry Republic
DESCRIPTION:Curry Republic vs. North York City FCPlus d'info : #147
X-ALT-DESC;FMTTYPE=text/html:<!DOCTYPE HTML PUBLIC "-//W3C//DTD HTML 3.2//E
	N">\n<HTML>\n<HEAD>\n<TITLE></TITLE>\n</HEAD>\n<BODY>\n<h3>Curry Republic v
	s. North York City FC</h3>Plus d'info : <a href="https://www.golnetwork.com
	/game/v/124319/">#147</a>\n\n</BODY>\n</HTML>
STATUS:CONFIRMED
CLASS:PUBLIC
URL:https://www.golnetwork.com/game/v/124319/
X-MICROSOFT-CDO-BUSYSTATUS:BUSY
X-MICROSOFT-CDO-IMPORTANCE:1
END:VEVENT
BEGIN:VEVENT
UID:gcjlo@games.golnetwork.com
LOCATION:Central Tech - Field 4
CREATED:20180518T154942Z
DTSTART:20180611T000000Z
DTEND:20180611T005000Z
DTSTAMP:20260425T215714Z
SUMMARY:Tamales FC vs. XTSC Technicians
DESCRIPTION:XTSC Technicians vs. Tamales FCPlus d'info : #150
X-ALT-DESC;FMTTYPE=text/html:<!DOCTYPE HTML PUBLIC "-//W3C//DTD HTML 3.2//E
	N">\n<HTML>\n<HEAD>\n<TITLE></TITLE>\n</HEAD>\n<BODY>\n<h3>XTSC Technicians
	 vs. Tamales FC</h3>Plus d'info : <a href="https://www.golnetwork.com/game/
	v/124320/">#150</a>\n\n</BODY>\n</HTML>
STATUS:CONFIRMED
CLASS:PUBLIC
URL:https://www.golnetwork.com/game/v/124320/
X-MICROSOFT-CDO-BUSYSTATUS:BUSY
X-MICROSOFT-CDO-IMPORTANCE:1
END:VEVENT
BEGIN:VEVENT
UID:gcjlq@games.golnetwork.com
LOCATION:Central Tech - Field 2
GEO:43.6637272;-79.4087613
CREATED:20180518T154952Z
DTSTART:20180611T010000Z
DTEND:20180611T015000Z
DTSTAMP:20260425T215714Z
SUMMARY:FCB II vs. Football Bandits
DESCRIPTION:Football Bandits vs. FCB IIPlus d'info : #151
X-ALT-DESC;FMTTYPE=text/html:<!DOCTYPE HTML PUBLIC "-//W3C//DTD HTML 3.2//E
	N">\n<HTML>\n<HEAD>\n<TITLE></TITLE>\n</HEAD>\n<BODY>\n<h3>Football Bandits
	 vs. FCB II</h3>Plus d'info : <a href="https://www.golnetwork.com/game/v/12
	4321/">#151</a>\n\n</BODY>\n</HTML>
STATUS:CONFIRMED
CLASS:PUBLIC
URL:https://www.golnetwork.com/game/v/124321/
X-MICROSOFT-CDO-BUSYSTATUS:BUSY
X-MICROSOFT-CDO-IMPORTANCE:1
END:VEVENT
BEGIN:VEVENT
UID:gcjm1@games.golnetwork.com
LOCATION:Central Tech - Field 4
CREATED:20180518T155006Z
DTSTART:20180617T210000Z
DTEND:20180617T215000Z
DTSTAMP:20260425T215714Z
SUMMARY:Curry Republic vs. FCB II
DESCRIPTION:FCB II vs. Curry RepublicPlus d'info : #173
X-ALT-DESC;FMTTYPE=text/html:<!DOCTYPE HTML PUBLIC "-//W3C//DTD HTML 3.2//E
	N">\n<HTML>\n<HEAD>\n<TITLE></TITLE>\n</HEAD>\n<BODY>\n<h3>FCB II vs. Curry
	 Republic</h3>Plus d'info : <a href="https://www.golnetwork.com/game/v/1243
	22/">#173</a>\n\n</BODY>\n</HTML>
STATUS:CONFIRMED
CLASS:PUBLIC
URL:https://www.golnetwork.com/game/v/124322/
X-MICROSOFT-CDO-BUSYSTATUS:BUSY
X-MICROSOFT-CDO-IMPORTANCE:1
END:VEVENT
BEGIN:VEVENT
UID:gcjm3@games.golnetwork.com
LOCATION:Central Tech - Field 4
CREATED:20180518T155015Z
DTSTART:20180617T220000Z
DTEND:20180617T225000Z
DTSTAMP:20260425T215714Z
SUMMARY:Tamales FC vs. North York City FC
DESCRIPTION:North York City FC vs. Tamales FCPlus d'info : #177
X-ALT-DESC;FMTTYPE=text/html:<!DOCTYPE HTML PUBLIC "-//W3C//DTD HTML 3.2//E
	N">\n<HTML>\n<HEAD>\n<TITLE></TITLE>\n</HEAD>\n<BODY>\n<h3>North York City 
	FC vs. Tamales FC</h3>Plus d'info : <a href="https://www.golnetwork.com/gam
	e/v/124323/">#177</a>\n\n</BODY>\n</HTML>
STATUS:CONFIRMED
CLASS:PUBLIC
URL:https://www.golnetwork.com/game/v/124323/
X-MICROSOFT-CDO-BUSYSTATUS:BUSY
X-MICROSOFT-CDO-IMPORTANCE:1
END:VEVENT
BEGIN:VEVENT
UID:gcjm5@games.golnetwork.com
LOCATION:Central Tech - Field 1
GEO:43.6637272;-79.4087613
CREATED:20180518T155026Z
DTSTART:20180617T230000Z
DTEND:20180617T235000Z
DTSTAMP:20260425T215714Z
SUMMARY:Football Bandits vs. XTSC Technicians
DESCRIPTION:XTSC Technicians vs. Football BanditsPlus d'info : #178
X-ALT-DESC;FMTTYPE=text/html:<!DOCTYPE HTML PUBLIC "-//W3C//DTD HTML 3.2//E
	N">\n<HTML>\n<HEAD>\n<TITLE></TITLE>\n</HEAD>\n<BODY>\n<h3>XTSC Technicians
	 vs. Football Bandits</h3>Plus d'info : <a href="https://www.golnetwork.com
	/game/v/124324/">#178</a>\n\n</BODY>\n</HTML>
STATUS:CONFIRMED
CLASS:PUBLIC
URL:https://www.golnetwork.com/game/v/124324/
X-MICROSOFT-CDO-BUSYSTATUS:BUSY
X-MICROSOFT-CDO-IMPORTANCE:1
END:VEVENT
BEGIN:VEVENT
UID:gcjm7@games.golnetwork.com
LOCATION:Central Tech - Field 4
CREATED:20180518T155044Z
DTSTART:20180624T210000Z
DTEND:20180624T215000Z
DTSTAMP:20260425T215714Z
SUMMARY:Tamales FC vs. Football Bandits
DESCRIPTION:Football Bandits vs. Tamales FCPlus d'info : #204
X-ALT-DESC;FMTTYPE=text/html:<!DOCTYPE HTML PUBLIC "-//W3C//DTD HTML 3.2//E
	N">\n<HTML>\n<HEAD>\n<TITLE></TITLE>\n</HEAD>\n<BODY>\n<h3>Football Bandits
	 vs. Tamales FC</h3>Plus d'info : <a href="https://www.golnetwork.com/game/
	v/124325/">#204</a>\n\n</BODY>\n</HTML>
STATUS:CONFIRMED
CLASS:PUBLIC
URL:https://www.golnetwork.com/game/v/124325/
X-MICROSOFT-CDO-BUSYSTATUS:BUSY
X-MICROSOFT-CDO-IMPORTANCE:1
END:VEVENT
BEGIN:VEVENT
UID:gcjm9@games.golnetwork.com
LOCATION:Central Tech - Field 1
GEO:43.6637272;-79.4087613
CREATED:20180518T155057Z
DTSTART:20180625T010000Z
DTEND:20180625T015000Z
DTSTAMP:20260425T215714Z
SUMMARY:Curry Republic vs. XTSC Technicians
DESCRIPTION:XTSC Technicians vs. Curry RepublicPlus d'info : #210
X-ALT-DESC;FMTTYPE=text/html:<!DOCTYPE HTML PUBLIC "-//W3C//DTD HTML 3.2//E
	N">\n<HTML>\n<HEAD>\n<TITLE></TITLE>\n</HEAD>\n<BODY>\n<h3>XTSC Technicians
	 vs. Curry Republic</h3>Plus d'info : <a href="https://www.golnetwork.com/g
	ame/v/124326/">#210</a>\n\n</BODY>\n</HTML>
STATUS:CONFIRMED
CLASS:PUBLIC
URL:https://www.golnetwork.com/game/v/124326/
X-MICROSOFT-CDO-BUSYSTATUS:BUSY
X-MICROSOFT-CDO-IMPORTANCE:1
END:VEVENT
BEGIN:VEVENT
UID:gcjmb@games.golnetwork.com
LOCATION:Central Tech - Field 1
GEO:43.6637272;-79.4087613
CREATED:20180518T155111Z
DTSTART:20180625T020000Z
DTEND:20180625T025000Z
DTSTAMP:20260425T215714Z
SUMMARY:North York City FC vs. FCB II
DESCRIPTION:FCB II vs. North York City FCPlus d'info : #213
X-ALT-DESC;FMTTYPE=text/html:<!DOCTYPE HTML PUBLIC "-//W3C//DTD HTML 3.2//E
	N">\n<HTML>\n<HEAD>\n<TITLE></TITLE>\n</HEAD>\n<BODY>\n<h3>FCB II vs. North
	 York City FC</h3>Plus d'info : <a href="https://www.golnetwork.com/game/v/
	124327/">#213</a>\n\n</BODY>\n</HTML>
STATUS:CONFIRMED
CLASS:PUBLIC
URL:https://www.golnetwork.com/game/v/124327/
X-MICROSOFT-CDO-BUSYSTATUS:BUSY
X-MICROSOFT-CDO-IMPORTANCE:1
END:VEVENT
BEGIN:VEVENT
UID:gcjmf@games.golnetwork.com
LOCATION:Central Tech - Field 4
CREATED:20180518T155129Z
DTSTART:20180709T020000Z
DTEND:20180709T025000Z
DTSTAMP:20260425T215714Z
SUMMARY:XTSC Technicians vs. FCB II
DESCRIPTION:FCB II vs. XTSC TechniciansPlus d'info : #250
X-ALT-DESC;FMTTYPE=text/html:<!DOCTYPE HTML PUBLIC "-//W3C//DTD HTML 3.2//E
	N">\n<HTML>\n<HEAD>\n<TITLE></TITLE>\n</HEAD>\n<BODY>\n<h3>FCB II vs. XTSC 
	Technicians</h3>Plus d'info : <a href="https://www.golnetwork.com/game/v/12
	4329/">#250</a>\n\n</BODY>\n</HTML>
STATUS:CONFIRMED
CLASS:PUBLIC
URL:https://www.golnetwork.com/game/v/124329/
X-MICROSOFT-CDO-BUSYSTATUS:BUSY
X-MICROSOFT-CDO-IMPORTANCE:1
END:VEVENT
BEGIN:VEVENT
UID:gcjmj@games.golnetwork.com
LOCATION:Central Tech - Field 4
CREATED:20180518T155147Z
DTSTART:20180715T210000Z
DTEND:20180715T215000Z
DTSTAMP:20260425T215714Z
SUMMARY:FCB II vs. Curry Republic
DESCRIPTION:Curry Republic vs. FCB IIPlus d'info : #263
X-ALT-DESC;FMTTYPE=text/html:<!DOCTYPE HTML PUBLIC "-//W3C//DTD HTML 3.2//E
	N">\n<HTML>\n<HEAD>\n<TITLE></TITLE>\n</HEAD>\n<BODY>\n<h3>Curry Republic v
	s. FCB II</h3>Plus d'info : <a href="https://www.golnetwork.com/game/v/1243
	31/">#263</a>\n\n</BODY>\n</HTML>
STATUS:CONFIRMED
CLASS:PUBLIC
URL:https://www.golnetwork.com/game/v/124331/
X-MICROSOFT-CDO-BUSYSTATUS:BUSY
X-MICROSOFT-CDO-IMPORTANCE:1
END:VEVENT
BEGIN:VEVENT
UID:gcjmh@games.golnetwork.com
LOCATION:Central Tech - Field 4
CREATED:20180518T155141Z
DTSTART:20180716T000000Z
DTEND:20180716T005000Z
DTSTAMP:20260425T215714Z
SUMMARY:XTSC Technicians vs. Football Bandits
DESCRIPTION:Football Bandits vs. XTSC TechniciansPlus d'info : #271
X-ALT-DESC;FMTTYPE=text/html:<!DOCTYPE HTML PUBLIC "-//W3C//DTD HTML 3.2//E
	N">\n<HTML>\n<HEAD>\n<TITLE></TITLE>\n</HEAD>\n<BODY>\n<h3>Football Bandits
	 vs. XTSC Technicians</h3>Plus d'info : <a href="https://www.golnetwork.com
	/game/v/124330/">#271</a>\n\n</BODY>\n</HTML>
STATUS:CONFIRMED
CLASS:PUBLIC
URL:https://www.golnetwork.com/game/v/124330/
X-MICROSOFT-CDO-BUSYSTATUS:BUSY
X-MICROSOFT-CDO-IMPORTANCE:1
END:VEVENT
END:VCALENDAR
