BEGIN:VCALENDAR
PRODID:-//gdesolutions.com//MV Framework 1.0.0.1607 Calendar//EN
VERSION:2.0
METHOD:PUBLISH
CALSCALE:GREGORIAN
BEGIN:VEVENT
UID:gce2q@games.golnetwork.com
LOCATION:Jesse Ketchum Field
CREATED:20180424T013912Z
DTSTART:20180428T170000Z
DTEND:20180428T181500Z
DTSTAMP:20260423T020428Z
SUMMARY:Purple Flamingos vs. Ball SO Hard
DESCRIPTION:Ball SO Hard vs. Purple FlamingosPlus d'info : #1
X-ALT-DESC;FMTTYPE=text/html:<!DOCTYPE HTML PUBLIC "-//W3C//DTD HTML 3.2//E
	N">\n<HTML>\n<HEAD>\n<TITLE></TITLE>\n</HEAD>\n<BODY>\n<h3>Ball SO Hard vs.
	 Purple Flamingos</h3>Plus d'info : <a href="https://www.golnetwork.com/gam
	e/v/122242/">#1</a>\n\n</BODY>\n</HTML>
STATUS:CONFIRMED
CLASS:PUBLIC
URL:https://www.golnetwork.com/game/v/122242/
X-MICROSOFT-CDO-BUSYSTATUS:BUSY
X-MICROSOFT-CDO-IMPORTANCE:1
END:VEVENT
BEGIN:VEVENT
UID:gce0q@games.golnetwork.com
LOCATION:Jesse Ketchum Field
CREATED:20180423T165712Z
DTSTART:20180428T181500Z
DTEND:20180428T193000Z
DTSTAMP:20260423T020428Z
SUMMARY:The Orange vs.  Sporting Chance
DESCRIPTION: Sporting Chance vs. The OrangePlus d'info : #2
X-ALT-DESC;FMTTYPE=text/html:<!DOCTYPE HTML PUBLIC "-//W3C//DTD HTML 3.2//E
	N">\n<HTML>\n<HEAD>\n<TITLE></TITLE>\n</HEAD>\n<BODY>\n<h3> Sporting Chance
	 vs. The Orange</h3>Plus d'info : <a href="https://www.golnetwork.com/game/
	v/122215/">#2</a>\n\n</BODY>\n</HTML>
STATUS:CONFIRMED
CLASS:PUBLIC
URL:https://www.golnetwork.com/game/v/122215/
X-MICROSOFT-CDO-BUSYSTATUS:BUSY
X-MICROSOFT-CDO-IMPORTANCE:1
END:VEVENT
BEGIN:VEVENT
UID:gce0o@games.golnetwork.com
LOCATION:Jesse Ketchum Field
CREATED:20180423T165706Z
DTSTART:20180428T193000Z
DTEND:20180428T204500Z
DTSTAMP:20260423T020428Z
SUMMARY:PlayMakers vs. Lions de la Teranga
DESCRIPTION:Lions de la Teranga vs. PlayMakersPlus d'info : #3
X-ALT-DESC;FMTTYPE=text/html:<!DOCTYPE HTML PUBLIC "-//W3C//DTD HTML 3.2//E
	N">\n<HTML>\n<HEAD>\n<TITLE></TITLE>\n</HEAD>\n<BODY>\n<h3>Lions de la Tera
	nga vs. PlayMakers</h3>Plus d'info : <a href="https://www.golnetwork.com/ga
	me/v/122214/">#3</a>\n\n</BODY>\n</HTML>
STATUS:CONFIRMED
CLASS:PUBLIC
URL:https://www.golnetwork.com/game/v/122214/
X-MICROSOFT-CDO-BUSYSTATUS:BUSY
X-MICROSOFT-CDO-IMPORTANCE:1
END:VEVENT
BEGIN:VEVENT
UID:gcf43@games.golnetwork.com
LOCATION:Jesse Ketchum Field
CREATED:20180430T144759Z
DTSTART:20180505T160000Z
DTEND:20180505T171500Z
DTSTAMP:20260423T020428Z
SUMMARY: Sporting Chance vs. PlayMakers
DESCRIPTION:PlayMakers vs.  Sporting ChancePlus d'info : #4
X-ALT-DESC;FMTTYPE=text/html:<!DOCTYPE HTML PUBLIC "-//W3C//DTD HTML 3.2//E
	N">\n<HTML>\n<HEAD>\n<TITLE></TITLE>\n</HEAD>\n<BODY>\n<h3>PlayMakers vs.  
	Sporting Chance</h3>Plus d'info : <a href="https://www.golnetwork.com/game/
	v/122622/">#4</a>\n\n</BODY>\n</HTML>
STATUS:CONFIRMED
CLASS:PUBLIC
URL:https://www.golnetwork.com/game/v/122622/
X-MICROSOFT-CDO-BUSYSTATUS:BUSY
X-MICROSOFT-CDO-IMPORTANCE:1
END:VEVENT
BEGIN:VEVENT
UID:gcf45@games.golnetwork.com
LOCATION:Jesse Ketchum Field
CREATED:20180430T144807Z
DTSTART:20180505T171500Z
DTEND:20180505T183000Z
DTSTAMP:20260423T020428Z
SUMMARY:Lions de la Teranga vs. Purple Flamingos
DESCRIPTION:Purple Flamingos vs. Lions de la TerangaPlus d'info : #5
X-ALT-DESC;FMTTYPE=text/html:<!DOCTYPE HTML PUBLIC "-//W3C//DTD HTML 3.2//E
	N">\n<HTML>\n<HEAD>\n<TITLE></TITLE>\n</HEAD>\n<BODY>\n<h3>Purple Flamingos
	 vs. Lions de la Teranga</h3>Plus d'info : <a href="https://www.golnetwork.
	com/game/v/122623/">#5</a>\n\n</BODY>\n</HTML>
STATUS:CONFIRMED
CLASS:PUBLIC
URL:https://www.golnetwork.com/game/v/122623/
X-MICROSOFT-CDO-BUSYSTATUS:BUSY
X-MICROSOFT-CDO-IMPORTANCE:1
END:VEVENT
BEGIN:VEVENT
UID:gcf47@games.golnetwork.com
LOCATION:Jesse Ketchum Field
CREATED:20180430T144816Z
DTSTART:20180505T183000Z
DTEND:20180505T194500Z
DTSTAMP:20260423T020428Z
SUMMARY:Scooby Doo Papa vs. Purple Flamingos
DESCRIPTION:Purple Flamingos vs. Scooby Doo PapaPlus d'info : #6
X-ALT-DESC;FMTTYPE=text/html:<!DOCTYPE HTML PUBLIC "-//W3C//DTD HTML 3.2//E
	N">\n<HTML>\n<HEAD>\n<TITLE></TITLE>\n</HEAD>\n<BODY>\n<h3>Purple Flamingos
	 vs. Scooby Doo Papa</h3>Plus d'info : <a href="https://www.golnetwork.com/
	game/v/122624/">#6</a>\n\n</BODY>\n</HTML>
STATUS:CONFIRMED
CLASS:PUBLIC
URL:https://www.golnetwork.com/game/v/122624/
X-MICROSOFT-CDO-BUSYSTATUS:BUSY
X-MICROSOFT-CDO-IMPORTANCE:1
END:VEVENT
BEGIN:VEVENT
UID:gcf49@games.golnetwork.com
LOCATION:Jesse Ketchum Field
CREATED:20180430T144823Z
DTSTART:20180505T194500Z
DTEND:20180505T210000Z
DTSTAMP:20260423T020428Z
SUMMARY:Ball SO Hard vs. The Orange
DESCRIPTION:The Orange vs. Ball SO HardPlus d'info : #7
X-ALT-DESC;FMTTYPE=text/html:<!DOCTYPE HTML PUBLIC "-//W3C//DTD HTML 3.2//E
	N">\n<HTML>\n<HEAD>\n<TITLE></TITLE>\n</HEAD>\n<BODY>\n<h3>The Orange vs. B
	all SO Hard</h3>Plus d'info : <a href="https://www.golnetwork.com/game/v/12
	2625/">#7</a>\n\n</BODY>\n</HTML>
STATUS:CONFIRMED
CLASS:PUBLIC
URL:https://www.golnetwork.com/game/v/122625/
X-MICROSOFT-CDO-BUSYSTATUS:BUSY
X-MICROSOFT-CDO-IMPORTANCE:1
END:VEVENT
BEGIN:VEVENT
UID:gcf4f@games.golnetwork.com
LOCATION:Jesse Ketchum Field
CREATED:20180430T144854Z
DTSTART:20180512T160000Z
DTEND:20180512T171500Z
DTSTAMP:20260423T020428Z
SUMMARY:Purple Flamingos vs. The Orange
DESCRIPTION:The Orange vs. Purple FlamingosPlus d'info : #8
X-ALT-DESC;FMTTYPE=text/html:<!DOCTYPE HTML PUBLIC "-//W3C//DTD HTML 3.2//E
	N">\n<HTML>\n<HEAD>\n<TITLE></TITLE>\n</HEAD>\n<BODY>\n<h3>The Orange vs. P
	urple Flamingos</h3>Plus d'info : <a href="https://www.golnetwork.com/game/
	v/122628/">#8</a>\n\n</BODY>\n</HTML>
STATUS:CONFIRMED
CLASS:PUBLIC
URL:https://www.golnetwork.com/game/v/122628/
X-MICROSOFT-CDO-BUSYSTATUS:BUSY
X-MICROSOFT-CDO-IMPORTANCE:1
END:VEVENT
BEGIN:VEVENT
UID:gcf4d@games.golnetwork.com
LOCATION:Jesse Ketchum Field
CREATED:20180430T144845Z
DTSTART:20180512T171500Z
DTEND:20180512T183000Z
DTSTAMP:20260423T020428Z
SUMMARY:PlayMakers vs. Scooby Doo Papa
DESCRIPTION:Scooby Doo Papa vs. PlayMakersPlus d'info : #9
X-ALT-DESC;FMTTYPE=text/html:<!DOCTYPE HTML PUBLIC "-//W3C//DTD HTML 3.2//E
	N">\n<HTML>\n<HEAD>\n<TITLE></TITLE>\n</HEAD>\n<BODY>\n<h3>Scooby Doo Papa 
	vs. PlayMakers</h3>Plus d'info : <a href="https://www.golnetwork.com/game/v
	/122627/">#9</a>\n\n</BODY>\n</HTML>
STATUS:CONFIRMED
CLASS:PUBLIC
URL:https://www.golnetwork.com/game/v/122627/
X-MICROSOFT-CDO-BUSYSTATUS:BUSY
X-MICROSOFT-CDO-IMPORTANCE:1
END:VEVENT
BEGIN:VEVENT
UID:gcf4b@games.golnetwork.com
LOCATION:Jesse Ketchum Field
CREATED:20180430T144837Z
DTSTART:20180512T183000Z
DTEND:20180512T194500Z
DTSTAMP:20260423T020428Z
SUMMARY:Lions de la Teranga vs. Scooby Doo Papa
DESCRIPTION:Scooby Doo Papa vs. Lions de la TerangaPlus d'info : #10
X-ALT-DESC;FMTTYPE=text/html:<!DOCTYPE HTML PUBLIC "-//W3C//DTD HTML 3.2//E
	N">\n<HTML>\n<HEAD>\n<TITLE></TITLE>\n</HEAD>\n<BODY>\n<h3>Scooby Doo Papa 
	vs. Lions de la Teranga</h3>Plus d'info : <a href="https://www.golnetwork.c
	om/game/v/122626/">#10</a>\n\n</BODY>\n</HTML>
STATUS:CONFIRMED
CLASS:PUBLIC
URL:https://www.golnetwork.com/game/v/122626/
X-MICROSOFT-CDO-BUSYSTATUS:BUSY
X-MICROSOFT-CDO-IMPORTANCE:1
END:VEVENT
BEGIN:VEVENT
UID:gcf4h@games.golnetwork.com
LOCATION:Jesse Ketchum Field
CREATED:20180430T144901Z
DTSTART:20180512T194500Z
DTEND:20180512T210000Z
DTSTAMP:20260423T020428Z
SUMMARY:Ball SO Hard vs.  Sporting Chance
DESCRIPTION: Sporting Chance vs. Ball SO HardPlus d'info : #11
X-ALT-DESC;FMTTYPE=text/html:<!DOCTYPE HTML PUBLIC "-//W3C//DTD HTML 3.2//E
	N">\n<HTML>\n<HEAD>\n<TITLE></TITLE>\n</HEAD>\n<BODY>\n<h3> Sporting Chance
	 vs. Ball SO Hard</h3>Plus d'info : <a href="https://www.golnetwork.com/gam
	e/v/122629/">#11</a>\n\n</BODY>\n</HTML>
STATUS:CONFIRMED
CLASS:PUBLIC
URL:https://www.golnetwork.com/game/v/122629/
X-MICROSOFT-CDO-BUSYSTATUS:BUSY
X-MICROSOFT-CDO-IMPORTANCE:1
END:VEVENT
BEGIN:VEVENT
UID:gcf4j@games.golnetwork.com
LOCATION:Jesse Ketchum Field
CREATED:20180430T144912Z
DTSTART:20180526T160000Z
DTEND:20180526T171500Z
DTSTAMP:20260423T020428Z
SUMMARY: Sporting Chance vs. Lions de la Teranga
DESCRIPTION:Lions de la Teranga vs.  Sporting ChancePlus d'info : #12
X-ALT-DESC;FMTTYPE=text/html:<!DOCTYPE HTML PUBLIC "-//W3C//DTD HTML 3.2//E
	N">\n<HTML>\n<HEAD>\n<TITLE></TITLE>\n</HEAD>\n<BODY>\n<h3>Lions de la Tera
	nga vs.  Sporting Chance</h3>Plus d'info : <a href="https://www.golnetwork.
	com/game/v/122630/">#12</a>\n\n</BODY>\n</HTML>
STATUS:CONFIRMED
CLASS:PUBLIC
URL:https://www.golnetwork.com/game/v/122630/
X-MICROSOFT-CDO-BUSYSTATUS:BUSY
X-MICROSOFT-CDO-IMPORTANCE:1
END:VEVENT
BEGIN:VEVENT
UID:gcf4l@games.golnetwork.com
LOCATION:Jesse Ketchum Field
CREATED:20180430T144926Z
DTSTART:20180526T171500Z
DTEND:20180526T183000Z
DTSTAMP:20260423T020428Z
SUMMARY:Ball SO Hard vs. Lions de la Teranga
DESCRIPTION:Lions de la Teranga vs. Ball SO HardPlus d'info : #13
X-ALT-DESC;FMTTYPE=text/html:<!DOCTYPE HTML PUBLIC "-//W3C//DTD HTML 3.2//E
	N">\n<HTML>\n<HEAD>\n<TITLE></TITLE>\n</HEAD>\n<BODY>\n<h3>Lions de la Tera
	nga vs. Ball SO Hard</h3>Plus d'info : <a href="https://www.golnetwork.com/
	game/v/122631/">#13</a>\n\n</BODY>\n</HTML>
STATUS:CONFIRMED
CLASS:PUBLIC
URL:https://www.golnetwork.com/game/v/122631/
X-MICROSOFT-CDO-BUSYSTATUS:BUSY
X-MICROSOFT-CDO-IMPORTANCE:1
END:VEVENT
BEGIN:VEVENT
UID:gcf4n@games.golnetwork.com
LOCATION:Jesse Ketchum Field
CREATED:20180430T144938Z
DTSTART:20180526T183000Z
DTEND:20180526T194500Z
DTSTAMP:20260423T020428Z
SUMMARY:Purple Flamingos vs. PlayMakers
DESCRIPTION:PlayMakers vs. Purple FlamingosPlus d'info : #14
X-ALT-DESC;FMTTYPE=text/html:<!DOCTYPE HTML PUBLIC "-//W3C//DTD HTML 3.2//E
	N">\n<HTML>\n<HEAD>\n<TITLE></TITLE>\n</HEAD>\n<BODY>\n<h3>PlayMakers vs. P
	urple Flamingos</h3>Plus d'info : <a href="https://www.golnetwork.com/game/
	v/122632/">#14</a>\n\n</BODY>\n</HTML>
STATUS:CONFIRMED
CLASS:PUBLIC
URL:https://www.golnetwork.com/game/v/122632/
X-MICROSOFT-CDO-BUSYSTATUS:BUSY
X-MICROSOFT-CDO-IMPORTANCE:1
END:VEVENT
BEGIN:VEVENT
UID:gcf4p@games.golnetwork.com
LOCATION:Jesse Ketchum Field
CREATED:20180430T144946Z
DTSTART:20180526T194500Z
DTEND:20180526T210000Z
DTSTAMP:20260423T020428Z
SUMMARY:Scooby Doo Papa vs. The Orange
DESCRIPTION:The Orange vs. Scooby Doo PapaPlus d'info : #15
X-ALT-DESC;FMTTYPE=text/html:<!DOCTYPE HTML PUBLIC "-//W3C//DTD HTML 3.2//E
	N">\n<HTML>\n<HEAD>\n<TITLE></TITLE>\n</HEAD>\n<BODY>\n<h3>The Orange vs. S
	cooby Doo Papa</h3>Plus d'info : <a href="https://www.golnetwork.com/game/v
	/122633/">#15</a>\n\n</BODY>\n</HTML>
STATUS:CONFIRMED
CLASS:PUBLIC
URL:https://www.golnetwork.com/game/v/122633/
X-MICROSOFT-CDO-BUSYSTATUS:BUSY
X-MICROSOFT-CDO-IMPORTANCE:1
END:VEVENT
BEGIN:VEVENT
UID:gcf50@games.golnetwork.com
LOCATION:Jesse Ketchum Field
CREATED:20180430T144959Z
DTSTART:20180602T160000Z
DTEND:20180602T171500Z
DTSTAMP:20260423T020428Z
SUMMARY:Ball SO Hard vs. PlayMakers
DESCRIPTION:PlayMakers vs. Ball SO HardPlus d'info : #16
X-ALT-DESC;FMTTYPE=text/html:<!DOCTYPE HTML PUBLIC "-//W3C//DTD HTML 3.2//E
	N">\n<HTML>\n<HEAD>\n<TITLE></TITLE>\n</HEAD>\n<BODY>\n<h3>PlayMakers vs. B
	all SO Hard</h3>Plus d'info : <a href="https://www.golnetwork.com/game/v/12
	2634/">#16</a>\n\n</BODY>\n</HTML>
STATUS:CONFIRMED
CLASS:PUBLIC
URL:https://www.golnetwork.com/game/v/122634/
X-MICROSOFT-CDO-BUSYSTATUS:BUSY
X-MICROSOFT-CDO-IMPORTANCE:1
END:VEVENT
BEGIN:VEVENT
UID:gcf52@games.golnetwork.com
LOCATION:Jesse Ketchum Field
CREATED:20180430T145007Z
DTSTART:20180602T171500Z
DTEND:20180602T183000Z
DTSTAMP:20260423T020428Z
SUMMARY:The Orange vs. PlayMakers
DESCRIPTION:PlayMakers vs. The OrangePlus d'info : #17
X-ALT-DESC;FMTTYPE=text/html:<!DOCTYPE HTML PUBLIC "-//W3C//DTD HTML 3.2//E
	N">\n<HTML>\n<HEAD>\n<TITLE></TITLE>\n</HEAD>\n<BODY>\n<h3>PlayMakers vs. T
	he Orange</h3>Plus d'info : <a href="https://www.golnetwork.com/game/v/1226
	35/">#17</a>\n\n</BODY>\n</HTML>
STATUS:CONFIRMED
CLASS:PUBLIC
URL:https://www.golnetwork.com/game/v/122635/
X-MICROSOFT-CDO-BUSYSTATUS:BUSY
X-MICROSOFT-CDO-IMPORTANCE:1
END:VEVENT
BEGIN:VEVENT
UID:gcf54@games.golnetwork.com
LOCATION:Jesse Ketchum Field
CREATED:20180430T145018Z
DTSTART:20180602T183000Z
DTEND:20180602T194500Z
DTSTAMP:20260423T020428Z
SUMMARY:Scooby Doo Papa vs. Lions de la Teranga
DESCRIPTION:Lions de la Teranga vs. Scooby Doo PapaPlus d'info : #18
X-ALT-DESC;FMTTYPE=text/html:<!DOCTYPE HTML PUBLIC "-//W3C//DTD HTML 3.2//E
	N">\n<HTML>\n<HEAD>\n<TITLE></TITLE>\n</HEAD>\n<BODY>\n<h3>Lions de la Tera
	nga vs. Scooby Doo Papa</h3>Plus d'info : <a href="https://www.golnetwork.c
	om/game/v/122636/">#18</a>\n\n</BODY>\n</HTML>
STATUS:CONFIRMED
CLASS:PUBLIC
URL:https://www.golnetwork.com/game/v/122636/
X-MICROSOFT-CDO-BUSYSTATUS:BUSY
X-MICROSOFT-CDO-IMPORTANCE:1
END:VEVENT
BEGIN:VEVENT
UID:gcf56@games.golnetwork.com
LOCATION:Jesse Ketchum Field
CREATED:20180430T145025Z
DTSTART:20180602T194500Z
DTEND:20180602T210000Z
DTSTAMP:20260423T020428Z
SUMMARY: Sporting Chance vs. Purple Flamingos
DESCRIPTION:Purple Flamingos vs.  Sporting ChancePlus d'info : #19
X-ALT-DESC;FMTTYPE=text/html:<!DOCTYPE HTML PUBLIC "-//W3C//DTD HTML 3.2//E
	N">\n<HTML>\n<HEAD>\n<TITLE></TITLE>\n</HEAD>\n<BODY>\n<h3>Purple Flamingos
	 vs.  Sporting Chance</h3>Plus d'info : <a href="https://www.golnetwork.com
	/game/v/122637/">#19</a>\n\n</BODY>\n</HTML>
STATUS:CONFIRMED
CLASS:PUBLIC
URL:https://www.golnetwork.com/game/v/122637/
X-MICROSOFT-CDO-BUSYSTATUS:BUSY
X-MICROSOFT-CDO-IMPORTANCE:1
END:VEVENT
BEGIN:VEVENT
UID:gcf58@games.golnetwork.com
LOCATION:Jesse Ketchum Field
CREATED:20180430T145037Z
DTSTART:20180609T160000Z
DTEND:20180609T171500Z
DTSTAMP:20260423T020428Z
SUMMARY:Scooby Doo Papa vs.  Sporting Chance
DESCRIPTION: Sporting Chance vs. Scooby Doo PapaPlus d'info : #20
X-ALT-DESC;FMTTYPE=text/html:<!DOCTYPE HTML PUBLIC "-//W3C//DTD HTML 3.2//E
	N">\n<HTML>\n<HEAD>\n<TITLE></TITLE>\n</HEAD>\n<BODY>\n<h3> Sporting Chance
	 vs. Scooby Doo Papa</h3>Plus d'info : <a href="https://www.golnetwork.com/
	game/v/122638/">#20</a>\n\n</BODY>\n</HTML>
STATUS:CONFIRMED
CLASS:PUBLIC
URL:https://www.golnetwork.com/game/v/122638/
X-MICROSOFT-CDO-BUSYSTATUS:BUSY
X-MICROSOFT-CDO-IMPORTANCE:1
END:VEVENT
BEGIN:VEVENT
UID:gcf5a@games.golnetwork.com
LOCATION:Jesse Ketchum Field
CREATED:20180430T145046Z
DTSTART:20180609T171500Z
DTEND:20180609T183000Z
DTSTAMP:20260423T020428Z
SUMMARY:PlayMakers vs.  Sporting Chance
DESCRIPTION: Sporting Chance vs. PlayMakersPlus d'info : #21
X-ALT-DESC;FMTTYPE=text/html:<!DOCTYPE HTML PUBLIC "-//W3C//DTD HTML 3.2//E
	N">\n<HTML>\n<HEAD>\n<TITLE></TITLE>\n</HEAD>\n<BODY>\n<h3> Sporting Chance
	 vs. PlayMakers</h3>Plus d'info : <a href="https://www.golnetwork.com/game/
	v/122639/">#21</a>\n\n</BODY>\n</HTML>
STATUS:CONFIRMED
CLASS:PUBLIC
URL:https://www.golnetwork.com/game/v/122639/
X-MICROSOFT-CDO-BUSYSTATUS:BUSY
X-MICROSOFT-CDO-IMPORTANCE:1
END:VEVENT
BEGIN:VEVENT
UID:gcf5c@games.golnetwork.com
LOCATION:Jesse Ketchum Field
CREATED:20180430T145058Z
DTSTART:20180609T183000Z
DTEND:20180609T194500Z
DTSTAMP:20260423T020428Z
SUMMARY:Purple Flamingos vs. Ball SO Hard
DESCRIPTION:Ball SO Hard vs. Purple FlamingosPlus d'info : #22
X-ALT-DESC;FMTTYPE=text/html:<!DOCTYPE HTML PUBLIC "-//W3C//DTD HTML 3.2//E
	N">\n<HTML>\n<HEAD>\n<TITLE></TITLE>\n</HEAD>\n<BODY>\n<h3>Ball SO Hard vs.
	 Purple Flamingos</h3>Plus d'info : <a href="https://www.golnetwork.com/gam
	e/v/122640/">#22</a>\n\n</BODY>\n</HTML>
STATUS:CONFIRMED
CLASS:PUBLIC
URL:https://www.golnetwork.com/game/v/122640/
X-MICROSOFT-CDO-BUSYSTATUS:BUSY
X-MICROSOFT-CDO-IMPORTANCE:1
END:VEVENT
BEGIN:VEVENT
UID:gcf5e@games.golnetwork.com
LOCATION:Jesse Ketchum Field
CREATED:20180430T145106Z
DTSTART:20180609T194500Z
DTEND:20180609T210000Z
DTSTAMP:20260423T020428Z
SUMMARY:Lions de la Teranga vs. The Orange
DESCRIPTION:The Orange vs. Lions de la TerangaPlus d'info : #23
X-ALT-DESC;FMTTYPE=text/html:<!DOCTYPE HTML PUBLIC "-//W3C//DTD HTML 3.2//E
	N">\n<HTML>\n<HEAD>\n<TITLE></TITLE>\n</HEAD>\n<BODY>\n<h3>The Orange vs. L
	ions de la Teranga</h3>Plus d'info : <a href="https://www.golnetwork.com/ga
	me/v/122641/">#23</a>\n\n</BODY>\n</HTML>
STATUS:CONFIRMED
CLASS:PUBLIC
URL:https://www.golnetwork.com/game/v/122641/
X-MICROSOFT-CDO-BUSYSTATUS:BUSY
X-MICROSOFT-CDO-IMPORTANCE:1
END:VEVENT
BEGIN:VEVENT
UID:gcf5g@games.golnetwork.com
LOCATION:Jesse Ketchum Field
CREATED:20180430T145118Z
DTSTART:20180616T160000Z
DTEND:20180616T171500Z
DTSTAMP:20260423T020428Z
SUMMARY:Purple Flamingos vs. Scooby Doo Papa
DESCRIPTION:Scooby Doo Papa vs. Purple FlamingosPlus d'info : #24
X-ALT-DESC;FMTTYPE=text/html:<!DOCTYPE HTML PUBLIC "-//W3C//DTD HTML 3.2//E
	N">\n<HTML>\n<HEAD>\n<TITLE></TITLE>\n</HEAD>\n<BODY>\n<h3>Scooby Doo Papa 
	vs. Purple Flamingos</h3>Plus d'info : <a href="https://www.golnetwork.com/
	game/v/122642/">#24</a>\n\n</BODY>\n</HTML>
STATUS:CONFIRMED
CLASS:PUBLIC
URL:https://www.golnetwork.com/game/v/122642/
X-MICROSOFT-CDO-BUSYSTATUS:BUSY
X-MICROSOFT-CDO-IMPORTANCE:1
END:VEVENT
BEGIN:VEVENT
UID:gcf5i@games.golnetwork.com
LOCATION:Jesse Ketchum Field
CREATED:20180430T145130Z
DTSTART:20180616T171500Z
DTEND:20180616T183000Z
DTSTAMP:20260423T020428Z
SUMMARY:Ball SO Hard vs. Scooby Doo Papa
DESCRIPTION:Scooby Doo Papa vs. Ball SO HardPlus d'info : #25
X-ALT-DESC;FMTTYPE=text/html:<!DOCTYPE HTML PUBLIC "-//W3C//DTD HTML 3.2//E
	N">\n<HTML>\n<HEAD>\n<TITLE></TITLE>\n</HEAD>\n<BODY>\n<h3>Scooby Doo Papa 
	vs. Ball SO Hard</h3>Plus d'info : <a href="https://www.golnetwork.com/game
	/v/122643/">#25</a>\n\n</BODY>\n</HTML>
STATUS:CONFIRMED
CLASS:PUBLIC
URL:https://www.golnetwork.com/game/v/122643/
X-MICROSOFT-CDO-BUSYSTATUS:BUSY
X-MICROSOFT-CDO-IMPORTANCE:1
END:VEVENT
BEGIN:VEVENT
UID:gcf5k@games.golnetwork.com
LOCATION:Jesse Ketchum Field
CREATED:20180430T145142Z
DTSTART:20180616T183000Z
DTEND:20180616T194500Z
DTSTAMP:20260423T020428Z
SUMMARY:Ball SO Hard vs. The Orange
DESCRIPTION:The Orange vs. Ball SO HardPlus d'info : #26
X-ALT-DESC;FMTTYPE=text/html:<!DOCTYPE HTML PUBLIC "-//W3C//DTD HTML 3.2//E
	N">\n<HTML>\n<HEAD>\n<TITLE></TITLE>\n</HEAD>\n<BODY>\n<h3>The Orange vs. B
	all SO Hard</h3>Plus d'info : <a href="https://www.golnetwork.com/game/v/12
	2644/">#26</a>\n\n</BODY>\n</HTML>
STATUS:CONFIRMED
CLASS:PUBLIC
URL:https://www.golnetwork.com/game/v/122644/
X-MICROSOFT-CDO-BUSYSTATUS:BUSY
X-MICROSOFT-CDO-IMPORTANCE:1
END:VEVENT
BEGIN:VEVENT
UID:gcf5m@games.golnetwork.com
LOCATION:Jesse Ketchum Field
CREATED:20180430T145150Z
DTSTART:20180616T194500Z
DTEND:20180616T210000Z
DTSTAMP:20260423T020428Z
SUMMARY: Sporting Chance vs. The Orange
DESCRIPTION:The Orange vs.  Sporting ChancePlus d'info : #27
X-ALT-DESC;FMTTYPE=text/html:<!DOCTYPE HTML PUBLIC "-//W3C//DTD HTML 3.2//E
	N">\n<HTML>\n<HEAD>\n<TITLE></TITLE>\n</HEAD>\n<BODY>\n<h3>The Orange vs.  
	Sporting Chance</h3>Plus d'info : <a href="https://www.golnetwork.com/game/
	v/122645/">#27</a>\n\n</BODY>\n</HTML>
STATUS:CONFIRMED
CLASS:PUBLIC
URL:https://www.golnetwork.com/game/v/122645/
X-MICROSOFT-CDO-BUSYSTATUS:BUSY
X-MICROSOFT-CDO-IMPORTANCE:1
END:VEVENT
BEGIN:VEVENT
UID:gcf5o@games.golnetwork.com
LOCATION:Jesse Ketchum Field
CREATED:20180430T145200Z
DTSTART:20180616T210000Z
DTEND:20180616T221500Z
DTSTAMP:20260423T020428Z
SUMMARY:Lions de la Teranga vs. PlayMakers
DESCRIPTION:PlayMakers vs. Lions de la TerangaPlus d'info : #28
X-ALT-DESC;FMTTYPE=text/html:<!DOCTYPE HTML PUBLIC "-//W3C//DTD HTML 3.2//E
	N">\n<HTML>\n<HEAD>\n<TITLE></TITLE>\n</HEAD>\n<BODY>\n<h3>PlayMakers vs. L
	ions de la Teranga</h3>Plus d'info : <a href="https://www.golnetwork.com/ga
	me/v/122646/">#28</a>\n\n</BODY>\n</HTML>
STATUS:CONFIRMED
CLASS:PUBLIC
URL:https://www.golnetwork.com/game/v/122646/
X-MICROSOFT-CDO-BUSYSTATUS:BUSY
X-MICROSOFT-CDO-IMPORTANCE:1
END:VEVENT
BEGIN:VEVENT
UID:gcf5q@games.golnetwork.com
LOCATION:Jesse Ketchum Field
CREATED:20180430T145213Z
DTSTART:20180623T183000Z
DTEND:20180623T194500Z
DTSTAMP:20260423T020428Z
SUMMARY:Purple Flamingos vs. Scooby Doo Papa
DESCRIPTION:Scooby Doo Papa vs. Purple FlamingosPlus d'info : #30
X-ALT-DESC;FMTTYPE=text/html:<!DOCTYPE HTML PUBLIC "-//W3C//DTD HTML 3.2//E
	N">\n<HTML>\n<HEAD>\n<TITLE></TITLE>\n</HEAD>\n<BODY>\n<h3>Scooby Doo Papa 
	vs. Purple Flamingos</h3>Plus d'info : <a href="https://www.golnetwork.com/
	game/v/122647/">#30</a>\n\n</BODY>\n</HTML>
STATUS:CONFIRMED
CLASS:PUBLIC
URL:https://www.golnetwork.com/game/v/122647/
X-MICROSOFT-CDO-BUSYSTATUS:BUSY
X-MICROSOFT-CDO-IMPORTANCE:1
END:VEVENT
BEGIN:VEVENT
UID:gcf61@games.golnetwork.com
LOCATION:Jesse Ketchum Field
CREATED:20180430T145222Z
DTSTART:20180623T194500Z
DTEND:20180623T210000Z
DTSTAMP:20260423T020428Z
SUMMARY:PlayMakers vs. Scooby Doo Papa
DESCRIPTION:Scooby Doo Papa vs. PlayMakersPlus d'info : #32
X-ALT-DESC;FMTTYPE=text/html:<!DOCTYPE HTML PUBLIC "-//W3C//DTD HTML 3.2//E
	N">\n<HTML>\n<HEAD>\n<TITLE></TITLE>\n</HEAD>\n<BODY>\n<h3>Scooby Doo Papa 
	vs. PlayMakers</h3>Plus d'info : <a href="https://www.golnetwork.com/game/v
	/122648/">#32</a>\n\n</BODY>\n</HTML>
STATUS:CONFIRMED
CLASS:PUBLIC
URL:https://www.golnetwork.com/game/v/122648/
X-MICROSOFT-CDO-BUSYSTATUS:BUSY
X-MICROSOFT-CDO-IMPORTANCE:1
END:VEVENT
BEGIN:VEVENT
UID:gcf67@games.golnetwork.com
LOCATION:Jesse Ketchum Field
CREATED:20180430T145235Z
DTSTART:20180707T160000Z
DTEND:20180707T171500Z
DTSTAMP:20260423T020428Z
SUMMARY:Purple Flamingos vs. PlayMakers
DESCRIPTION:PlayMakers vs. Purple FlamingosPlus d'info : #33
X-ALT-DESC;FMTTYPE=text/html:<!DOCTYPE HTML PUBLIC "-//W3C//DTD HTML 3.2//E
	N">\n<HTML>\n<HEAD>\n<TITLE></TITLE>\n</HEAD>\n<BODY>\n<h3>PlayMakers vs. P
	urple Flamingos</h3>Plus d'info : <a href="https://www.golnetwork.com/game/
	v/122651/">#33</a>\n\n</BODY>\n</HTML>
STATUS:CONFIRMED
CLASS:PUBLIC
URL:https://www.golnetwork.com/game/v/122651/
X-MICROSOFT-CDO-BUSYSTATUS:BUSY
X-MICROSOFT-CDO-IMPORTANCE:1
END:VEVENT
BEGIN:VEVENT
UID:gcf65@games.golnetwork.com
LOCATION:Jesse Ketchum Field
CREATED:20180430T145232Z
DTSTART:20180707T183000Z
DTEND:20180707T194500Z
DTSTAMP:20260423T020428Z
SUMMARY:The Orange vs. Ball SO Hard
DESCRIPTION:Ball SO Hard vs. The OrangePlus d'info : #35
X-ALT-DESC;FMTTYPE=text/html:<!DOCTYPE HTML PUBLIC "-//W3C//DTD HTML 3.2//E
	N">\n<HTML>\n<HEAD>\n<TITLE></TITLE>\n</HEAD>\n<BODY>\n<h3>Ball SO Hard vs.
	 The Orange</h3>Plus d'info : <a href="https://www.golnetwork.com/game/v/12
	2650/">#35</a>\n\n</BODY>\n</HTML>
STATUS:CONFIRMED
CLASS:PUBLIC
URL:https://www.golnetwork.com/game/v/122650/
X-MICROSOFT-CDO-BUSYSTATUS:BUSY
X-MICROSOFT-CDO-IMPORTANCE:1
END:VEVENT
BEGIN:VEVENT
UID:gcf63@games.golnetwork.com
LOCATION:Jesse Ketchum Field
CREATED:20180430T145228Z
DTSTART:20180707T194500Z
DTEND:20180707T210000Z
DTSTAMP:20260423T020428Z
SUMMARY:Scooby Doo Papa vs. Ball SO Hard
DESCRIPTION:Ball SO Hard vs. Scooby Doo PapaPlus d'info : #36
X-ALT-DESC;FMTTYPE=text/html:<!DOCTYPE HTML PUBLIC "-//W3C//DTD HTML 3.2//E
	N">\n<HTML>\n<HEAD>\n<TITLE></TITLE>\n</HEAD>\n<BODY>\n<h3>Ball SO Hard vs.
	 Scooby Doo Papa</h3>Plus d'info : <a href="https://www.golnetwork.com/game
	/v/122649/">#36</a>\n\n</BODY>\n</HTML>
STATUS:CONFIRMED
CLASS:PUBLIC
URL:https://www.golnetwork.com/game/v/122649/
X-MICROSOFT-CDO-BUSYSTATUS:BUSY
X-MICROSOFT-CDO-IMPORTANCE:1
END:VEVENT
END:VCALENDAR
