BEGIN:VCALENDAR
PRODID:-//gdesolutions.com//MV Framework 1.0.0.1607 Calendar//EN
VERSION:2.0
METHOD:PUBLISH
CALSCALE:GREGORIAN
BEGIN:VEVENT
UID:gcipl@games.golnetwork.com
LOCATION:Central Tech - Field 4
CREATED:20180514T191507Z
DTSTART:20180514T010000Z
DTEND:20180514T015000Z
DTSTAMP:20260422T080131Z
SUMMARY:Pickle Ricks vs. Net6&Chill FC
DESCRIPTION:Net6&Chill FC vs. Pickle RicksPlus d'info : #36
X-ALT-DESC;FMTTYPE=text/html:<!DOCTYPE HTML PUBLIC "-//W3C//DTD HTML 3.2//E
	N">\n<HTML>\n<HEAD>\n<TITLE></TITLE>\n</HEAD>\n<BODY>\n<h3>Net6&Chill FC vs
	. Pickle Ricks</h3>Plus d'info : <a href="https://www.golnetwork.com/game/v
	/124008/">#36</a>\n\n</BODY>\n</HTML>
STATUS:CONFIRMED
CLASS:PUBLIC
URL:https://www.golnetwork.com/game/v/124008/
X-MICROSOFT-CDO-BUSYSTATUS:BUSY
X-MICROSOFT-CDO-IMPORTANCE:1
END:VEVENT
BEGIN:VEVENT
UID:gcipn@games.golnetwork.com
LOCATION:Central Tech - Field 2
GEO:43.6637272;-79.4087613
CREATED:20180514T191517Z
DTSTART:20180514T020000Z
DTEND:20180514T025000Z
DTSTAMP:20260422T080131Z
SUMMARY:Fahrenheit FC vs. Spadeena Academy
DESCRIPTION:Spadeena Academy vs. Fahrenheit FCPlus d'info : #38
X-ALT-DESC;FMTTYPE=text/html:<!DOCTYPE HTML PUBLIC "-//W3C//DTD HTML 3.2//E
	N">\n<HTML>\n<HEAD>\n<TITLE></TITLE>\n</HEAD>\n<BODY>\n<h3>Spadeena Academy
	 vs. Fahrenheit FC</h3>Plus d'info : <a href="https://www.golnetwork.com/ga
	me/v/124009/">#38</a>\n\n</BODY>\n</HTML>
STATUS:CONFIRMED
CLASS:PUBLIC
URL:https://www.golnetwork.com/game/v/124009/
X-MICROSOFT-CDO-BUSYSTATUS:BUSY
X-MICROSOFT-CDO-IMPORTANCE:1
END:VEVENT
BEGIN:VEVENT
UID:gcipp@games.golnetwork.com
LOCATION:Central Tech - Field 4
CREATED:20180514T191523Z
DTSTART:20180514T020000Z
DTEND:20180514T025000Z
DTSTAMP:20260422T080131Z
SUMMARY:Pickle Ricks vs. Harambae FC
DESCRIPTION:Harambae FC vs. Pickle RicksPlus d'info : #39
X-ALT-DESC;FMTTYPE=text/html:<!DOCTYPE HTML PUBLIC "-//W3C//DTD HTML 3.2//E
	N">\n<HTML>\n<HEAD>\n<TITLE></TITLE>\n</HEAD>\n<BODY>\n<h3>Harambae FC vs. 
	Pickle Ricks</h3>Plus d'info : <a href="https://www.golnetwork.com/game/v/1
	24010/">#39</a>\n\n</BODY>\n</HTML>
STATUS:CONFIRMED
CLASS:PUBLIC
URL:https://www.golnetwork.com/game/v/124010/
X-MICROSOFT-CDO-BUSYSTATUS:BUSY
X-MICROSOFT-CDO-IMPORTANCE:1
END:VEVENT
BEGIN:VEVENT
UID:gciq6@games.golnetwork.com
LOCATION:Central Tech - Field 3
CREATED:20180514T191706Z
DTSTART:20180520T210000Z
DTEND:20180520T215000Z
DTSTAMP:20260422T080131Z
SUMMARY:Harambae FC vs. Net6&Chill FC
DESCRIPTION:Net6&Chill FC vs. Harambae FCPlus d'info : #55
X-ALT-DESC;FMTTYPE=text/html:<!DOCTYPE HTML PUBLIC "-//W3C//DTD HTML 3.2//E
	N">\n<HTML>\n<HEAD>\n<TITLE></TITLE>\n</HEAD>\n<BODY>\n<h3>Net6&Chill FC vs
	. Harambae FC</h3>Plus d'info : <a href="https://www.golnetwork.com/game/v/
	124014/">#55</a>\n\n</BODY>\n</HTML>
STATUS:CONFIRMED
CLASS:PUBLIC
URL:https://www.golnetwork.com/game/v/124014/
X-MICROSOFT-CDO-BUSYSTATUS:BUSY
X-MICROSOFT-CDO-IMPORTANCE:1
END:VEVENT
BEGIN:VEVENT
UID:gciq8@games.golnetwork.com
LOCATION:Central Tech - Field 3
CREATED:20180514T191718Z
DTSTART:20180520T220000Z
DTEND:20180520T225000Z
DTSTAMP:20260422T080131Z
SUMMARY:Fahrenheit FC vs. Net6&Chill FC
DESCRIPTION:Net6&Chill FC vs. Fahrenheit FCPlus d'info : #57
X-ALT-DESC;FMTTYPE=text/html:<!DOCTYPE HTML PUBLIC "-//W3C//DTD HTML 3.2//E
	N">\n<HTML>\n<HEAD>\n<TITLE></TITLE>\n</HEAD>\n<BODY>\n<h3>Net6&Chill FC vs
	. Fahrenheit FC</h3>Plus d'info : <a href="https://www.golnetwork.com/game/
	v/124015/">#57</a>\n\n</BODY>\n</HTML>
STATUS:CONFIRMED
CLASS:PUBLIC
URL:https://www.golnetwork.com/game/v/124015/
X-MICROSOFT-CDO-BUSYSTATUS:BUSY
X-MICROSOFT-CDO-IMPORTANCE:1
END:VEVENT
BEGIN:VEVENT
UID:gciqa@games.golnetwork.com
LOCATION:Central Tech - Field 3
CREATED:20180514T191733Z
DTSTART:20180520T230000Z
DTEND:20180520T235000Z
DTSTAMP:20260422T080131Z
SUMMARY:Pickle Ricks vs. Spadeena Academy
DESCRIPTION:Spadeena Academy vs. Pickle RicksPlus d'info : #59
X-ALT-DESC;FMTTYPE=text/html:<!DOCTYPE HTML PUBLIC "-//W3C//DTD HTML 3.2//E
	N">\n<HTML>\n<HEAD>\n<TITLE></TITLE>\n</HEAD>\n<BODY>\n<h3>Spadeena Academy
	 vs. Pickle Ricks</h3>Plus d'info : <a href="https://www.golnetwork.com/gam
	e/v/124016/">#59</a>\n\n</BODY>\n</HTML>
STATUS:CONFIRMED
CLASS:PUBLIC
URL:https://www.golnetwork.com/game/v/124016/
X-MICROSOFT-CDO-BUSYSTATUS:BUSY
X-MICROSOFT-CDO-IMPORTANCE:1
END:VEVENT
BEGIN:VEVENT
UID:gcjk1@games.golnetwork.com
LOCATION:Central Tech - Field 3
CREATED:20180518T150638Z
DTSTART:20180528T000000Z
DTEND:20180528T005000Z
DTSTAMP:20260422T080131Z
SUMMARY:Net6&Chill FC vs. Spadeena Academy
DESCRIPTION:Spadeena Academy vs. Net6&Chill FCPlus d'info : #89
X-ALT-DESC;FMTTYPE=text/html:<!DOCTYPE HTML PUBLIC "-//W3C//DTD HTML 3.2//E
	N">\n<HTML>\n<HEAD>\n<TITLE></TITLE>\n</HEAD>\n<BODY>\n<h3>Spadeena Academy
	 vs. Net6&Chill FC</h3>Plus d'info : <a href="https://www.golnetwork.com/ga
	me/v/124295/">#89</a>\n\n</BODY>\n</HTML>
STATUS:CONFIRMED
CLASS:PUBLIC
URL:https://www.golnetwork.com/game/v/124295/
X-MICROSOFT-CDO-BUSYSTATUS:BUSY
X-MICROSOFT-CDO-IMPORTANCE:1
END:VEVENT
BEGIN:VEVENT
UID:gcjjq@games.golnetwork.com
LOCATION:Central Tech - Field 4
CREATED:20180518T150629Z
DTSTART:20180528T000000Z
DTEND:20180528T005000Z
DTSTAMP:20260422T080131Z
SUMMARY:Fahrenheit FC vs. Pickle Ricks
DESCRIPTION:Pickle Ricks vs. Fahrenheit FCPlus d'info : #90
X-ALT-DESC;FMTTYPE=text/html:<!DOCTYPE HTML PUBLIC "-//W3C//DTD HTML 3.2//E
	N">\n<HTML>\n<HEAD>\n<TITLE></TITLE>\n</HEAD>\n<BODY>\n<h3>Pickle Ricks vs.
	 Fahrenheit FC</h3>Plus d'info : <a href="https://www.golnetwork.com/game/v
	/124294/">#90</a>\n\n</BODY>\n</HTML>
STATUS:CONFIRMED
CLASS:PUBLIC
URL:https://www.golnetwork.com/game/v/124294/
X-MICROSOFT-CDO-BUSYSTATUS:BUSY
X-MICROSOFT-CDO-IMPORTANCE:1
END:VEVENT
BEGIN:VEVENT
UID:gcjk3@games.golnetwork.com
LOCATION:Central Tech - Field 3
CREATED:20180518T150648Z
DTSTART:20180528T010000Z
DTEND:20180528T015000Z
DTSTAMP:20260422T080131Z
SUMMARY:Harambae FC vs. Spadeena Academy
DESCRIPTION:Spadeena Academy vs. Harambae FCPlus d'info : #91
X-ALT-DESC;FMTTYPE=text/html:<!DOCTYPE HTML PUBLIC "-//W3C//DTD HTML 3.2//E
	N">\n<HTML>\n<HEAD>\n<TITLE></TITLE>\n</HEAD>\n<BODY>\n<h3>Spadeena Academy
	 vs. Harambae FC</h3>Plus d'info : <a href="https://www.golnetwork.com/game
	/v/124296/">#91</a>\n\n</BODY>\n</HTML>
STATUS:CONFIRMED
CLASS:PUBLIC
URL:https://www.golnetwork.com/game/v/124296/
X-MICROSOFT-CDO-BUSYSTATUS:BUSY
X-MICROSOFT-CDO-IMPORTANCE:1
END:VEVENT
BEGIN:VEVENT
UID:gcjk5@games.golnetwork.com
LOCATION:Central Tech - Field 4
CREATED:20180518T150701Z
DTSTART:20180603T230000Z
DTEND:20180603T235000Z
DTSTAMP:20260422T080131Z
SUMMARY:Harambae FC vs. Fahrenheit FC
DESCRIPTION:Fahrenheit FC vs. Harambae FCPlus d'info : #117
X-ALT-DESC;FMTTYPE=text/html:<!DOCTYPE HTML PUBLIC "-//W3C//DTD HTML 3.2//E
	N">\n<HTML>\n<HEAD>\n<TITLE></TITLE>\n</HEAD>\n<BODY>\n<h3>Fahrenheit FC vs
	. Harambae FC</h3>Plus d'info : <a href="https://www.golnetwork.com/game/v/
	124297/">#117</a>\n\n</BODY>\n</HTML>
STATUS:CONFIRMED
CLASS:PUBLIC
URL:https://www.golnetwork.com/game/v/124297/
X-MICROSOFT-CDO-BUSYSTATUS:BUSY
X-MICROSOFT-CDO-IMPORTANCE:1
END:VEVENT
BEGIN:VEVENT
UID:gcjk7@games.golnetwork.com
LOCATION:Central Tech - Field 4
CREATED:20180518T150709Z
DTSTART:20180604T000000Z
DTEND:20180604T005000Z
DTSTAMP:20260422T080131Z
SUMMARY:Spadeena Academy vs. Fahrenheit FC
DESCRIPTION:Fahrenheit FC vs. Spadeena AcademyPlus d'info : #119
X-ALT-DESC;FMTTYPE=text/html:<!DOCTYPE HTML PUBLIC "-//W3C//DTD HTML 3.2//E
	N">\n<HTML>\n<HEAD>\n<TITLE></TITLE>\n</HEAD>\n<BODY>\n<h3>Fahrenheit FC vs
	. Spadeena Academy</h3>Plus d'info : <a href="https://www.golnetwork.com/ga
	me/v/124298/">#119</a>\n\n</BODY>\n</HTML>
STATUS:CONFIRMED
CLASS:PUBLIC
URL:https://www.golnetwork.com/game/v/124298/
X-MICROSOFT-CDO-BUSYSTATUS:BUSY
X-MICROSOFT-CDO-IMPORTANCE:1
END:VEVENT
BEGIN:VEVENT
UID:gcjk9@games.golnetwork.com
LOCATION:Central Tech - Field 4
CREATED:20180518T150719Z
DTSTART:20180604T010000Z
DTEND:20180604T015000Z
DTSTAMP:20260422T080131Z
SUMMARY:Net6&Chill FC vs. Pickle Ricks
DESCRIPTION:Pickle Ricks vs. Net6&Chill FCPlus d'info : #121
X-ALT-DESC;FMTTYPE=text/html:<!DOCTYPE HTML PUBLIC "-//W3C//DTD HTML 3.2//E
	N">\n<HTML>\n<HEAD>\n<TITLE></TITLE>\n</HEAD>\n<BODY>\n<h3>Pickle Ricks vs.
	 Net6&Chill FC</h3>Plus d'info : <a href="https://www.golnetwork.com/game/v
	/124299/">#121</a>\n\n</BODY>\n</HTML>
STATUS:CONFIRMED
CLASS:PUBLIC
URL:https://www.golnetwork.com/game/v/124299/
X-MICROSOFT-CDO-BUSYSTATUS:BUSY
X-MICROSOFT-CDO-IMPORTANCE:1
END:VEVENT
BEGIN:VEVENT
UID:gcjkb@games.golnetwork.com
LOCATION:Central Tech - Field 4
CREATED:20180518T150730Z
DTSTART:20180610T210000Z
DTEND:20180610T215000Z
DTSTAMP:20260422T080131Z
SUMMARY:Pickle Ricks vs. Fahrenheit FC
DESCRIPTION:Fahrenheit FC vs. Pickle RicksPlus d'info : #142
X-ALT-DESC;FMTTYPE=text/html:<!DOCTYPE HTML PUBLIC "-//W3C//DTD HTML 3.2//E
	N">\n<HTML>\n<HEAD>\n<TITLE></TITLE>\n</HEAD>\n<BODY>\n<h3>Fahrenheit FC vs
	. Pickle Ricks</h3>Plus d'info : <a href="https://www.golnetwork.com/game/v
	/124300/">#142</a>\n\n</BODY>\n</HTML>
STATUS:CONFIRMED
CLASS:PUBLIC
URL:https://www.golnetwork.com/game/v/124300/
X-MICROSOFT-CDO-BUSYSTATUS:BUSY
X-MICROSOFT-CDO-IMPORTANCE:1
END:VEVENT
BEGIN:VEVENT
UID:gcjkd@games.golnetwork.com
LOCATION:Central Tech - Field 4
CREATED:20180518T150740Z
DTSTART:20180610T220000Z
DTEND:20180610T225000Z
DTSTAMP:20260422T080131Z
SUMMARY:Harambae FC vs. Spadeena Academy
DESCRIPTION:Spadeena Academy vs. Harambae FCPlus d'info : #146
X-ALT-DESC;FMTTYPE=text/html:<!DOCTYPE HTML PUBLIC "-//W3C//DTD HTML 3.2//E
	N">\n<HTML>\n<HEAD>\n<TITLE></TITLE>\n</HEAD>\n<BODY>\n<h3>Spadeena Academy
	 vs. Harambae FC</h3>Plus d'info : <a href="https://www.golnetwork.com/game
	/v/124301/">#146</a>\n\n</BODY>\n</HTML>
STATUS:CONFIRMED
CLASS:PUBLIC
URL:https://www.golnetwork.com/game/v/124301/
X-MICROSOFT-CDO-BUSYSTATUS:BUSY
X-MICROSOFT-CDO-IMPORTANCE:1
END:VEVENT
BEGIN:VEVENT
UID:gcjkf@games.golnetwork.com
LOCATION:Central Tech - Field 4
CREATED:20180518T150749Z
DTSTART:20180610T230000Z
DTEND:20180610T235000Z
DTSTAMP:20260422T080131Z
SUMMARY:Harambae FC vs. Net6&Chill FC
DESCRIPTION:Net6&Chill FC vs. Harambae FCPlus d'info : #148
X-ALT-DESC;FMTTYPE=text/html:<!DOCTYPE HTML PUBLIC "-//W3C//DTD HTML 3.2//E
	N">\n<HTML>\n<HEAD>\n<TITLE></TITLE>\n</HEAD>\n<BODY>\n<h3>Net6&Chill FC vs
	. Harambae FC</h3>Plus d'info : <a href="https://www.golnetwork.com/game/v/
	124302/">#148</a>\n\n</BODY>\n</HTML>
STATUS:CONFIRMED
CLASS:PUBLIC
URL:https://www.golnetwork.com/game/v/124302/
X-MICROSOFT-CDO-BUSYSTATUS:BUSY
X-MICROSOFT-CDO-IMPORTANCE:1
END:VEVENT
BEGIN:VEVENT
UID:gcjkh@games.golnetwork.com
LOCATION:Central Tech - Field 4
CREATED:20180518T150802Z
DTSTART:20180618T010000Z
DTEND:20180618T015000Z
DTSTAMP:20260422T080131Z
SUMMARY:Spadeena Academy vs. Harambae FC
DESCRIPTION:Harambae FC vs. Spadeena AcademyPlus d'info : #182
X-ALT-DESC;FMTTYPE=text/html:<!DOCTYPE HTML PUBLIC "-//W3C//DTD HTML 3.2//E
	N">\n<HTML>\n<HEAD>\n<TITLE></TITLE>\n</HEAD>\n<BODY>\n<h3>Harambae FC vs. 
	Spadeena Academy</h3>Plus d'info : <a href="https://www.golnetwork.com/game
	/v/124303/">#182</a>\n\n</BODY>\n</HTML>
STATUS:CONFIRMED
CLASS:PUBLIC
URL:https://www.golnetwork.com/game/v/124303/
X-MICROSOFT-CDO-BUSYSTATUS:BUSY
X-MICROSOFT-CDO-IMPORTANCE:1
END:VEVENT
BEGIN:VEVENT
UID:gcjkj@games.golnetwork.com
LOCATION:Central Tech - Field 3
CREATED:20180518T150811Z
DTSTART:20180618T020000Z
DTEND:20180618T025000Z
DTSTAMP:20260422T080131Z
SUMMARY:Fahrenheit FC vs. Net6&Chill FC
DESCRIPTION:Net6&Chill FC vs. Fahrenheit FCPlus d'info : #183
X-ALT-DESC;FMTTYPE=text/html:<!DOCTYPE HTML PUBLIC "-//W3C//DTD HTML 3.2//E
	N">\n<HTML>\n<HEAD>\n<TITLE></TITLE>\n</HEAD>\n<BODY>\n<h3>Net6&Chill FC vs
	. Fahrenheit FC</h3>Plus d'info : <a href="https://www.golnetwork.com/game/
	v/124304/">#183</a>\n\n</BODY>\n</HTML>
STATUS:CONFIRMED
CLASS:PUBLIC
URL:https://www.golnetwork.com/game/v/124304/
X-MICROSOFT-CDO-BUSYSTATUS:BUSY
X-MICROSOFT-CDO-IMPORTANCE:1
END:VEVENT
BEGIN:VEVENT
UID:gcjkl@games.golnetwork.com
LOCATION:Central Tech - Field 4
CREATED:20180518T150819Z
DTSTART:20180618T020000Z
DTEND:20180618T025000Z
DTSTAMP:20260422T080131Z
SUMMARY:Pickle Ricks vs. Harambae FC
DESCRIPTION:Harambae FC vs. Pickle RicksPlus d'info : #184
X-ALT-DESC;FMTTYPE=text/html:<!DOCTYPE HTML PUBLIC "-//W3C//DTD HTML 3.2//E
	N">\n<HTML>\n<HEAD>\n<TITLE></TITLE>\n</HEAD>\n<BODY>\n<h3>Harambae FC vs. 
	Pickle Ricks</h3>Plus d'info : <a href="https://www.golnetwork.com/game/v/1
	24305/">#184</a>\n\n</BODY>\n</HTML>
STATUS:CONFIRMED
CLASS:PUBLIC
URL:https://www.golnetwork.com/game/v/124305/
X-MICROSOFT-CDO-BUSYSTATUS:BUSY
X-MICROSOFT-CDO-IMPORTANCE:1
END:VEVENT
BEGIN:VEVENT
UID:gcjkn@games.golnetwork.com
LOCATION:Central Tech - Field 2
GEO:43.6637272;-79.4087613
CREATED:20180518T150834Z
DTSTART:20180709T020000Z
DTEND:20180709T025000Z
DTSTAMP:20260422T080131Z
SUMMARY:Harambae FC vs. Pickle Ricks
DESCRIPTION:Pickle Ricks vs. Harambae FCPlus d'info : #248
X-ALT-DESC;FMTTYPE=text/html:<!DOCTYPE HTML PUBLIC "-//W3C//DTD HTML 3.2//E
	N">\n<HTML>\n<HEAD>\n<TITLE></TITLE>\n</HEAD>\n<BODY>\n<h3>Pickle Ricks vs.
	 Harambae FC</h3>Plus d'info : <a href="https://www.golnetwork.com/game/v/1
	24306/">#248</a>\n\n</BODY>\n</HTML>
STATUS:CONFIRMED
CLASS:PUBLIC
URL:https://www.golnetwork.com/game/v/124306/
X-MICROSOFT-CDO-BUSYSTATUS:BUSY
X-MICROSOFT-CDO-IMPORTANCE:1
END:VEVENT
BEGIN:VEVENT
UID:gcjl2@games.golnetwork.com
LOCATION:Central Tech - Field 2
GEO:43.6637272;-79.4087613
CREATED:20180518T151013Z
DTSTART:20180716T010000Z
DTEND:20180716T015000Z
DTSTAMP:20260422T080131Z
SUMMARY:Pickle Ricks vs. Net6&Chill FC
DESCRIPTION:Net6&Chill FC vs. Pickle RicksPlus d'info : #272
X-ALT-DESC;FMTTYPE=text/html:<!DOCTYPE HTML PUBLIC "-//W3C//DTD HTML 3.2//E
	N">\n<HTML>\n<HEAD>\n<TITLE></TITLE>\n</HEAD>\n<BODY>\n<h3>Net6&Chill FC vs
	. Pickle Ricks</h3>Plus d'info : <a href="https://www.golnetwork.com/game/v
	/124309/">#272</a>\n\n</BODY>\n</HTML>
STATUS:CONFIRMED
CLASS:PUBLIC
URL:https://www.golnetwork.com/game/v/124309/
X-MICROSOFT-CDO-BUSYSTATUS:BUSY
X-MICROSOFT-CDO-IMPORTANCE:1
END:VEVENT
BEGIN:VEVENT
UID:gcjl0@games.golnetwork.com
LOCATION:Central Tech - Field 2
GEO:43.6637272;-79.4087613
CREATED:20180518T151010Z
DTSTART:20180716T020000Z
DTEND:20180716T025000Z
DTSTAMP:20260422T080131Z
SUMMARY:Harambae FC vs. Net6&Chill FC
DESCRIPTION:Net6&Chill FC vs. Harambae FCPlus d'info : #274
X-ALT-DESC;FMTTYPE=text/html:<!DOCTYPE HTML PUBLIC "-//W3C//DTD HTML 3.2//E
	N">\n<HTML>\n<HEAD>\n<TITLE></TITLE>\n</HEAD>\n<BODY>\n<h3>Net6&Chill FC vs
	. Harambae FC</h3>Plus d'info : <a href="https://www.golnetwork.com/game/v/
	124308/">#274</a>\n\n</BODY>\n</HTML>
STATUS:CONFIRMED
CLASS:PUBLIC
URL:https://www.golnetwork.com/game/v/124308/
X-MICROSOFT-CDO-BUSYSTATUS:BUSY
X-MICROSOFT-CDO-IMPORTANCE:1
END:VEVENT
END:VCALENDAR
