BEGIN:VCALENDAR
PRODID:-//gdesolutions.com//MV Framework 1.0.0.1607 Calendar//EN
VERSION:2.0
METHOD:PUBLISH
CALSCALE:GREGORIAN
BEGIN:VEVENT
UID:gcq51@games.golnetwork.com
LOCATION:St Patrick - Field 4
CREATED:20180723T214039Z
DTSTART:20180904T000000Z
DTEND:20180904T010000Z
DTSTAMP:20260421T060435Z
SUMMARY:Les Foufounes vs. Mortchester City
DESCRIPTION:Mortchester City vs. Les FoufounesPlus d'info : #579
X-ALT-DESC;FMTTYPE=text/html:<!DOCTYPE HTML PUBLIC "-//W3C//DTD HTML 3.2//E
	N">\n<HTML>\n<HEAD>\n<TITLE></TITLE>\n</HEAD>\n<BODY>\n<h3>Mortchester City
	 vs. Les Foufounes</h3>Plus d'info : <a href="https://www.golnetwork.com/ga
	me/v/126644/">#579</a>\n\n</BODY>\n</HTML>
STATUS:CONFIRMED
CLASS:PUBLIC
URL:https://www.golnetwork.com/game/v/126644/
X-MICROSOFT-CDO-BUSYSTATUS:BUSY
X-MICROSOFT-CDO-IMPORTANCE:1
END:VEVENT
BEGIN:VEVENT
UID:gcq53@games.golnetwork.com
LOCATION:St Patrick - Field 4
CREATED:20180723T214039Z
DTSTART:20180904T010000Z
DTEND:20180904T020000Z
DTSTAMP:20260421T060435Z
SUMMARY:Net Six and Chill vs. More Salah'd
DESCRIPTION:More Salah'd vs. Net Six and ChillPlus d'info : #583
X-ALT-DESC;FMTTYPE=text/html:<!DOCTYPE HTML PUBLIC "-//W3C//DTD HTML 3.2//E
	N">\n<HTML>\n<HEAD>\n<TITLE></TITLE>\n</HEAD>\n<BODY>\n<h3>More Salah'd vs.
	 Net Six and Chill</h3>Plus d'info : <a href="https://www.golnetwork.com/ga
	me/v/126645/">#583</a>\n\n</BODY>\n</HTML>
STATUS:CONFIRMED
CLASS:PUBLIC
URL:https://www.golnetwork.com/game/v/126645/
X-MICROSOFT-CDO-BUSYSTATUS:BUSY
X-MICROSOFT-CDO-IMPORTANCE:1
END:VEVENT
BEGIN:VEVENT
UID:gcq55@games.golnetwork.com
LOCATION:St Patrick - Field 4
CREATED:20180723T214039Z
DTSTART:20180911T020000Z
DTEND:20180911T030000Z
DTSTAMP:20260421T060435Z
SUMMARY:More Salah'd vs. Mortchester City
DESCRIPTION:Mortchester City vs. More Salah'dPlus d'info : #650
X-ALT-DESC;FMTTYPE=text/html:<!DOCTYPE HTML PUBLIC "-//W3C//DTD HTML 3.2//E
	N">\n<HTML>\n<HEAD>\n<TITLE></TITLE>\n</HEAD>\n<BODY>\n<h3>Mortchester City
	 vs. More Salah'd</h3>Plus d'info : <a href="https://www.golnetwork.com/gam
	e/v/126646/">#650</a>\n\n</BODY>\n</HTML>
STATUS:CONFIRMED
CLASS:PUBLIC
URL:https://www.golnetwork.com/game/v/126646/
X-MICROSOFT-CDO-BUSYSTATUS:BUSY
X-MICROSOFT-CDO-IMPORTANCE:1
END:VEVENT
END:VCALENDAR
