BEGIN:VCALENDAR
PRODID:-//gdesolutions.com//MV Framework 1.0.0.1607 Calendar//EN
VERSION:2.0
METHOD:PUBLISH
CALSCALE:GREGORIAN
BEGIN:VEVENT
UID:gcp18@games.golnetwork.com
LOCATION:Lamport Stadium - Field 2
GEO:43.6390028;-79.4232104
CREATED:20180709T164426Z
DTSTART:20180818T000000Z
DTEND:20180818T010000Z
DTSTAMP:20260420T223358Z
SUMMARY:Penya Blaugrana Toronto vs.  Drama Queens
DESCRIPTION: Drama Queens vs. Penya Blaugrana TorontoPlus d'info : #429
X-ALT-DESC;FMTTYPE=text/html:<!DOCTYPE HTML PUBLIC "-//W3C//DTD HTML 3.2//E
	N">\n<HTML>\n<HEAD>\n<TITLE></TITLE>\n</HEAD>\n<BODY>\n<h3> Drama Queens vs
	. Penya Blaugrana Toronto</h3>Plus d'info : <a href="https://www.golnetwork
	.com/game/v/126229/">#429</a>\n\n</BODY>\n</HTML>
STATUS:CONFIRMED
CLASS:PUBLIC
URL:https://www.golnetwork.com/game/v/126229/
X-MICROSOFT-CDO-BUSYSTATUS:BUSY
X-MICROSOFT-CDO-IMPORTANCE:1
END:VEVENT
BEGIN:VEVENT
UID:gcp16@games.golnetwork.com
LOCATION:Lamport Stadium - Field 3
GEO:43.6390028;-79.4232104
CREATED:20180709T164426Z
DTSTART:20180818T000000Z
DTEND:20180818T010000Z
DTSTAMP:20260420T223358Z
SUMMARY:Sweeties FC vs. Olifanten FC
DESCRIPTION:Olifanten FC vs. Sweeties FCPlus d'info : #430
X-ALT-DESC;FMTTYPE=text/html:<!DOCTYPE HTML PUBLIC "-//W3C//DTD HTML 3.2//E
	N">\n<HTML>\n<HEAD>\n<TITLE></TITLE>\n</HEAD>\n<BODY>\n<h3>Olifanten FC vs.
	 Sweeties FC</h3>Plus d'info : <a href="https://www.golnetwork.com/game/v/1
	26228/">#430</a>\n\n</BODY>\n</HTML>
STATUS:CONFIRMED
CLASS:PUBLIC
URL:https://www.golnetwork.com/game/v/126228/
X-MICROSOFT-CDO-BUSYSTATUS:BUSY
X-MICROSOFT-CDO-IMPORTANCE:1
END:VEVENT
BEGIN:VEVENT
UID:gcp1a@games.golnetwork.com
LOCATION:Lamport Stadium - Field 3
GEO:43.6390028;-79.4232104
CREATED:20180709T164426Z
DTSTART:20180825T000000Z
DTEND:20180825T010000Z
DTSTAMP:20260420T223358Z
SUMMARY: Drama Queens vs. Olifanten FC
DESCRIPTION:Olifanten FC vs.  Drama QueensPlus d'info : #512
X-ALT-DESC;FMTTYPE=text/html:<!DOCTYPE HTML PUBLIC "-//W3C//DTD HTML 3.2//E
	N">\n<HTML>\n<HEAD>\n<TITLE></TITLE>\n</HEAD>\n<BODY>\n<h3>Olifanten FC vs.
	  Drama Queens</h3>Plus d'info : <a href="https://www.golnetwork.com/game/v
	/126230/">#512</a>\n\n</BODY>\n</HTML>
STATUS:CONFIRMED
CLASS:PUBLIC
URL:https://www.golnetwork.com/game/v/126230/
X-MICROSOFT-CDO-BUSYSTATUS:BUSY
X-MICROSOFT-CDO-IMPORTANCE:1
END:VEVENT
END:VCALENDAR
