BEGIN:VCALENDAR
PRODID:-//gdesolutions.com//MV Framework 1.0.0.1607 Calendar//EN
VERSION:2.0
METHOD:PUBLISH
CALSCALE:GREGORIAN
BEGIN:VEVENT
UID:gcnnm@games.golnetwork.com
LOCATION:Central Tech - Field 4
CREATED:20180628T184245Z
DTSTART:20180815T232000Z
DTEND:20180816T002000Z
DTSTAMP:20260422T193450Z
SUMMARY:I Am Batman FC vs. All City FC
DESCRIPTION:All City FC vs. I Am Batman FCPlus d'info : #408
X-ALT-DESC;FMTTYPE=text/html:<!DOCTYPE HTML PUBLIC "-//W3C//DTD HTML 3.2//E
	N">\n<HTML>\n<HEAD>\n<TITLE></TITLE>\n</HEAD>\n<BODY>\n<h3>All City FC vs. 
	I Am Batman FC</h3>Plus d'info : <a href="https://www.golnetwork.com/game/v
	/125804/">#408</a>\n\n</BODY>\n</HTML>
STATUS:CONFIRMED
CLASS:PUBLIC
URL:https://www.golnetwork.com/game/v/125804/
X-MICROSOFT-CDO-BUSYSTATUS:BUSY
X-MICROSOFT-CDO-IMPORTANCE:1
END:VEVENT
BEGIN:VEVENT
UID:gcnno@games.golnetwork.com
LOCATION:Central Tech - Field 4
CREATED:20180628T184245Z
DTSTART:20180816T001500Z
DTEND:20180816T011500Z
DTSTAMP:20260422T193450Z
SUMMARY:Papa Barone & the Good Time Gang vs. Massey College
DESCRIPTION:Massey College vs. Papa Barone & the Good Time GangPlus d'info 
	: #410
X-ALT-DESC;FMTTYPE=text/html:<!DOCTYPE HTML PUBLIC "-//W3C//DTD HTML 3.2//E
	N">\n<HTML>\n<HEAD>\n<TITLE></TITLE>\n</HEAD>\n<BODY>\n<h3>Massey College v
	s. Papa Barone & the Good Time Gang</h3>Plus d'info : <a href="https://www.
	golnetwork.com/game/v/125805/">#410</a>\n\n</BODY>\n</HTML>
STATUS:CONFIRMED
CLASS:PUBLIC
URL:https://www.golnetwork.com/game/v/125805/
X-MICROSOFT-CDO-BUSYSTATUS:BUSY
X-MICROSOFT-CDO-IMPORTANCE:1
END:VEVENT
BEGIN:VEVENT
UID:gcnnq@games.golnetwork.com
LOCATION:Central Tech - Field 4
CREATED:20180628T184245Z
DTSTART:20180822T232000Z
DTEND:20180823T002000Z
DTSTAMP:20260422T193450Z
SUMMARY:Papa Barone & the Good Time Gang vs. All City FC
DESCRIPTION:All City FC vs. Papa Barone & the Good Time GangPlus d'info : #
	492
X-ALT-DESC;FMTTYPE=text/html:<!DOCTYPE HTML PUBLIC "-//W3C//DTD HTML 3.2//E
	N">\n<HTML>\n<HEAD>\n<TITLE></TITLE>\n</HEAD>\n<BODY>\n<h3>All City FC vs. 
	Papa Barone & the Good Time Gang</h3>Plus d'info : <a href="https://www.gol
	network.com/game/v/125806/">#492</a>\n\n</BODY>\n</HTML>
STATUS:CONFIRMED
CLASS:PUBLIC
URL:https://www.golnetwork.com/game/v/125806/
X-MICROSOFT-CDO-BUSYSTATUS:BUSY
X-MICROSOFT-CDO-IMPORTANCE:1
END:VEVENT
END:VCALENDAR
