BEGIN:VCALENDAR
PRODID:-//gdesolutions.com//MV Framework 1.0.0.1607 Calendar//EN
VERSION:2.0
METHOD:PUBLISH
CALSCALE:GREGORIAN
BEGIN:VEVENT
UID:gd17f@games.golnetwork.com
LOCATION:Cherry Beach West 2
CREATED:20180808T193243Z
DTSTART:20181012T010000Z
DTEND:20181012T020000Z
DTSTAMP:20260421T080614Z
SUMMARY:Purpletrators vs. Toon Squad
DESCRIPTION:Toon Squad vs. PurpletratorsPlus d'info : #803
X-ALT-DESC;FMTTYPE=text/html:<!DOCTYPE HTML PUBLIC "-//W3C//DTD HTML 3.2//E
	N">\n<HTML>\n<HEAD>\n<TITLE></TITLE>\n</HEAD>\n<BODY>\n<h3>Toon Squad vs. P
	urpletrators</h3>Plus d'info : <a href="https://www.golnetwork.com/game/v/1
	27407/">#803</a>\n\n</BODY>\n</HTML>
STATUS:CONFIRMED
CLASS:PUBLIC
URL:https://www.golnetwork.com/game/v/127407/
X-MICROSOFT-CDO-BUSYSTATUS:BUSY
X-MICROSOFT-CDO-IMPORTANCE:1
END:VEVENT
BEGIN:VEVENT
UID:gd17d@games.golnetwork.com
LOCATION:Cherry Beach West 3
CREATED:20180808T193243Z
DTSTART:20181012T010000Z
DTEND:20181012T020000Z
DTSTAMP:20260421T080614Z
SUMMARY:XTSC Balls Full of Cherries vs. Fake Madrid
DESCRIPTION:Fake Madrid vs. XTSC Balls Full of CherriesPlus d'info : #804
X-ALT-DESC;FMTTYPE=text/html:<!DOCTYPE HTML PUBLIC "-//W3C//DTD HTML 3.2//E
	N">\n<HTML>\n<HEAD>\n<TITLE></TITLE>\n</HEAD>\n<BODY>\n<h3>Fake Madrid vs. 
	XTSC Balls Full of Cherries</h3>Plus d'info : <a href="https://www.golnetwo
	rk.com/game/v/127406/">#804</a>\n\n</BODY>\n</HTML>
STATUS:CONFIRMED
CLASS:PUBLIC
URL:https://www.golnetwork.com/game/v/127406/
X-MICROSOFT-CDO-BUSYSTATUS:BUSY
X-MICROSOFT-CDO-IMPORTANCE:1
END:VEVENT
BEGIN:VEVENT
UID:gd17h@games.golnetwork.com
LOCATION:Cherry Beach West 3
CREATED:20180808T193243Z
DTSTART:20181019T010000Z
DTEND:20181019T020000Z
DTSTAMP:20260421T080614Z
SUMMARY:Toon Squad vs. Fake Madrid
DESCRIPTION:Fake Madrid vs. Toon SquadPlus d'info : #829
X-ALT-DESC;FMTTYPE=text/html:<!DOCTYPE HTML PUBLIC "-//W3C//DTD HTML 3.2//E
	N">\n<HTML>\n<HEAD>\n<TITLE></TITLE>\n</HEAD>\n<BODY>\n<h3>Fake Madrid vs. 
	Toon Squad</h3>Plus d'info : <a href="https://www.golnetwork.com/game/v/127
	408/">#829</a>\n\n</BODY>\n</HTML>
STATUS:CONFIRMED
CLASS:PUBLIC
URL:https://www.golnetwork.com/game/v/127408/
X-MICROSOFT-CDO-BUSYSTATUS:BUSY
X-MICROSOFT-CDO-IMPORTANCE:1
END:VEVENT
END:VCALENDAR
