BEGIN:VCALENDAR
PRODID:-//gdesolutions.com//MV Framework 1.0.0.1607 Calendar//EN
VERSION:2.0
METHOD:PUBLISH
CALSCALE:GREGORIAN
BEGIN:VEVENT
UID:gcnof@games.golnetwork.com
LOCATION:Lamport Stadium - Field 3
GEO:43.6390028;-79.4232104
CREATED:20180629T170307Z
DTSTART:20180707T000000Z
DTEND:20180707T010000Z
DTSTAMP:20260419T134844Z
SUMMARY:Sweeties FC vs. Ball Handlers
DESCRIPTION:Ball Handlers vs. Sweeties FCPlus d'info : #52
X-ALT-DESC;FMTTYPE=text/html:<!DOCTYPE HTML PUBLIC "-//W3C//DTD HTML 3.2//E
	N">\n<HTML>\n<HEAD>\n<TITLE></TITLE>\n</HEAD>\n<BODY>\n<h3>Ball Handlers vs
	. Sweeties FC</h3>Plus d'info : <a href="https://www.golnetwork.com/game/v/
	125814/">#52</a>\n\n</BODY>\n</HTML>
STATUS:CONFIRMED
CLASS:PUBLIC
URL:https://www.golnetwork.com/game/v/125814/
X-MICROSOFT-CDO-BUSYSTATUS:BUSY
X-MICROSOFT-CDO-IMPORTANCE:1
END:VEVENT
BEGIN:VEVENT
UID:gcnod@games.golnetwork.com
LOCATION:Lamport Stadium - Field 3
GEO:43.6390028;-79.4232104
CREATED:20180629T170250Z
DTSTART:20180707T010000Z
DTEND:20180707T020000Z
DTSTAMP:20260419T134844Z
SUMMARY:Sweeties FC vs. FC Shooters
DESCRIPTION:FC Shooters vs. Sweeties FCPlus d'info : #53
X-ALT-DESC;FMTTYPE=text/html:<!DOCTYPE HTML PUBLIC "-//W3C//DTD HTML 3.2//E
	N">\n<HTML>\n<HEAD>\n<TITLE></TITLE>\n</HEAD>\n<BODY>\n<h3>FC Shooters vs. 
	Sweeties FC</h3>Plus d'info : <a href="https://www.golnetwork.com/game/v/12
	5813/">#53</a>\n\n</BODY>\n</HTML>
STATUS:CONFIRMED
CLASS:PUBLIC
URL:https://www.golnetwork.com/game/v/125813/
X-MICROSOFT-CDO-BUSYSTATUS:BUSY
X-MICROSOFT-CDO-IMPORTANCE:1
END:VEVENT
BEGIN:VEVENT
UID:gcnoh@games.golnetwork.com
LOCATION:Lamport Stadium - Field 2
GEO:43.6390028;-79.4232104
CREATED:20180629T170315Z
DTSTART:20180707T020000Z
DTEND:20180707T030000Z
DTSTAMP:20260419T134844Z
SUMMARY: Drama Queens vs. Olifanten FC
DESCRIPTION:Olifanten FC vs.  Drama QueensPlus d'info : #54
X-ALT-DESC;FMTTYPE=text/html:<!DOCTYPE HTML PUBLIC "-//W3C//DTD HTML 3.2//E
	N">\n<HTML>\n<HEAD>\n<TITLE></TITLE>\n</HEAD>\n<BODY>\n<h3>Olifanten FC vs.
	  Drama Queens</h3>Plus d'info : <a href="https://www.golnetwork.com/game/v
	/125815/">#54</a>\n\n</BODY>\n</HTML>
STATUS:CONFIRMED
CLASS:PUBLIC
URL:https://www.golnetwork.com/game/v/125815/
X-MICROSOFT-CDO-BUSYSTATUS:BUSY
X-MICROSOFT-CDO-IMPORTANCE:1
END:VEVENT
BEGIN:VEVENT
UID:gcnob@games.golnetwork.com
LOCATION:Lamport Stadium - Field 3
GEO:43.6390028;-79.4232104
CREATED:20180629T170226Z
DTSTART:20180707T020000Z
DTEND:20180707T030000Z
DTSTAMP:20260419T134844Z
SUMMARY:We Wear Black 4 vs. VersaPay
DESCRIPTION:VersaPay vs. We Wear Black 4Plus d'info : #55
X-ALT-DESC;FMTTYPE=text/html:<!DOCTYPE HTML PUBLIC "-//W3C//DTD HTML 3.2//E
	N">\n<HTML>\n<HEAD>\n<TITLE></TITLE>\n</HEAD>\n<BODY>\n<h3>VersaPay vs. We 
	Wear Black 4</h3>Plus d'info : <a href="https://www.golnetwork.com/game/v/1
	25812/">#55</a>\n\n</BODY>\n</HTML>
STATUS:CONFIRMED
CLASS:PUBLIC
URL:https://www.golnetwork.com/game/v/125812/
X-MICROSOFT-CDO-BUSYSTATUS:BUSY
X-MICROSOFT-CDO-IMPORTANCE:1
END:VEVENT
BEGIN:VEVENT
UID:gcoq8@games.golnetwork.com
LOCATION:Lamport Stadium - Field 3
GEO:43.6390028;-79.4232104
CREATED:20180709T162938Z
DTSTART:20180714T000000Z
DTEND:20180714T010000Z
DTSTAMP:20260419T134844Z
SUMMARY:Olifanten FC vs. We Wear Black 4
DESCRIPTION:We Wear Black 4 vs. Olifanten FCPlus d'info : #81
X-ALT-DESC;FMTTYPE=text/html:<!DOCTYPE HTML PUBLIC "-//W3C//DTD HTML 3.2//E
	N">\n<HTML>\n<HEAD>\n<TITLE></TITLE>\n</HEAD>\n<BODY>\n<h3>We Wear Black 4 
	vs. Olifanten FC</h3>Plus d'info : <a href="https://www.golnetwork.com/game
	/v/126202/">#81</a>\n\n</BODY>\n</HTML>
STATUS:CONFIRMED
CLASS:PUBLIC
URL:https://www.golnetwork.com/game/v/126202/
X-MICROSOFT-CDO-BUSYSTATUS:BUSY
X-MICROSOFT-CDO-IMPORTANCE:1
END:VEVENT
BEGIN:VEVENT
UID:gcp4d@games.golnetwork.com
LOCATION:Lamport Stadium - Field 3
GEO:43.6390028;-79.4232104
CREATED:20180711T021556Z
DTSTART:20180714T010000Z
DTEND:20180714T020000Z
DTSTAMP:20260419T134844Z
SUMMARY:Penya Blaugrana Toronto vs. Ball Handlers
DESCRIPTION:Ball Handlers vs. Penya Blaugrana TorontoPlus d'info : #82
X-ALT-DESC;FMTTYPE=text/html:<!DOCTYPE HTML PUBLIC "-//W3C//DTD HTML 3.2//E
	N">\n<HTML>\n<HEAD>\n<TITLE></TITLE>\n</HEAD>\n<BODY>\n<h3>Ball Handlers vs
	. Penya Blaugrana Toronto</h3>Plus d'info : <a href="https://www.golnetwork
	.com/game/v/126272/">#82</a>\n\n</BODY>\n</HTML>
STATUS:CONFIRMED
CLASS:PUBLIC
URL:https://www.golnetwork.com/game/v/126272/
X-MICROSOFT-CDO-BUSYSTATUS:BUSY
X-MICROSOFT-CDO-IMPORTANCE:1
END:VEVENT
BEGIN:VEVENT
UID:gcoqa@games.golnetwork.com
LOCATION:Lamport Stadium - Field 1
GEO:43.6390028;-79.4232104
CREATED:20180709T162949Z
DTSTART:20180714T020000Z
DTEND:20180714T030000Z
DTSTAMP:20260419T134844Z
SUMMARY:VersaPay vs. Ball Handlers
DESCRIPTION:Ball Handlers vs. VersaPayPlus d'info : #83
X-ALT-DESC;FMTTYPE=text/html:<!DOCTYPE HTML PUBLIC "-//W3C//DTD HTML 3.2//E
	N">\n<HTML>\n<HEAD>\n<TITLE></TITLE>\n</HEAD>\n<BODY>\n<h3>Ball Handlers vs
	. VersaPay</h3>Plus d'info : <a href="https://www.golnetwork.com/game/v/126
	203/">#83</a>\n\n</BODY>\n</HTML>
STATUS:CONFIRMED
CLASS:PUBLIC
URL:https://www.golnetwork.com/game/v/126203/
X-MICROSOFT-CDO-BUSYSTATUS:BUSY
X-MICROSOFT-CDO-IMPORTANCE:1
END:VEVENT
BEGIN:VEVENT
UID:gcoqc@games.golnetwork.com
LOCATION:Lamport Stadium - Field 2
GEO:43.6390028;-79.4232104
CREATED:20180709T163001Z
DTSTART:20180714T020000Z
DTEND:20180714T030000Z
DTSTAMP:20260419T134844Z
SUMMARY:Penya Blaugrana Toronto vs. FC Shooters
DESCRIPTION:FC Shooters vs. Penya Blaugrana TorontoPlus d'info : #84
X-ALT-DESC;FMTTYPE=text/html:<!DOCTYPE HTML PUBLIC "-//W3C//DTD HTML 3.2//E
	N">\n<HTML>\n<HEAD>\n<TITLE></TITLE>\n</HEAD>\n<BODY>\n<h3>FC Shooters vs. 
	Penya Blaugrana Toronto</h3>Plus d'info : <a href="https://www.golnetwork.c
	om/game/v/126204/">#84</a>\n\n</BODY>\n</HTML>
STATUS:CONFIRMED
CLASS:PUBLIC
URL:https://www.golnetwork.com/game/v/126204/
X-MICROSOFT-CDO-BUSYSTATUS:BUSY
X-MICROSOFT-CDO-IMPORTANCE:1
END:VEVENT
BEGIN:VEVENT
UID:gcoqe@games.golnetwork.com
LOCATION:Lamport Stadium - Field 3
GEO:43.6390028;-79.4232104
CREATED:20180709T163008Z
DTSTART:20180714T020000Z
DTEND:20180714T030000Z
DTSTAMP:20260419T134844Z
SUMMARY:Sweeties FC vs.  Drama Queens
DESCRIPTION: Drama Queens vs. Sweeties FCPlus d'info : #85
X-ALT-DESC;FMTTYPE=text/html:<!DOCTYPE HTML PUBLIC "-//W3C//DTD HTML 3.2//E
	N">\n<HTML>\n<HEAD>\n<TITLE></TITLE>\n</HEAD>\n<BODY>\n<h3> Drama Queens vs
	. Sweeties FC</h3>Plus d'info : <a href="https://www.golnetwork.com/game/v/
	126205/">#85</a>\n\n</BODY>\n</HTML>
STATUS:CONFIRMED
CLASS:PUBLIC
URL:https://www.golnetwork.com/game/v/126205/
X-MICROSOFT-CDO-BUSYSTATUS:BUSY
X-MICROSOFT-CDO-IMPORTANCE:1
END:VEVENT
BEGIN:VEVENT
UID:gcoqg@games.golnetwork.com
LOCATION:Lamport Stadium - Field 3
GEO:43.6390028;-79.4232104
CREATED:20180709T163245Z
DTSTART:20180721T000000Z
DTEND:20180721T010000Z
DTSTAMP:20260419T134844Z
SUMMARY:Penya Blaugrana Toronto vs. VersaPay
DESCRIPTION:VersaPay vs. Penya Blaugrana TorontoPlus d'info : #126
X-ALT-DESC;FMTTYPE=text/html:<!DOCTYPE HTML PUBLIC "-//W3C//DTD HTML 3.2//E
	N">\n<HTML>\n<HEAD>\n<TITLE></TITLE>\n</HEAD>\n<BODY>\n<h3>VersaPay vs. Pen
	ya Blaugrana Toronto</h3>Plus d'info : <a href="https://www.golnetwork.com/
	game/v/126206/">#126</a>\n\n</BODY>\n</HTML>
STATUS:CONFIRMED
CLASS:PUBLIC
URL:https://www.golnetwork.com/game/v/126206/
X-MICROSOFT-CDO-BUSYSTATUS:BUSY
X-MICROSOFT-CDO-IMPORTANCE:1
END:VEVENT
BEGIN:VEVENT
UID:gcoqi@games.golnetwork.com
LOCATION:Lamport Stadium - Field 2
GEO:43.6390028;-79.4232104
CREATED:20180709T163255Z
DTSTART:20180721T010000Z
DTEND:20180721T020000Z
DTSTAMP:20260419T134844Z
SUMMARY:Penya Blaugrana Toronto vs. We Wear Black 4
DESCRIPTION:We Wear Black 4 vs. Penya Blaugrana TorontoPlus d'info : #127
X-ALT-DESC;FMTTYPE=text/html:<!DOCTYPE HTML PUBLIC "-//W3C//DTD HTML 3.2//E
	N">\n<HTML>\n<HEAD>\n<TITLE></TITLE>\n</HEAD>\n<BODY>\n<h3>We Wear Black 4 
	vs. Penya Blaugrana Toronto</h3>Plus d'info : <a href="https://www.golnetwo
	rk.com/game/v/126207/">#127</a>\n\n</BODY>\n</HTML>
STATUS:CONFIRMED
CLASS:PUBLIC
URL:https://www.golnetwork.com/game/v/126207/
X-MICROSOFT-CDO-BUSYSTATUS:BUSY
X-MICROSOFT-CDO-IMPORTANCE:1
END:VEVENT
BEGIN:VEVENT
UID:gcoqk@games.golnetwork.com
LOCATION:Lamport Stadium - Field 3
GEO:43.6390028;-79.4232104
CREATED:20180709T163304Z
DTSTART:20180721T010000Z
DTEND:20180721T020000Z
DTSTAMP:20260419T134844Z
SUMMARY: Drama Queens vs. FC Shooters
DESCRIPTION:FC Shooters vs.  Drama QueensPlus d'info : #128
X-ALT-DESC;FMTTYPE=text/html:<!DOCTYPE HTML PUBLIC "-//W3C//DTD HTML 3.2//E
	N">\n<HTML>\n<HEAD>\n<TITLE></TITLE>\n</HEAD>\n<BODY>\n<h3>FC Shooters vs. 
	 Drama Queens</h3>Plus d'info : <a href="https://www.golnetwork.com/game/v/
	126208/">#128</a>\n\n</BODY>\n</HTML>
STATUS:CONFIRMED
CLASS:PUBLIC
URL:https://www.golnetwork.com/game/v/126208/
X-MICROSOFT-CDO-BUSYSTATUS:BUSY
X-MICROSOFT-CDO-IMPORTANCE:1
END:VEVENT
BEGIN:VEVENT
UID:gcp4f@games.golnetwork.com
LOCATION:Lamport Stadium - Field 1
GEO:43.6390028;-79.4232104
CREATED:20180711T021751Z
DTSTART:20180721T020000Z
DTEND:20180721T030000Z
DTSTAMP:20260419T134844Z
SUMMARY:Olifanten FC vs. Ball Handlers
DESCRIPTION:Ball Handlers vs. Olifanten FCPlus d'info : #129
X-ALT-DESC;FMTTYPE=text/html:<!DOCTYPE HTML PUBLIC "-//W3C//DTD HTML 3.2//E
	N">\n<HTML>\n<HEAD>\n<TITLE></TITLE>\n</HEAD>\n<BODY>\n<h3>Ball Handlers vs
	. Olifanten FC</h3>Plus d'info : <a href="https://www.golnetwork.com/game/v
	/126273/">#129</a>\n\n</BODY>\n</HTML>
STATUS:CONFIRMED
CLASS:PUBLIC
URL:https://www.golnetwork.com/game/v/126273/
X-MICROSOFT-CDO-BUSYSTATUS:BUSY
X-MICROSOFT-CDO-IMPORTANCE:1
END:VEVENT
BEGIN:VEVENT
UID:gcoqm@games.golnetwork.com
LOCATION:Lamport Stadium - Field 3
GEO:43.6390028;-79.4232104
CREATED:20180709T163312Z
DTSTART:20180721T020000Z
DTEND:20180721T030000Z
DTSTAMP:20260419T134844Z
SUMMARY:Sweeties FC vs. We Wear Black 4
DESCRIPTION:We Wear Black 4 vs. Sweeties FCPlus d'info : #130
X-ALT-DESC;FMTTYPE=text/html:<!DOCTYPE HTML PUBLIC "-//W3C//DTD HTML 3.2//E
	N">\n<HTML>\n<HEAD>\n<TITLE></TITLE>\n</HEAD>\n<BODY>\n<h3>We Wear Black 4 
	vs. Sweeties FC</h3>Plus d'info : <a href="https://www.golnetwork.com/game/
	v/126209/">#130</a>\n\n</BODY>\n</HTML>
STATUS:CONFIRMED
CLASS:PUBLIC
URL:https://www.golnetwork.com/game/v/126209/
X-MICROSOFT-CDO-BUSYSTATUS:BUSY
X-MICROSOFT-CDO-IMPORTANCE:1
END:VEVENT
BEGIN:VEVENT
UID:gcp01@games.golnetwork.com
LOCATION:Lamport Stadium - Field 2
GEO:43.6390028;-79.4232104
CREATED:20180709T164115Z
DTSTART:20180728T000000Z
DTEND:20180728T010000Z
DTSTAMP:20260419T134844Z
SUMMARY: Drama Queens vs. Ball Handlers
DESCRIPTION:Ball Handlers vs.  Drama QueensPlus d'info : #192
X-ALT-DESC;FMTTYPE=text/html:<!DOCTYPE HTML PUBLIC "-//W3C//DTD HTML 3.2//E
	N">\n<HTML>\n<HEAD>\n<TITLE></TITLE>\n</HEAD>\n<BODY>\n<h3>Ball Handlers vs
	.  Drama Queens</h3>Plus d'info : <a href="https://www.golnetwork.com/game/
	v/126212/">#192</a>\n\n</BODY>\n</HTML>
STATUS:CONFIRMED
CLASS:PUBLIC
URL:https://www.golnetwork.com/game/v/126212/
X-MICROSOFT-CDO-BUSYSTATUS:BUSY
X-MICROSOFT-CDO-IMPORTANCE:1
END:VEVENT
BEGIN:VEVENT
UID:gcoqo@games.golnetwork.com
LOCATION:Lamport Stadium - Field 3
GEO:43.6390028;-79.4232104
CREATED:20180709T164055Z
DTSTART:20180728T000000Z
DTEND:20180728T010000Z
DTSTAMP:20260419T134844Z
SUMMARY:Penya Blaugrana Toronto vs. Olifanten FC
DESCRIPTION:Olifanten FC vs. Penya Blaugrana TorontoPlus d'info : #193
X-ALT-DESC;FMTTYPE=text/html:<!DOCTYPE HTML PUBLIC "-//W3C//DTD HTML 3.2//E
	N">\n<HTML>\n<HEAD>\n<TITLE></TITLE>\n</HEAD>\n<BODY>\n<h3>Olifanten FC vs.
	 Penya Blaugrana Toronto</h3>Plus d'info : <a href="https://www.golnetwork.
	com/game/v/126210/">#193</a>\n\n</BODY>\n</HTML>
STATUS:CONFIRMED
CLASS:PUBLIC
URL:https://www.golnetwork.com/game/v/126210/
X-MICROSOFT-CDO-BUSYSTATUS:BUSY
X-MICROSOFT-CDO-IMPORTANCE:1
END:VEVENT
BEGIN:VEVENT
UID:gcoqq@games.golnetwork.com
LOCATION:Lamport Stadium - Field 3
GEO:43.6390028;-79.4232104
CREATED:20180709T164104Z
DTSTART:20180728T010000Z
DTEND:20180728T020000Z
DTSTAMP:20260419T134844Z
SUMMARY:Sweeties FC vs. VersaPay
DESCRIPTION:VersaPay vs. Sweeties FCPlus d'info : #194
X-ALT-DESC;FMTTYPE=text/html:<!DOCTYPE HTML PUBLIC "-//W3C//DTD HTML 3.2//E
	N">\n<HTML>\n<HEAD>\n<TITLE></TITLE>\n</HEAD>\n<BODY>\n<h3>VersaPay vs. Swe
	eties FC</h3>Plus d'info : <a href="https://www.golnetwork.com/game/v/12621
	1/">#194</a>\n\n</BODY>\n</HTML>
STATUS:CONFIRMED
CLASS:PUBLIC
URL:https://www.golnetwork.com/game/v/126211/
X-MICROSOFT-CDO-BUSYSTATUS:BUSY
X-MICROSOFT-CDO-IMPORTANCE:1
END:VEVENT
BEGIN:VEVENT
UID:gcp03@games.golnetwork.com
LOCATION:Lamport Stadium - Field 3
GEO:43.6390028;-79.4232104
CREATED:20180709T164123Z
DTSTART:20180728T020000Z
DTEND:20180728T030000Z
DTSTAMP:20260419T134844Z
SUMMARY:FC Shooters vs. We Wear Black 4
DESCRIPTION:We Wear Black 4 vs. FC ShootersPlus d'info : #195
X-ALT-DESC;FMTTYPE=text/html:<!DOCTYPE HTML PUBLIC "-//W3C//DTD HTML 3.2//E
	N">\n<HTML>\n<HEAD>\n<TITLE></TITLE>\n</HEAD>\n<BODY>\n<h3>We Wear Black 4 
	vs. FC Shooters</h3>Plus d'info : <a href="https://www.golnetwork.com/game/
	v/126213/">#195</a>\n\n</BODY>\n</HTML>
STATUS:CONFIRMED
CLASS:PUBLIC
URL:https://www.golnetwork.com/game/v/126213/
X-MICROSOFT-CDO-BUSYSTATUS:BUSY
X-MICROSOFT-CDO-IMPORTANCE:1
END:VEVENT
BEGIN:VEVENT
UID:gcp07@games.golnetwork.com
LOCATION:Lamport Stadium - Field 1
GEO:43.6390028;-79.4232104
CREATED:20180709T164144Z
DTSTART:20180811T000000Z
DTEND:20180811T010000Z
DTSTAMP:20260419T134844Z
SUMMARY:FC Shooters vs. Ball Handlers
DESCRIPTION:Ball Handlers vs. FC ShootersPlus d'info : #338
X-ALT-DESC;FMTTYPE=text/html:<!DOCTYPE HTML PUBLIC "-//W3C//DTD HTML 3.2//E
	N">\n<HTML>\n<HEAD>\n<TITLE></TITLE>\n</HEAD>\n<BODY>\n<h3>Ball Handlers vs
	. FC Shooters</h3>Plus d'info : <a href="https://www.golnetwork.com/game/v/
	126215/">#338</a>\n\n</BODY>\n</HTML>
STATUS:CONFIRMED
CLASS:PUBLIC
URL:https://www.golnetwork.com/game/v/126215/
X-MICROSOFT-CDO-BUSYSTATUS:BUSY
X-MICROSOFT-CDO-IMPORTANCE:1
END:VEVENT
BEGIN:VEVENT
UID:gcp09@games.golnetwork.com
LOCATION:Lamport Stadium - Field 3
GEO:43.6390028;-79.4232104
CREATED:20180709T164157Z
DTSTART:20180811T000000Z
DTEND:20180811T010000Z
DTSTAMP:20260419T134844Z
SUMMARY: Drama Queens vs. We Wear Black 4
DESCRIPTION:We Wear Black 4 vs.  Drama QueensPlus d'info : #339
X-ALT-DESC;FMTTYPE=text/html:<!DOCTYPE HTML PUBLIC "-//W3C//DTD HTML 3.2//E
	N">\n<HTML>\n<HEAD>\n<TITLE></TITLE>\n</HEAD>\n<BODY>\n<h3>We Wear Black 4 
	vs.  Drama Queens</h3>Plus d'info : <a href="https://www.golnetwork.com/gam
	e/v/126216/">#339</a>\n\n</BODY>\n</HTML>
STATUS:CONFIRMED
CLASS:PUBLIC
URL:https://www.golnetwork.com/game/v/126216/
X-MICROSOFT-CDO-BUSYSTATUS:BUSY
X-MICROSOFT-CDO-IMPORTANCE:1
END:VEVENT
BEGIN:VEVENT
UID:gcp05@games.golnetwork.com
LOCATION:Lamport Stadium - Field 3
GEO:43.6390028;-79.4232104
CREATED:20180709T164135Z
DTSTART:20180811T010000Z
DTEND:20180811T020000Z
DTSTAMP:20260419T134844Z
SUMMARY: Drama Queens vs. VersaPay
DESCRIPTION:VersaPay vs.  Drama QueensPlus d'info : #340
X-ALT-DESC;FMTTYPE=text/html:<!DOCTYPE HTML PUBLIC "-//W3C//DTD HTML 3.2//E
	N">\n<HTML>\n<HEAD>\n<TITLE></TITLE>\n</HEAD>\n<BODY>\n<h3>VersaPay vs.  Dr
	ama Queens</h3>Plus d'info : <a href="https://www.golnetwork.com/game/v/126
	214/">#340</a>\n\n</BODY>\n</HTML>
STATUS:CONFIRMED
CLASS:PUBLIC
URL:https://www.golnetwork.com/game/v/126214/
X-MICROSOFT-CDO-BUSYSTATUS:BUSY
X-MICROSOFT-CDO-IMPORTANCE:1
END:VEVENT
BEGIN:VEVENT
UID:gcp4h@games.golnetwork.com
LOCATION:Lamport Stadium - Field 2
GEO:43.6390028;-79.4232104
CREATED:20180711T022146Z
DTSTART:20180811T020000Z
DTEND:20180811T030000Z
DTSTAMP:20260419T134844Z
SUMMARY:Penya Blaugrana Toronto vs. Sweeties FC
DESCRIPTION:Sweeties FC vs. Penya Blaugrana TorontoPlus d'info : #341
X-ALT-DESC;FMTTYPE=text/html:<!DOCTYPE HTML PUBLIC "-//W3C//DTD HTML 3.2//E
	N">\n<HTML>\n<HEAD>\n<TITLE></TITLE>\n</HEAD>\n<BODY>\n<h3>Sweeties FC vs. 
	Penya Blaugrana Toronto</h3>Plus d'info : <a href="https://www.golnetwork.c
	om/game/v/126274/">#341</a>\n\n</BODY>\n</HTML>
STATUS:CONFIRMED
CLASS:PUBLIC
URL:https://www.golnetwork.com/game/v/126274/
X-MICROSOFT-CDO-BUSYSTATUS:BUSY
X-MICROSOFT-CDO-IMPORTANCE:1
END:VEVENT
BEGIN:VEVENT
UID:gcp0b@games.golnetwork.com
LOCATION:Lamport Stadium - Field 3
GEO:43.6390028;-79.4232104
CREATED:20180709T164207Z
DTSTART:20180811T020000Z
DTEND:20180811T030000Z
DTSTAMP:20260419T134844Z
SUMMARY:Olifanten FC vs. VersaPay
DESCRIPTION:VersaPay vs. Olifanten FCPlus d'info : #342
X-ALT-DESC;FMTTYPE=text/html:<!DOCTYPE HTML PUBLIC "-//W3C//DTD HTML 3.2//E
	N">\n<HTML>\n<HEAD>\n<TITLE></TITLE>\n</HEAD>\n<BODY>\n<h3>VersaPay vs. Oli
	fanten FC</h3>Plus d'info : <a href="https://www.golnetwork.com/game/v/1262
	17/">#342</a>\n\n</BODY>\n</HTML>
STATUS:CONFIRMED
CLASS:PUBLIC
URL:https://www.golnetwork.com/game/v/126217/
X-MICROSOFT-CDO-BUSYSTATUS:BUSY
X-MICROSOFT-CDO-IMPORTANCE:1
END:VEVENT
BEGIN:VEVENT
UID:gcp0h@games.golnetwork.com
LOCATION:Lamport Stadium - Field 2
GEO:43.6390028;-79.4232104
CREATED:20180709T164239Z
DTSTART:20180818T010000Z
DTEND:20180818T020000Z
DTSTAMP:20260419T134844Z
SUMMARY:FC Shooters vs. Olifanten FC
DESCRIPTION:Olifanten FC vs. FC ShootersPlus d'info : #431
X-ALT-DESC;FMTTYPE=text/html:<!DOCTYPE HTML PUBLIC "-//W3C//DTD HTML 3.2//E
	N">\n<HTML>\n<HEAD>\n<TITLE></TITLE>\n</HEAD>\n<BODY>\n<h3>Olifanten FC vs.
	 FC Shooters</h3>Plus d'info : <a href="https://www.golnetwork.com/game/v/1
	26220/">#431</a>\n\n</BODY>\n</HTML>
STATUS:CONFIRMED
CLASS:PUBLIC
URL:https://www.golnetwork.com/game/v/126220/
X-MICROSOFT-CDO-BUSYSTATUS:BUSY
X-MICROSOFT-CDO-IMPORTANCE:1
END:VEVENT
BEGIN:VEVENT
UID:gcp0p@games.golnetwork.com
LOCATION:Lamport Stadium - Field 3
GEO:43.6390028;-79.4232104
CREATED:20180709T164313Z
DTSTART:20180818T010000Z
DTEND:20180818T020000Z
DTSTAMP:20260419T134844Z
SUMMARY:VersaPay vs. We Wear Black 4
DESCRIPTION:We Wear Black 4 vs. VersaPayPlus d'info : #432
X-ALT-DESC;FMTTYPE=text/html:<!DOCTYPE HTML PUBLIC "-//W3C//DTD HTML 3.2//E
	N">\n<HTML>\n<HEAD>\n<TITLE></TITLE>\n</HEAD>\n<BODY>\n<h3>We Wear Black 4 
	vs. VersaPay</h3>Plus d'info : <a href="https://www.golnetwork.com/game/v/1
	26224/">#432</a>\n\n</BODY>\n</HTML>
STATUS:CONFIRMED
CLASS:PUBLIC
URL:https://www.golnetwork.com/game/v/126224/
X-MICROSOFT-CDO-BUSYSTATUS:BUSY
X-MICROSOFT-CDO-IMPORTANCE:1
END:VEVENT
BEGIN:VEVENT
UID:gcp0n@games.golnetwork.com
LOCATION:Lamport Stadium - Field 3
GEO:43.6390028;-79.4232104
CREATED:20180709T164310Z
DTSTART:20180818T020000Z
DTEND:20180818T030000Z
DTSTAMP:20260419T134844Z
SUMMARY:Ball Handlers vs. FC Shooters
DESCRIPTION:FC Shooters vs. Ball HandlersPlus d'info : #433
X-ALT-DESC;FMTTYPE=text/html:<!DOCTYPE HTML PUBLIC "-//W3C//DTD HTML 3.2//E
	N">\n<HTML>\n<HEAD>\n<TITLE></TITLE>\n</HEAD>\n<BODY>\n<h3>FC Shooters vs. 
	Ball Handlers</h3>Plus d'info : <a href="https://www.golnetwork.com/game/v/
	126223/">#433</a>\n\n</BODY>\n</HTML>
STATUS:CONFIRMED
CLASS:PUBLIC
URL:https://www.golnetwork.com/game/v/126223/
X-MICROSOFT-CDO-BUSYSTATUS:BUSY
X-MICROSOFT-CDO-IMPORTANCE:1
END:VEVENT
BEGIN:VEVENT
UID:gcp10@games.golnetwork.com
LOCATION:Lamport Stadium - Field 2
GEO:43.6390028;-79.4232104
CREATED:20180709T164324Z
DTSTART:20180825T000000Z
DTEND:20180825T010000Z
DTSTAMP:20260419T134844Z
SUMMARY:Ball Handlers vs. VersaPay
DESCRIPTION:VersaPay vs. Ball HandlersPlus d'info : #511
X-ALT-DESC;FMTTYPE=text/html:<!DOCTYPE HTML PUBLIC "-//W3C//DTD HTML 3.2//E
	N">\n<HTML>\n<HEAD>\n<TITLE></TITLE>\n</HEAD>\n<BODY>\n<h3>VersaPay vs. Bal
	l Handlers</h3>Plus d'info : <a href="https://www.golnetwork.com/game/v/126
	225/">#511</a>\n\n</BODY>\n</HTML>
STATUS:CONFIRMED
CLASS:PUBLIC
URL:https://www.golnetwork.com/game/v/126225/
X-MICROSOFT-CDO-BUSYSTATUS:BUSY
X-MICROSOFT-CDO-IMPORTANCE:1
END:VEVENT
BEGIN:VEVENT
UID:gcp12@games.golnetwork.com
LOCATION:Lamport Stadium - Field 2
GEO:43.6390028;-79.4232104
CREATED:20180709T164327Z
DTSTART:20180825T010000Z
DTEND:20180825T020000Z
DTSTAMP:20260419T134844Z
SUMMARY:We Wear Black 4 vs. FC Shooters
DESCRIPTION:FC Shooters vs. We Wear Black 4Plus d'info : #513
X-ALT-DESC;FMTTYPE=text/html:<!DOCTYPE HTML PUBLIC "-//W3C//DTD HTML 3.2//E
	N">\n<HTML>\n<HEAD>\n<TITLE></TITLE>\n</HEAD>\n<BODY>\n<h3>FC Shooters vs. 
	We Wear Black 4</h3>Plus d'info : <a href="https://www.golnetwork.com/game/
	v/126226/">#513</a>\n\n</BODY>\n</HTML>
STATUS:CONFIRMED
CLASS:PUBLIC
URL:https://www.golnetwork.com/game/v/126226/
X-MICROSOFT-CDO-BUSYSTATUS:BUSY
X-MICROSOFT-CDO-IMPORTANCE:1
END:VEVENT
BEGIN:VEVENT
UID:gcp14@games.golnetwork.com
LOCATION:Lamport Stadium - Field 2
GEO:43.6390028;-79.4232104
CREATED:20180709T164331Z
DTSTART:20180825T020000Z
DTEND:20180825T030000Z
DTSTAMP:20260419T134844Z
SUMMARY:Penya Blaugrana Toronto vs. Sweeties FC
DESCRIPTION:Sweeties FC vs. Penya Blaugrana TorontoPlus d'info : #514
X-ALT-DESC;FMTTYPE=text/html:<!DOCTYPE HTML PUBLIC "-//W3C//DTD HTML 3.2//E
	N">\n<HTML>\n<HEAD>\n<TITLE></TITLE>\n</HEAD>\n<BODY>\n<h3>Sweeties FC vs. 
	Penya Blaugrana Toronto</h3>Plus d'info : <a href="https://www.golnetwork.c
	om/game/v/126227/">#514</a>\n\n</BODY>\n</HTML>
STATUS:CONFIRMED
CLASS:PUBLIC
URL:https://www.golnetwork.com/game/v/126227/
X-MICROSOFT-CDO-BUSYSTATUS:BUSY
X-MICROSOFT-CDO-IMPORTANCE:1
END:VEVENT
END:VCALENDAR
