BEGIN:VCALENDAR
PRODID:-//gdesolutions.com//MV Framework 1.0.0.1607 Calendar//EN
VERSION:2.0
METHOD:PUBLISH
CALSCALE:GREGORIAN
BEGIN:VEVENT
UID:gcqbp@games.golnetwork.com
LOCATION:Central Tech - Field 2
GEO:43.6637272;-79.4087613
CREATED:20180724T155838Z
DTSTART:20180730T232000Z
DTEND:20180731T002000Z
DTSTAMP:20260421T195812Z
SUMMARY:Friendship United FC vs. Let's Get Schwifty
DESCRIPTION:Let's Get Schwifty vs. Friendship United FCPlus d'info : #215
X-ALT-DESC;FMTTYPE=text/html:<!DOCTYPE HTML PUBLIC "-//W3C//DTD HTML 3.2//E
	N">\n<HTML>\n<HEAD>\n<TITLE></TITLE>\n</HEAD>\n<BODY>\n<h3>Let's Get Schwif
	ty vs. Friendship United FC</h3>Plus d'info : <a href="https://www.golnetwo
	rk.com/game/v/126737/">#215</a>\n\n</BODY>\n</HTML>
STATUS:CONFIRMED
CLASS:PUBLIC
URL:https://www.golnetwork.com/game/v/126737/
X-MICROSOFT-CDO-BUSYSTATUS:BUSY
X-MICROSOFT-CDO-IMPORTANCE:1
END:VEVENT
BEGIN:VEVENT
UID:gcqc0@games.golnetwork.com
LOCATION:Central Tech - Field 2
GEO:43.6637272;-79.4087613
CREATED:20180724T155849Z
DTSTART:20180731T011000Z
DTEND:20180731T021000Z
DTSTAMP:20260421T195812Z
SUMMARY:The Business vs. Lawnboy & Bucket
DESCRIPTION:Lawnboy & Bucket vs. The BusinessPlus d'info : #222
X-ALT-DESC;FMTTYPE=text/html:<!DOCTYPE HTML PUBLIC "-//W3C//DTD HTML 3.2//E
	N">\n<HTML>\n<HEAD>\n<TITLE></TITLE>\n</HEAD>\n<BODY>\n<h3>Lawnboy & Bucket
	 vs. The Business</h3>Plus d'info : <a href="https://www.golnetwork.com/gam
	e/v/126738/">#222</a>\n\n</BODY>\n</HTML>
STATUS:CONFIRMED
CLASS:PUBLIC
URL:https://www.golnetwork.com/game/v/126738/
X-MICROSOFT-CDO-BUSYSTATUS:BUSY
X-MICROSOFT-CDO-IMPORTANCE:1
END:VEVENT
BEGIN:VEVENT
UID:gcqc8@games.golnetwork.com
LOCATION:Central Tech - Field 2
GEO:43.6637272;-79.4087613
CREATED:20180724T155901Z
DTSTART:20180731T020500Z
DTEND:20180731T030500Z
DTSTAMP:20260421T195812Z
SUMMARY:The Business vs. Rooney Tunes
DESCRIPTION:Rooney Tunes vs. The BusinessPlus d'info : #227
X-ALT-DESC;FMTTYPE=text/html:<!DOCTYPE HTML PUBLIC "-//W3C//DTD HTML 3.2//E
	N">\n<HTML>\n<HEAD>\n<TITLE></TITLE>\n</HEAD>\n<BODY>\n<h3>Rooney Tunes vs.
	 The Business</h3>Plus d'info : <a href="https://www.golnetwork.com/game/v/
	126742/">#227</a>\n\n</BODY>\n</HTML>
STATUS:CONFIRMED
CLASS:PUBLIC
URL:https://www.golnetwork.com/game/v/126742/
X-MICROSOFT-CDO-BUSYSTATUS:BUSY
X-MICROSOFT-CDO-IMPORTANCE:1
END:VEVENT
BEGIN:VEVENT
UID:gcqca@games.golnetwork.com
LOCATION:Central Tech - Field 1
GEO:43.6637272;-79.4087613
CREATED:20180724T155914Z
DTSTART:20180807T000000Z
DTEND:20180807T010000Z
DTSTAMP:20260421T195812Z
SUMMARY:The Business vs. Let's Get Schwifty
DESCRIPTION:Let's Get Schwifty vs. The BusinessPlus d'info : #272
X-ALT-DESC;FMTTYPE=text/html:<!DOCTYPE HTML PUBLIC "-//W3C//DTD HTML 3.2//E
	N">\n<HTML>\n<HEAD>\n<TITLE></TITLE>\n</HEAD>\n<BODY>\n<h3>Let's Get Schwif
	ty vs. The Business</h3>Plus d'info : <a href="https://www.golnetwork.com/g
	ame/v/126743/">#272</a>\n\n</BODY>\n</HTML>
STATUS:CONFIRMED
CLASS:PUBLIC
URL:https://www.golnetwork.com/game/v/126743/
X-MICROSOFT-CDO-BUSYSTATUS:BUSY
X-MICROSOFT-CDO-IMPORTANCE:1
END:VEVENT
BEGIN:VEVENT
UID:gcqcc@games.golnetwork.com
LOCATION:Central Tech - Field 1
GEO:43.6637272;-79.4087613
CREATED:20180724T155921Z
DTSTART:20180807T010000Z
DTEND:20180807T020000Z
DTSTAMP:20260421T195812Z
SUMMARY:Rooney Tunes vs. Lawnboy & Bucket
DESCRIPTION:Lawnboy & Bucket vs. Rooney TunesPlus d'info : #275
X-ALT-DESC;FMTTYPE=text/html:<!DOCTYPE HTML PUBLIC "-//W3C//DTD HTML 3.2//E
	N">\n<HTML>\n<HEAD>\n<TITLE></TITLE>\n</HEAD>\n<BODY>\n<h3>Lawnboy & Bucket
	 vs. Rooney Tunes</h3>Plus d'info : <a href="https://www.golnetwork.com/gam
	e/v/126744/">#275</a>\n\n</BODY>\n</HTML>
STATUS:CONFIRMED
CLASS:PUBLIC
URL:https://www.golnetwork.com/game/v/126744/
X-MICROSOFT-CDO-BUSYSTATUS:BUSY
X-MICROSOFT-CDO-IMPORTANCE:1
END:VEVENT
BEGIN:VEVENT
UID:gcqce@games.golnetwork.com
LOCATION:Central Tech - Field 1
GEO:43.6637272;-79.4087613
CREATED:20180724T155929Z
DTSTART:20180807T020000Z
DTEND:20180807T030000Z
DTSTAMP:20260421T195812Z
SUMMARY:Friendship United FC vs. Lawnboy & Bucket
DESCRIPTION:Lawnboy & Bucket vs. Friendship United FCPlus d'info : #278
X-ALT-DESC;FMTTYPE=text/html:<!DOCTYPE HTML PUBLIC "-//W3C//DTD HTML 3.2//E
	N">\n<HTML>\n<HEAD>\n<TITLE></TITLE>\n</HEAD>\n<BODY>\n<h3>Lawnboy & Bucket
	 vs. Friendship United FC</h3>Plus d'info : <a href="https://www.golnetwork
	.com/game/v/126745/">#278</a>\n\n</BODY>\n</HTML>
STATUS:CONFIRMED
CLASS:PUBLIC
URL:https://www.golnetwork.com/game/v/126745/
X-MICROSOFT-CDO-BUSYSTATUS:BUSY
X-MICROSOFT-CDO-IMPORTANCE:1
END:VEVENT
BEGIN:VEVENT
UID:gcqcg@games.golnetwork.com
LOCATION:Central Tech - Field 2
GEO:43.6637272;-79.4087613
CREATED:20180724T155944Z
DTSTART:20180814T001500Z
DTEND:20180814T011500Z
DTSTAMP:20260421T195812Z
SUMMARY:Friendship United FC vs. The Business
DESCRIPTION:The Business vs. Friendship United FCPlus d'info : #370
X-ALT-DESC;FMTTYPE=text/html:<!DOCTYPE HTML PUBLIC "-//W3C//DTD HTML 3.2//E
	N">\n<HTML>\n<HEAD>\n<TITLE></TITLE>\n</HEAD>\n<BODY>\n<h3>The Business vs.
	 Friendship United FC</h3>Plus d'info : <a href="https://www.golnetwork.com
	/game/v/126746/">#370</a>\n\n</BODY>\n</HTML>
STATUS:CONFIRMED
CLASS:PUBLIC
URL:https://www.golnetwork.com/game/v/126746/
X-MICROSOFT-CDO-BUSYSTATUS:BUSY
X-MICROSOFT-CDO-IMPORTANCE:1
END:VEVENT
BEGIN:VEVENT
UID:gcqci@games.golnetwork.com
LOCATION:Central Tech - Field 3
CREATED:20180724T155955Z
DTSTART:20180814T010000Z
DTEND:20180814T020000Z
DTSTAMP:20260421T195812Z
SUMMARY:Rooney Tunes vs. Let's Get Schwifty
DESCRIPTION:Let's Get Schwifty vs. Rooney TunesPlus d'info : #372
X-ALT-DESC;FMTTYPE=text/html:<!DOCTYPE HTML PUBLIC "-//W3C//DTD HTML 3.2//E
	N">\n<HTML>\n<HEAD>\n<TITLE></TITLE>\n</HEAD>\n<BODY>\n<h3>Let's Get Schwif
	ty vs. Rooney Tunes</h3>Plus d'info : <a href="https://www.golnetwork.com/g
	ame/v/126747/">#372</a>\n\n</BODY>\n</HTML>
STATUS:CONFIRMED
CLASS:PUBLIC
URL:https://www.golnetwork.com/game/v/126747/
X-MICROSOFT-CDO-BUSYSTATUS:BUSY
X-MICROSOFT-CDO-IMPORTANCE:1
END:VEVENT
BEGIN:VEVENT
UID:gcqck@games.golnetwork.com
LOCATION:Central Tech - Field 3
CREATED:20180724T160008Z
DTSTART:20180814T020000Z
DTEND:20180814T030000Z
DTSTAMP:20260421T195812Z
SUMMARY:Lawnboy & Bucket vs. Let's Get Schwifty
DESCRIPTION:Let's Get Schwifty vs. Lawnboy & BucketPlus d'info : #376
X-ALT-DESC;FMTTYPE=text/html:<!DOCTYPE HTML PUBLIC "-//W3C//DTD HTML 3.2//E
	N">\n<HTML>\n<HEAD>\n<TITLE></TITLE>\n</HEAD>\n<BODY>\n<h3>Let's Get Schwif
	ty vs. Lawnboy & Bucket</h3>Plus d'info : <a href="https://www.golnetwork.c
	om/game/v/126748/">#376</a>\n\n</BODY>\n</HTML>
STATUS:CONFIRMED
CLASS:PUBLIC
URL:https://www.golnetwork.com/game/v/126748/
X-MICROSOFT-CDO-BUSYSTATUS:BUSY
X-MICROSOFT-CDO-IMPORTANCE:1
END:VEVENT
BEGIN:VEVENT
UID:gcqcm@games.golnetwork.com
LOCATION:Central Tech - Field 2
GEO:43.6637272;-79.4087613
CREATED:20180724T160031Z
DTSTART:20180820T232000Z
DTEND:20180821T002000Z
DTSTAMP:20260421T195812Z
SUMMARY:Lawnboy & Bucket vs. The Business
DESCRIPTION:The Business vs. Lawnboy & BucketPlus d'info : #457
X-ALT-DESC;FMTTYPE=text/html:<!DOCTYPE HTML PUBLIC "-//W3C//DTD HTML 3.2//E
	N">\n<HTML>\n<HEAD>\n<TITLE></TITLE>\n</HEAD>\n<BODY>\n<h3>The Business vs.
	 Lawnboy & Bucket</h3>Plus d'info : <a href="https://www.golnetwork.com/gam
	e/v/126749/">#457</a>\n\n</BODY>\n</HTML>
STATUS:CONFIRMED
CLASS:PUBLIC
URL:https://www.golnetwork.com/game/v/126749/
X-MICROSOFT-CDO-BUSYSTATUS:BUSY
X-MICROSOFT-CDO-IMPORTANCE:1
END:VEVENT
BEGIN:VEVENT
UID:gcqco@games.golnetwork.com
LOCATION:Central Tech - Field 2
GEO:43.6637272;-79.4087613
CREATED:20180724T160045Z
DTSTART:20180821T011000Z
DTEND:20180821T021000Z
DTSTAMP:20260421T195812Z
SUMMARY:Let's Get Schwifty vs. Friendship United FC
DESCRIPTION:Friendship United FC vs. Let's Get SchwiftyPlus d'info : #465
X-ALT-DESC;FMTTYPE=text/html:<!DOCTYPE HTML PUBLIC "-//W3C//DTD HTML 3.2//E
	N">\n<HTML>\n<HEAD>\n<TITLE></TITLE>\n</HEAD>\n<BODY>\n<h3>Friendship Unite
	d FC vs. Let's Get Schwifty</h3>Plus d'info : <a href="https://www.golnetwo
	rk.com/game/v/126750/">#465</a>\n\n</BODY>\n</HTML>
STATUS:CONFIRMED
CLASS:PUBLIC
URL:https://www.golnetwork.com/game/v/126750/
X-MICROSOFT-CDO-BUSYSTATUS:BUSY
X-MICROSOFT-CDO-IMPORTANCE:1
END:VEVENT
BEGIN:VEVENT
UID:gcqcq@games.golnetwork.com
LOCATION:Central Tech - Field 2
GEO:43.6637272;-79.4087613
CREATED:20180724T160056Z
DTSTART:20180821T020500Z
DTEND:20180821T030500Z
DTSTAMP:20260421T195812Z
SUMMARY:Rooney Tunes vs. Friendship United FC
DESCRIPTION:Friendship United FC vs. Rooney TunesPlus d'info : #469
X-ALT-DESC;FMTTYPE=text/html:<!DOCTYPE HTML PUBLIC "-//W3C//DTD HTML 3.2//E
	N">\n<HTML>\n<HEAD>\n<TITLE></TITLE>\n</HEAD>\n<BODY>\n<h3>Friendship Unite
	d FC vs. Rooney Tunes</h3>Plus d'info : <a href="https://www.golnetwork.com
	/game/v/126751/">#469</a>\n\n</BODY>\n</HTML>
STATUS:CONFIRMED
CLASS:PUBLIC
URL:https://www.golnetwork.com/game/v/126751/
X-MICROSOFT-CDO-BUSYSTATUS:BUSY
X-MICROSOFT-CDO-IMPORTANCE:1
END:VEVENT
BEGIN:VEVENT
UID:gcqd1@games.golnetwork.com
LOCATION:Central Tech - Field 1
GEO:43.6637272;-79.4087613
CREATED:20180724T160111Z
DTSTART:20180828T000000Z
DTEND:20180828T010000Z
DTSTAMP:20260421T195812Z
SUMMARY:Rooney Tunes vs. Let's Get Schwifty
DESCRIPTION:Let's Get Schwifty vs. Rooney TunesPlus d'info : #528
X-ALT-DESC;FMTTYPE=text/html:<!DOCTYPE HTML PUBLIC "-//W3C//DTD HTML 3.2//E
	N">\n<HTML>\n<HEAD>\n<TITLE></TITLE>\n</HEAD>\n<BODY>\n<h3>Let's Get Schwif
	ty vs. Rooney Tunes</h3>Plus d'info : <a href="https://www.golnetwork.com/g
	ame/v/126752/">#528</a>\n\n</BODY>\n</HTML>
STATUS:CONFIRMED
CLASS:PUBLIC
URL:https://www.golnetwork.com/game/v/126752/
X-MICROSOFT-CDO-BUSYSTATUS:BUSY
X-MICROSOFT-CDO-IMPORTANCE:1
END:VEVENT
BEGIN:VEVENT
UID:gcqd3@games.golnetwork.com
LOCATION:Central Tech - Field 1
GEO:43.6637272;-79.4087613
CREATED:20180724T160120Z
DTSTART:20180828T010000Z
DTEND:20180828T020000Z
DTSTAMP:20260421T195812Z
SUMMARY:Rooney Tunes vs. Lawnboy & Bucket
DESCRIPTION:Lawnboy & Bucket vs. Rooney TunesPlus d'info : #531
X-ALT-DESC;FMTTYPE=text/html:<!DOCTYPE HTML PUBLIC "-//W3C//DTD HTML 3.2//E
	N">\n<HTML>\n<HEAD>\n<TITLE></TITLE>\n</HEAD>\n<BODY>\n<h3>Lawnboy & Bucket
	 vs. Rooney Tunes</h3>Plus d'info : <a href="https://www.golnetwork.com/gam
	e/v/126753/">#531</a>\n\n</BODY>\n</HTML>
STATUS:CONFIRMED
CLASS:PUBLIC
URL:https://www.golnetwork.com/game/v/126753/
X-MICROSOFT-CDO-BUSYSTATUS:BUSY
X-MICROSOFT-CDO-IMPORTANCE:1
END:VEVENT
BEGIN:VEVENT
UID:gcqd5@games.golnetwork.com
LOCATION:Central Tech - Field 1
GEO:43.6637272;-79.4087613
CREATED:20180724T160129Z
DTSTART:20180828T020000Z
DTEND:20180828T030000Z
DTSTAMP:20260421T195812Z
SUMMARY:The Business vs. Friendship United FC
DESCRIPTION:Friendship United FC vs. The BusinessPlus d'info : #536
X-ALT-DESC;FMTTYPE=text/html:<!DOCTYPE HTML PUBLIC "-//W3C//DTD HTML 3.2//E
	N">\n<HTML>\n<HEAD>\n<TITLE></TITLE>\n</HEAD>\n<BODY>\n<h3>Friendship Unite
	d FC vs. The Business</h3>Plus d'info : <a href="https://www.golnetwork.com
	/game/v/126754/">#536</a>\n\n</BODY>\n</HTML>
STATUS:CONFIRMED
CLASS:PUBLIC
URL:https://www.golnetwork.com/game/v/126754/
X-MICROSOFT-CDO-BUSYSTATUS:BUSY
X-MICROSOFT-CDO-IMPORTANCE:1
END:VEVENT
BEGIN:VEVENT
UID:gcqd7@games.golnetwork.com
LOCATION:Central Tech - Field 2
GEO:43.6637272;-79.4087613
CREATED:20180724T160144Z
DTSTART:20180903T232000Z
DTEND:20180904T002000Z
DTSTAMP:20260421T195812Z
SUMMARY:Friendship United FC vs. Lawnboy & Bucket
DESCRIPTION:Lawnboy & Bucket vs. Friendship United FCPlus d'info : #577
X-ALT-DESC;FMTTYPE=text/html:<!DOCTYPE HTML PUBLIC "-//W3C//DTD HTML 3.2//E
	N">\n<HTML>\n<HEAD>\n<TITLE></TITLE>\n</HEAD>\n<BODY>\n<h3>Lawnboy & Bucket
	 vs. Friendship United FC</h3>Plus d'info : <a href="https://www.golnetwork
	.com/game/v/126755/">#577</a>\n\n</BODY>\n</HTML>
STATUS:CONFIRMED
CLASS:PUBLIC
URL:https://www.golnetwork.com/game/v/126755/
X-MICROSOFT-CDO-BUSYSTATUS:BUSY
X-MICROSOFT-CDO-IMPORTANCE:1
END:VEVENT
BEGIN:VEVENT
UID:gcqdb@games.golnetwork.com
LOCATION:Central Tech - Field 2
GEO:43.6637272;-79.4087613
CREATED:20180724T160206Z
DTSTART:20180904T001500Z
DTEND:20180904T011500Z
DTSTAMP:20260421T195812Z
SUMMARY:Friendship United FC vs. Let's Get Schwifty
DESCRIPTION:Let's Get Schwifty vs. Friendship United FCPlus d'info : #580
X-ALT-DESC;FMTTYPE=text/html:<!DOCTYPE HTML PUBLIC "-//W3C//DTD HTML 3.2//E
	N">\n<HTML>\n<HEAD>\n<TITLE></TITLE>\n</HEAD>\n<BODY>\n<h3>Let's Get Schwif
	ty vs. Friendship United FC</h3>Plus d'info : <a href="https://www.golnetwo
	rk.com/game/v/126757/">#580</a>\n\n</BODY>\n</HTML>
STATUS:CONFIRMED
CLASS:PUBLIC
URL:https://www.golnetwork.com/game/v/126757/
X-MICROSOFT-CDO-BUSYSTATUS:BUSY
X-MICROSOFT-CDO-IMPORTANCE:1
END:VEVENT
BEGIN:VEVENT
UID:gcqd9@games.golnetwork.com
LOCATION:Central Tech - Field 3
CREATED:20180724T160156Z
DTSTART:20180904T020000Z
DTEND:20180904T030000Z
DTSTAMP:20260421T195812Z
SUMMARY:The Business vs. Rooney Tunes
DESCRIPTION:Rooney Tunes vs. The BusinessPlus d'info : #586
X-ALT-DESC;FMTTYPE=text/html:<!DOCTYPE HTML PUBLIC "-//W3C//DTD HTML 3.2//E
	N">\n<HTML>\n<HEAD>\n<TITLE></TITLE>\n</HEAD>\n<BODY>\n<h3>Rooney Tunes vs.
	 The Business</h3>Plus d'info : <a href="https://www.golnetwork.com/game/v/
	126756/">#586</a>\n\n</BODY>\n</HTML>
STATUS:CONFIRMED
CLASS:PUBLIC
URL:https://www.golnetwork.com/game/v/126756/
X-MICROSOFT-CDO-BUSYSTATUS:BUSY
X-MICROSOFT-CDO-IMPORTANCE:1
END:VEVENT
BEGIN:VEVENT
UID:gcqdd@games.golnetwork.com
LOCATION:Central Tech - Field 2
GEO:43.6637272;-79.4087613
CREATED:20180724T160231Z
DTSTART:20180911T020500Z
DTEND:20180911T030500Z
DTSTAMP:20260421T195812Z
SUMMARY:Rooney Tunes vs. Friendship United FC
DESCRIPTION:Friendship United FC vs. Rooney TunesPlus d'info : #651
X-ALT-DESC;FMTTYPE=text/html:<!DOCTYPE HTML PUBLIC "-//W3C//DTD HTML 3.2//E
	N">\n<HTML>\n<HEAD>\n<TITLE></TITLE>\n</HEAD>\n<BODY>\n<h3>Friendship Unite
	d FC vs. Rooney Tunes</h3>Plus d'info : <a href="https://www.golnetwork.com
	/game/v/126758/">#651</a>\n\n</BODY>\n</HTML>
STATUS:CONFIRMED
CLASS:PUBLIC
URL:https://www.golnetwork.com/game/v/126758/
X-MICROSOFT-CDO-BUSYSTATUS:BUSY
X-MICROSOFT-CDO-IMPORTANCE:1
END:VEVENT
BEGIN:VEVENT
UID:gcqdf@games.golnetwork.com
LOCATION:Central Tech - Field 2
GEO:43.6637272;-79.4087613
CREATED:20180724T160244Z
DTSTART:20180918T001500Z
DTEND:20180918T011500Z
DTSTAMP:20260421T195812Z
SUMMARY:Friendship United FC vs. The Business
DESCRIPTION:The Business vs. Friendship United FCPlus d'info : #703
X-ALT-DESC;FMTTYPE=text/html:<!DOCTYPE HTML PUBLIC "-//W3C//DTD HTML 3.2//E
	N">\n<HTML>\n<HEAD>\n<TITLE></TITLE>\n</HEAD>\n<BODY>\n<h3>The Business vs.
	 Friendship United FC</h3>Plus d'info : <a href="https://www.golnetwork.com
	/game/v/126759/">#703</a>\n\n</BODY>\n</HTML>
STATUS:CONFIRMED
CLASS:PUBLIC
URL:https://www.golnetwork.com/game/v/126759/
X-MICROSOFT-CDO-BUSYSTATUS:BUSY
X-MICROSOFT-CDO-IMPORTANCE:1
END:VEVENT
BEGIN:VEVENT
UID:gcqdh@games.golnetwork.com
LOCATION:Central Tech - Field 2
GEO:43.6637272;-79.4087613
CREATED:20180724T160247Z
DTSTART:20180918T011000Z
DTEND:20180918T021000Z
DTSTAMP:20260421T195812Z
SUMMARY:Lawnboy & Bucket vs. The Business
DESCRIPTION:The Business vs. Lawnboy & BucketPlus d'info : #706
X-ALT-DESC;FMTTYPE=text/html:<!DOCTYPE HTML PUBLIC "-//W3C//DTD HTML 3.2//E
	N">\n<HTML>\n<HEAD>\n<TITLE></TITLE>\n</HEAD>\n<BODY>\n<h3>The Business vs.
	 Lawnboy & Bucket</h3>Plus d'info : <a href="https://www.golnetwork.com/gam
	e/v/126760/">#706</a>\n\n</BODY>\n</HTML>
STATUS:CONFIRMED
CLASS:PUBLIC
URL:https://www.golnetwork.com/game/v/126760/
X-MICROSOFT-CDO-BUSYSTATUS:BUSY
X-MICROSOFT-CDO-IMPORTANCE:1
END:VEVENT
END:VCALENDAR
