BEGIN:VCALENDAR
PRODID:-//gdesolutions.com//MV Framework 1.0.0.1607 Calendar//EN
VERSION:2.0
METHOD:PUBLISH
CALSCALE:GREGORIAN
BEGIN:VEVENT
UID:gcno3@games.golnetwork.com
LOCATION:Harbord CI Field 1
GEO:43.6607668;-79.4134633
CREATED:20180628T192454Z
DTSTART:20180704T223000Z
DTEND:20180704T232000Z
DTSTAMP:20260421T055712Z
SUMMARY:Daddy Mike's Ballerz vs. AS Joma
DESCRIPTION:AS Joma vs. Daddy Mike's BallerzPlus d'info : #1
X-ALT-DESC;FMTTYPE=text/html:<!DOCTYPE HTML PUBLIC "-//W3C//DTD HTML 3.2//E
	N">\n<HTML>\n<HEAD>\n<TITLE></TITLE>\n</HEAD>\n<BODY>\n<h3>AS Joma vs. Dadd
	y Mike's Ballerz</h3>Plus d'info : <a href="https://www.golnetwork.com/game
	/v/125808/">#1</a>\n\n</BODY>\n</HTML>
STATUS:CONFIRMED
CLASS:PUBLIC
URL:https://www.golnetwork.com/game/v/125808/
X-MICROSOFT-CDO-BUSYSTATUS:BUSY
X-MICROSOFT-CDO-IMPORTANCE:1
END:VEVENT
BEGIN:VEVENT
UID:gcno5@games.golnetwork.com
LOCATION:Harbord CI Field 1
GEO:43.6607668;-79.4134633
CREATED:20180628T192505Z
DTSTART:20180704T234500Z
DTEND:20180705T003500Z
DTSTAMP:20260421T055712Z
SUMMARY:Uber FC vs. Synaptive Brainiacs
DESCRIPTION:Synaptive Brainiacs vs. Uber FCPlus d'info : #2
X-ALT-DESC;FMTTYPE=text/html:<!DOCTYPE HTML PUBLIC "-//W3C//DTD HTML 3.2//E
	N">\n<HTML>\n<HEAD>\n<TITLE></TITLE>\n</HEAD>\n<BODY>\n<h3>Synaptive Braini
	acs vs. Uber FC</h3>Plus d'info : <a href="https://www.golnetwork.com/game/
	v/125809/">#2</a>\n\n</BODY>\n</HTML>
STATUS:CONFIRMED
CLASS:PUBLIC
URL:https://www.golnetwork.com/game/v/125809/
X-MICROSOFT-CDO-BUSYSTATUS:BUSY
X-MICROSOFT-CDO-IMPORTANCE:1
END:VEVENT
BEGIN:VEVENT
UID:gcog2@games.golnetwork.com
LOCATION:Harbord CI Field 1
GEO:43.6607668;-79.4134633
CREATED:20180706T180629Z
DTSTART:20180711T223000Z
DTEND:20180711T232000Z
DTSTAMP:20260421T055712Z
SUMMARY:Uber FC vs. Daddy Mike's Ballerz
DESCRIPTION:Daddy Mike's Ballerz vs. Uber FCPlus d'info : #3
X-ALT-DESC;FMTTYPE=text/html:<!DOCTYPE HTML PUBLIC "-//W3C//DTD HTML 3.2//E
	N">\n<HTML>\n<HEAD>\n<TITLE></TITLE>\n</HEAD>\n<BODY>\n<h3>Daddy Mike's Bal
	lerz vs. Uber FC</h3>Plus d'info : <a href="https://www.golnetwork.com/game
	/v/126064/">#3</a>\n\n</BODY>\n</HTML>
STATUS:CONFIRMED
CLASS:PUBLIC
URL:https://www.golnetwork.com/game/v/126064/
X-MICROSOFT-CDO-BUSYSTATUS:BUSY
X-MICROSOFT-CDO-IMPORTANCE:1
END:VEVENT
BEGIN:VEVENT
UID:gcog4@games.golnetwork.com
LOCATION:Harbord CI Field 1
GEO:43.6607668;-79.4134633
CREATED:20180706T180638Z
DTSTART:20180711T234500Z
DTEND:20180712T003500Z
DTSTAMP:20260421T055712Z
SUMMARY:Synaptive Brainiacs vs. AS Joma
DESCRIPTION:AS Joma vs. Synaptive BrainiacsPlus d'info : #4
X-ALT-DESC;FMTTYPE=text/html:<!DOCTYPE HTML PUBLIC "-//W3C//DTD HTML 3.2//E
	N">\n<HTML>\n<HEAD>\n<TITLE></TITLE>\n</HEAD>\n<BODY>\n<h3>AS Joma vs. Syna
	ptive Brainiacs</h3>Plus d'info : <a href="https://www.golnetwork.com/game/
	v/126065/">#4</a>\n\n</BODY>\n</HTML>
STATUS:CONFIRMED
CLASS:PUBLIC
URL:https://www.golnetwork.com/game/v/126065/
X-MICROSOFT-CDO-BUSYSTATUS:BUSY
X-MICROSOFT-CDO-IMPORTANCE:1
END:VEVENT
BEGIN:VEVENT
UID:gcog6@games.golnetwork.com
LOCATION:Harbord CI Field 1
GEO:43.6607668;-79.4134633
CREATED:20180706T180647Z
DTSTART:20180718T223000Z
DTEND:20180718T232000Z
DTSTAMP:20260421T055712Z
SUMMARY:Uber FC vs. AS Joma
DESCRIPTION:AS Joma vs. Uber FCPlus d'info : #5
X-ALT-DESC;FMTTYPE=text/html:<!DOCTYPE HTML PUBLIC "-//W3C//DTD HTML 3.2//E
	N">\n<HTML>\n<HEAD>\n<TITLE></TITLE>\n</HEAD>\n<BODY>\n<h3>AS Joma vs. Uber
	 FC</h3>Plus d'info : <a href="https://www.golnetwork.com/game/v/126066/">#
	5</a>\n\n</BODY>\n</HTML>
STATUS:CONFIRMED
CLASS:PUBLIC
URL:https://www.golnetwork.com/game/v/126066/
X-MICROSOFT-CDO-BUSYSTATUS:BUSY
X-MICROSOFT-CDO-IMPORTANCE:1
END:VEVENT
BEGIN:VEVENT
UID:gcog8@games.golnetwork.com
LOCATION:Harbord CI Field 1
GEO:43.6607668;-79.4134633
CREATED:20180706T180654Z
DTSTART:20180718T234500Z
DTEND:20180719T003500Z
DTSTAMP:20260421T055712Z
SUMMARY:Daddy Mike's Ballerz vs. Synaptive Brainiacs
DESCRIPTION:Synaptive Brainiacs vs. Daddy Mike's BallerzPlus d'info : #6
X-ALT-DESC;FMTTYPE=text/html:<!DOCTYPE HTML PUBLIC "-//W3C//DTD HTML 3.2//E
	N">\n<HTML>\n<HEAD>\n<TITLE></TITLE>\n</HEAD>\n<BODY>\n<h3>Synaptive Braini
	acs vs. Daddy Mike's Ballerz</h3>Plus d'info : <a href="https://www.golnetw
	ork.com/game/v/126067/">#6</a>\n\n</BODY>\n</HTML>
STATUS:CONFIRMED
CLASS:PUBLIC
URL:https://www.golnetwork.com/game/v/126067/
X-MICROSOFT-CDO-BUSYSTATUS:BUSY
X-MICROSOFT-CDO-IMPORTANCE:1
END:VEVENT
BEGIN:VEVENT
UID:gcoga@games.golnetwork.com
LOCATION:Harbord CI Field 1
GEO:43.6607668;-79.4134633
CREATED:20180706T180703Z
DTSTART:20180725T221500Z
DTEND:20180725T230500Z
DTSTAMP:20260421T055712Z
SUMMARY:Uber FC vs. Synaptive Brainiacs
DESCRIPTION:Synaptive Brainiacs vs. Uber FCPlus d'info : #7
X-ALT-DESC;FMTTYPE=text/html:<!DOCTYPE HTML PUBLIC "-//W3C//DTD HTML 3.2//E
	N">\n<HTML>\n<HEAD>\n<TITLE></TITLE>\n</HEAD>\n<BODY>\n<h3>Synaptive Braini
	acs vs. Uber FC</h3>Plus d'info : <a href="https://www.golnetwork.com/game/
	v/126068/">#7</a>\n\n</BODY>\n</HTML>
STATUS:CONFIRMED
CLASS:PUBLIC
URL:https://www.golnetwork.com/game/v/126068/
X-MICROSOFT-CDO-BUSYSTATUS:BUSY
X-MICROSOFT-CDO-IMPORTANCE:1
END:VEVENT
BEGIN:VEVENT
UID:gcogc@games.golnetwork.com
LOCATION:Harbord CI Field 1
GEO:43.6607668;-79.4134633
CREATED:20180706T180715Z
DTSTART:20180725T233000Z
DTEND:20180726T002000Z
DTSTAMP:20260421T055712Z
SUMMARY:Daddy Mike's Ballerz vs. AS Joma
DESCRIPTION:AS Joma vs. Daddy Mike's BallerzPlus d'info : #8
X-ALT-DESC;FMTTYPE=text/html:<!DOCTYPE HTML PUBLIC "-//W3C//DTD HTML 3.2//E
	N">\n<HTML>\n<HEAD>\n<TITLE></TITLE>\n</HEAD>\n<BODY>\n<h3>AS Joma vs. Dadd
	y Mike's Ballerz</h3>Plus d'info : <a href="https://www.golnetwork.com/game
	/v/126069/">#8</a>\n\n</BODY>\n</HTML>
STATUS:CONFIRMED
CLASS:PUBLIC
URL:https://www.golnetwork.com/game/v/126069/
X-MICROSOFT-CDO-BUSYSTATUS:BUSY
X-MICROSOFT-CDO-IMPORTANCE:1
END:VEVENT
BEGIN:VEVENT
UID:gcoge@games.golnetwork.com
LOCATION:Harbord CI Field 1
GEO:43.6607668;-79.4134633
CREATED:20180706T180727Z
DTSTART:20180801T221500Z
DTEND:20180801T230500Z
DTSTAMP:20260421T055712Z
SUMMARY:Synaptive Brainiacs vs. AS Joma
DESCRIPTION:AS Joma vs. Synaptive BrainiacsPlus d'info : #9
X-ALT-DESC;FMTTYPE=text/html:<!DOCTYPE HTML PUBLIC "-//W3C//DTD HTML 3.2//E
	N">\n<HTML>\n<HEAD>\n<TITLE></TITLE>\n</HEAD>\n<BODY>\n<h3>AS Joma vs. Syna
	ptive Brainiacs</h3>Plus d'info : <a href="https://www.golnetwork.com/game/
	v/126070/">#9</a>\n\n</BODY>\n</HTML>
STATUS:CONFIRMED
CLASS:PUBLIC
URL:https://www.golnetwork.com/game/v/126070/
X-MICROSOFT-CDO-BUSYSTATUS:BUSY
X-MICROSOFT-CDO-IMPORTANCE:1
END:VEVENT
BEGIN:VEVENT
UID:gcogg@games.golnetwork.com
LOCATION:Harbord CI Field 1
GEO:43.6607668;-79.4134633
CREATED:20180706T180733Z
DTSTART:20180801T233000Z
DTEND:20180802T002000Z
DTSTAMP:20260421T055712Z
SUMMARY:Uber FC vs. Daddy Mike's Ballerz
DESCRIPTION:Daddy Mike's Ballerz vs. Uber FCPlus d'info : #10
X-ALT-DESC;FMTTYPE=text/html:<!DOCTYPE HTML PUBLIC "-//W3C//DTD HTML 3.2//E
	N">\n<HTML>\n<HEAD>\n<TITLE></TITLE>\n</HEAD>\n<BODY>\n<h3>Daddy Mike's Bal
	lerz vs. Uber FC</h3>Plus d'info : <a href="https://www.golnetwork.com/game
	/v/126071/">#10</a>\n\n</BODY>\n</HTML>
STATUS:CONFIRMED
CLASS:PUBLIC
URL:https://www.golnetwork.com/game/v/126071/
X-MICROSOFT-CDO-BUSYSTATUS:BUSY
X-MICROSOFT-CDO-IMPORTANCE:1
END:VEVENT
BEGIN:VEVENT
UID:gcogi@games.golnetwork.com
LOCATION:Harbord CI Field 1
GEO:43.6607668;-79.4134633
CREATED:20180706T180801Z
DTSTART:20180808T221500Z
DTEND:20180808T230500Z
DTSTAMP:20260421T055712Z
SUMMARY:Daddy Mike's Ballerz vs. Synaptive Brainiacs
DESCRIPTION:Synaptive Brainiacs vs. Daddy Mike's BallerzPlus d'info : #11
X-ALT-DESC;FMTTYPE=text/html:<!DOCTYPE HTML PUBLIC "-//W3C//DTD HTML 3.2//E
	N">\n<HTML>\n<HEAD>\n<TITLE></TITLE>\n</HEAD>\n<BODY>\n<h3>Synaptive Braini
	acs vs. Daddy Mike's Ballerz</h3>Plus d'info : <a href="https://www.golnetw
	ork.com/game/v/126072/">#11</a>\n\n</BODY>\n</HTML>
STATUS:CONFIRMED
CLASS:PUBLIC
URL:https://www.golnetwork.com/game/v/126072/
X-MICROSOFT-CDO-BUSYSTATUS:BUSY
X-MICROSOFT-CDO-IMPORTANCE:1
END:VEVENT
BEGIN:VEVENT
UID:gcogk@games.golnetwork.com
LOCATION:Harbord CI Field 1
GEO:43.6607668;-79.4134633
CREATED:20180706T180808Z
DTSTART:20180808T231500Z
DTEND:20180809T000500Z
DTSTAMP:20260421T055712Z
SUMMARY:Uber FC vs. AS Joma
DESCRIPTION:AS Joma vs. Uber FCPlus d'info : #12
X-ALT-DESC;FMTTYPE=text/html:<!DOCTYPE HTML PUBLIC "-//W3C//DTD HTML 3.2//E
	N">\n<HTML>\n<HEAD>\n<TITLE></TITLE>\n</HEAD>\n<BODY>\n<h3>AS Joma vs. Uber
	 FC</h3>Plus d'info : <a href="https://www.golnetwork.com/game/v/126073/">#
	12</a>\n\n</BODY>\n</HTML>
STATUS:RESCHEDULED
CLASS:PUBLIC
URL:https://www.golnetwork.com/game/v/126073/
X-MICROSOFT-CDO-BUSYSTATUS:BUSY
X-MICROSOFT-CDO-IMPORTANCE:1
END:VEVENT
BEGIN:VEVENT
UID:gd17j@games.golnetwork.com
LOCATION:Harbord CI Field 1
GEO:43.6607668;-79.4134633
CREATED:20180809T150238Z
DTSTART:20180815T223000Z
DTEND:20180815T232000Z
DTSTAMP:20260421T055712Z
SUMMARY:Uber FC vs. AS Joma
DESCRIPTION:AS Joma vs. Uber FCPlus d'info : R#12
X-ALT-DESC;FMTTYPE=text/html:<!DOCTYPE HTML PUBLIC "-//W3C//DTD HTML 3.2//E
	N">\n<HTML>\n<HEAD>\n<TITLE></TITLE>\n</HEAD>\n<BODY>\n<h3>AS Joma vs. Uber
	 FC</h3>Plus d'info : <a href="https://www.golnetwork.com/game/v/127409/">R
	#12</a>\n\n</BODY>\n</HTML>
STATUS:CONFIRMED
CLASS:PUBLIC
URL:https://www.golnetwork.com/game/v/127409/
X-MICROSOFT-CDO-BUSYSTATUS:BUSY
X-MICROSOFT-CDO-IMPORTANCE:1
END:VEVENT
BEGIN:VEVENT
UID:gd1gk@games.golnetwork.com
LOCATION:Harbord CI Field 1
GEO:43.6607668;-79.4134633
CREATED:20180813T203858Z
DTSTART:20180815T233000Z
DTEND:20180816T002000Z
DTSTAMP:20260421T055712Z
SUMMARY:Synaptive Brainiacs vs. Daddy Mike's Ballerz
DESCRIPTION:Daddy Mike's Ballerz vs. Synaptive BrainiacsPlus d'info : #14
X-ALT-DESC;FMTTYPE=text/html:<!DOCTYPE HTML PUBLIC "-//W3C//DTD HTML 3.2//E
	N">\n<HTML>\n<HEAD>\n<TITLE></TITLE>\n</HEAD>\n<BODY>\n<h3>Daddy Mike's Bal
	lerz vs. Synaptive Brainiacs</h3>Plus d'info : <a href="https://www.golnetw
	ork.com/game/v/127531/">#14</a>\n\n</BODY>\n</HTML>
STATUS:CONFIRMED
CLASS:PUBLIC
URL:https://www.golnetwork.com/game/v/127531/
X-MICROSOFT-CDO-BUSYSTATUS:BUSY
X-MICROSOFT-CDO-IMPORTANCE:1
END:VEVENT
BEGIN:VEVENT
UID:gcogm@games.golnetwork.com
LOCATION:Harbord CI Field 1
GEO:43.6607668;-79.4134633
CREATED:20180706T180818Z
DTSTART:20180829T231500Z
DTEND:20180830T000500Z
DTSTAMP:20260421T055712Z
SUMMARY:Daddy Mike's Ballerz vs. Synaptive Brainiacs
DESCRIPTION:Synaptive Brainiacs vs. Daddy Mike's BallerzPlus d'info : #18
X-ALT-DESC;FMTTYPE=text/html:<!DOCTYPE HTML PUBLIC "-//W3C//DTD HTML 3.2//E
	N">\n<HTML>\n<HEAD>\n<TITLE></TITLE>\n</HEAD>\n<BODY>\n<h3>Synaptive Braini
	acs vs. Daddy Mike's Ballerz</h3>Plus d'info : <a href="https://www.golnetw
	ork.com/game/v/126074/">#18</a>\n\n</BODY>\n</HTML>
STATUS:CONFIRMED
CLASS:PUBLIC
URL:https://www.golnetwork.com/game/v/126074/
X-MICROSOFT-CDO-BUSYSTATUS:BUSY
X-MICROSOFT-CDO-IMPORTANCE:1
END:VEVENT
END:VCALENDAR
