BEGIN:VCALENDAR
PRODID:-//gdesolutions.com//MV Framework 1.0.0.1607 Calendar//EN
VERSION:2.0
METHOD:PUBLISH
CALSCALE:GREGORIAN
BEGIN:VEVENT
UID:gd0jo@games.golnetwork.com
LOCATION:Lester B Pearson Field #3
GEO:45.4433016;-75.5957775
CREATED:20180807T032219Z
DTSTART:20180809T223000Z
DTEND:20180810T000000Z
DTSTAMP:20260421T171553Z
SUMMARY:Untouchable Eagles vs. 50 Shades of Pink
DESCRIPTION:50 Shades of Pink vs. Untouchable EaglesPlus d'info : #119
X-ALT-DESC;FMTTYPE=text/html:<!DOCTYPE HTML PUBLIC "-//W3C//DTD HTML 3.2//E
	N">\n<HTML>\n<HEAD>\n<TITLE></TITLE>\n</HEAD>\n<BODY>\n<h3>50 Shades of Pin
	k vs. Untouchable Eagles</h3>Plus d'info : <a href="https://www.golnetwork.
	com/game/v/127209/">#119</a>\n\n</BODY>\n</HTML>
STATUS:CONFIRMED
CLASS:PUBLIC
URL:https://www.golnetwork.com/game/v/127209/
X-MICROSOFT-CDO-BUSYSTATUS:BUSY
X-MICROSOFT-CDO-IMPORTANCE:1
END:VEVENT
BEGIN:VEVENT
UID:gd0jm@games.golnetwork.com
LOCATION:Louis Riel #3
GEO:45.4410208;-75.5715394
CREATED:20180807T032201Z
DTSTART:20180809T233000Z
DTEND:20180810T010000Z
DTSTAMP:20260421T171553Z
SUMMARY:Strikers FC vs. SPARTA
DESCRIPTION:SPARTA vs. Strikers FCPlus d'info : #122
X-ALT-DESC;FMTTYPE=text/html:<!DOCTYPE HTML PUBLIC "-//W3C//DTD HTML 3.2//E
	N">\n<HTML>\n<HEAD>\n<TITLE></TITLE>\n</HEAD>\n<BODY>\n<h3>SPARTA vs. Strik
	ers FC</h3>Plus d'info : <a href="https://www.golnetwork.com/game/v/127208/
	">#122</a>\n\n</BODY>\n</HTML>
STATUS:CONFIRMED
CLASS:PUBLIC
URL:https://www.golnetwork.com/game/v/127208/
X-MICROSOFT-CDO-BUSYSTATUS:BUSY
X-MICROSOFT-CDO-IMPORTANCE:1
END:VEVENT
BEGIN:VEVENT
UID:gd0jq@games.golnetwork.com
LOCATION:Louis Riel #3
GEO:45.4410208;-75.5715394
CREATED:20180807T032305Z
DTSTART:20180810T010000Z
DTEND:20180810T023000Z
DTSTAMP:20260421T171553Z
SUMMARY:Maroon 7 vs. TBD
DESCRIPTION:TBD vs. Maroon 7Plus d'info : #125
X-ALT-DESC;FMTTYPE=text/html:<!DOCTYPE HTML PUBLIC "-//W3C//DTD HTML 3.2//E
	N">\n<HTML>\n<HEAD>\n<TITLE></TITLE>\n</HEAD>\n<BODY>\n<h3>TBD vs. Maroon 7
	</h3>Plus d'info : <a href="https://www.golnetwork.com/game/v/127210/">#125
	</a>\n\n</BODY>\n</HTML>
STATUS:CONFIRMED
CLASS:PUBLIC
URL:https://www.golnetwork.com/game/v/127210/
X-MICROSOFT-CDO-BUSYSTATUS:BUSY
X-MICROSOFT-CDO-IMPORTANCE:1
END:VEVENT
BEGIN:VEVENT
UID:gd1b9@games.golnetwork.com
LOCATION:McCarthy Park Field #3
GEO:45.3518541;-75.6719009
CREATED:20180813T062817Z
DTSTART:20180816T223000Z
DTEND:20180817T000000Z
DTSTAMP:20260421T171553Z
SUMMARY:Untouchable Eagles vs. TBD
DESCRIPTION:TBD vs. Untouchable EaglesPlus d'info : #127
X-ALT-DESC;FMTTYPE=text/html:<!DOCTYPE HTML PUBLIC "-//W3C//DTD HTML 3.2//E
	N">\n<HTML>\n<HEAD>\n<TITLE></TITLE>\n</HEAD>\n<BODY>\n<h3>TBD vs. Untoucha
	ble Eagles</h3>Plus d'info : <a href="https://www.golnetwork.com/game/v/127
	458/">#127</a>\n\n</BODY>\n</HTML>
STATUS:CONFIRMED
CLASS:PUBLIC
URL:https://www.golnetwork.com/game/v/127458/
X-MICROSOFT-CDO-BUSYSTATUS:BUSY
X-MICROSOFT-CDO-IMPORTANCE:1
END:VEVENT
BEGIN:VEVENT
UID:gd1b7@games.golnetwork.com
LOCATION:Louis Riel #3
GEO:45.4410208;-75.5715394
CREATED:20180813T062711Z
DTSTART:20180816T233000Z
DTEND:20180817T010000Z
DTSTAMP:20260421T171553Z
SUMMARY:50 Shades of Pink vs. SPARTA
DESCRIPTION:SPARTA vs. 50 Shades of PinkPlus d'info : #134
X-ALT-DESC;FMTTYPE=text/html:<!DOCTYPE HTML PUBLIC "-//W3C//DTD HTML 3.2//E
	N">\n<HTML>\n<HEAD>\n<TITLE></TITLE>\n</HEAD>\n<BODY>\n<h3>SPARTA vs. 50 Sh
	ades of Pink</h3>Plus d'info : <a href="https://www.golnetwork.com/game/v/1
	27457/">#134</a>\n\n</BODY>\n</HTML>
STATUS:CONFIRMED
CLASS:PUBLIC
URL:https://www.golnetwork.com/game/v/127457/
X-MICROSOFT-CDO-BUSYSTATUS:BUSY
X-MICROSOFT-CDO-IMPORTANCE:1
END:VEVENT
BEGIN:VEVENT
UID:gd1bb@games.golnetwork.com
LOCATION:Louis Riel #3
GEO:45.4410208;-75.5715394
CREATED:20180813T062903Z
DTSTART:20180817T010000Z
DTEND:20180817T023000Z
DTSTAMP:20260421T171553Z
SUMMARY:Maroon 7 vs. Strikers FC
DESCRIPTION:Strikers FC vs. Maroon 7Plus d'info : #137
X-ALT-DESC;FMTTYPE=text/html:<!DOCTYPE HTML PUBLIC "-//W3C//DTD HTML 3.2//E
	N">\n<HTML>\n<HEAD>\n<TITLE></TITLE>\n</HEAD>\n<BODY>\n<h3>Strikers FC vs. 
	Maroon 7</h3>Plus d'info : <a href="https://www.golnetwork.com/game/v/12745
	9/">#137</a>\n\n</BODY>\n</HTML>
STATUS:CONFIRMED
CLASS:PUBLIC
URL:https://www.golnetwork.com/game/v/127459/
X-MICROSOFT-CDO-BUSYSTATUS:BUSY
X-MICROSOFT-CDO-IMPORTANCE:1
END:VEVENT
BEGIN:VEVENT
UID:gd205@games.golnetwork.com
LOCATION:Louis Riel #3
GEO:45.4410208;-75.5715394
CREATED:20180818T054136Z
DTSTART:20180823T233000Z
DTEND:20180824T010000Z
DTSTAMP:20260421T171553Z
SUMMARY:Junkyard Dogs vs. Strikers FC
DESCRIPTION:Strikers FC vs. Junkyard DogsPlus d'info : #146
X-ALT-DESC;FMTTYPE=text/html:<!DOCTYPE HTML PUBLIC "-//W3C//DTD HTML 3.2//E
	N">\n<HTML>\n<HEAD>\n<TITLE></TITLE>\n</HEAD>\n<BODY>\n<h3>Strikers FC vs. 
	Junkyard Dogs</h3>Plus d'info : <a href="https://www.golnetwork.com/game/v/
	127672/">#146</a>\n\n</BODY>\n</HTML>
STATUS:CONFIRMED
CLASS:PUBLIC
URL:https://www.golnetwork.com/game/v/127672/
X-MICROSOFT-CDO-BUSYSTATUS:BUSY
X-MICROSOFT-CDO-IMPORTANCE:1
END:VEVENT
BEGIN:VEVENT
UID:gd203@games.golnetwork.com
LOCATION:Louis Riel #3
GEO:45.4410208;-75.5715394
CREATED:20180818T054122Z
DTSTART:20180824T010000Z
DTEND:20180824T023000Z
DTSTAMP:20260421T171553Z
SUMMARY:Maroon 7 vs. TBD
DESCRIPTION:TBD vs. Maroon 7Plus d'info : #149
X-ALT-DESC;FMTTYPE=text/html:<!DOCTYPE HTML PUBLIC "-//W3C//DTD HTML 3.2//E
	N">\n<HTML>\n<HEAD>\n<TITLE></TITLE>\n</HEAD>\n<BODY>\n<h3>TBD vs. Maroon 7
	</h3>Plus d'info : <a href="https://www.golnetwork.com/game/v/127671/">#149
	</a>\n\n</BODY>\n</HTML>
STATUS:CONFIRMED
CLASS:PUBLIC
URL:https://www.golnetwork.com/game/v/127671/
X-MICROSOFT-CDO-BUSYSTATUS:BUSY
X-MICROSOFT-CDO-IMPORTANCE:1
END:VEVENT
BEGIN:VEVENT
UID:gd2o1@games.golnetwork.com
LOCATION:Louis Riel #2
GEO:45.4410208;-75.5715394
CREATED:20180828T164019Z
DTSTART:20180830T233000Z
DTEND:20180831T010000Z
DTSTAMP:20260421T171553Z
SUMMARY:TBD vs. 50 Shades of Pink
DESCRIPTION:50 Shades of Pink vs. TBDPlus d'info : #151
X-ALT-DESC;FMTTYPE=text/html:<!DOCTYPE HTML PUBLIC "-//W3C//DTD HTML 3.2//E
	N">\n<HTML>\n<HEAD>\n<TITLE></TITLE>\n</HEAD>\n<BODY>\n<h3>50 Shades of Pin
	k vs. TBD</h3>Plus d'info : <a href="https://www.golnetwork.com/game/v/1279
	94/">#151</a>\n\n</BODY>\n</HTML>
STATUS:CONFIRMED
CLASS:PUBLIC
URL:https://www.golnetwork.com/game/v/127994/
X-MICROSOFT-CDO-BUSYSTATUS:BUSY
X-MICROSOFT-CDO-IMPORTANCE:1
END:VEVENT
BEGIN:VEVENT
UID:gd2nq@games.golnetwork.com
LOCATION:Louis Riel #3
GEO:45.4410208;-75.5715394
CREATED:20180828T164007Z
DTSTART:20180830T233000Z
DTEND:20180831T010000Z
DTSTAMP:20260421T171553Z
SUMMARY:Untouchable Eagles vs. SPARTA
DESCRIPTION:SPARTA vs. Untouchable EaglesPlus d'info : #152
X-ALT-DESC;FMTTYPE=text/html:<!DOCTYPE HTML PUBLIC "-//W3C//DTD HTML 3.2//E
	N">\n<HTML>\n<HEAD>\n<TITLE></TITLE>\n</HEAD>\n<BODY>\n<h3>SPARTA vs. Untou
	chable Eagles</h3>Plus d'info : <a href="https://www.golnetwork.com/game/v/
	127993/">#152</a>\n\n</BODY>\n</HTML>
STATUS:CONFIRMED
CLASS:PUBLIC
URL:https://www.golnetwork.com/game/v/127993/
X-MICROSOFT-CDO-BUSYSTATUS:BUSY
X-MICROSOFT-CDO-IMPORTANCE:1
END:VEVENT
END:VCALENDAR
