BEGIN:VCALENDAR
PRODID:-//gdesolutions.com//MV Framework 1.0.0.1607 Calendar//EN
VERSION:2.0
METHOD:PUBLISH
CALSCALE:GREGORIAN
BEGIN:VEVENT
UID:gd2q1@games.golnetwork.com
LOCATION:Lamport Stadium - Field 1
GEO:43.6390028;-79.4232104
CREATED:20180829T013855Z
DTSTART:20181020T000000Z
DTEND:20181020T010000Z
DTSTAMP:20260421T052201Z
SUMMARY:Six Shooters vs. We Wear Black 4
DESCRIPTION:We Wear Black 4 vs. Six ShootersPlus d'info : #429
X-ALT-DESC;FMTTYPE=text/html:<!DOCTYPE HTML PUBLIC "-//W3C//DTD HTML 3.2//E
	N">\n<HTML>\n<HEAD>\n<TITLE></TITLE>\n</HEAD>\n<BODY>\n<h3>We Wear Black 4 
	vs. Six Shooters</h3>Plus d'info : <a href="https://www.golnetwork.com/game
	/v/128021/">#429</a>\n\n</BODY>\n</HTML>
STATUS:CONFIRMED
CLASS:PUBLIC
URL:https://www.golnetwork.com/game/v/128021/
X-MICROSOFT-CDO-BUSYSTATUS:BUSY
X-MICROSOFT-CDO-IMPORTANCE:1
END:VEVENT
BEGIN:VEVENT
UID:gd2q3@games.golnetwork.com
LOCATION:Lamport Stadium - Field 2
GEO:43.6390028;-79.4232104
CREATED:20180829T013855Z
DTSTART:20181020T010000Z
DTEND:20181020T020000Z
DTSTAMP:20260421T052201Z
SUMMARY:FC Shooters vs. XTSC Footie Fridays
DESCRIPTION:XTSC Footie Fridays vs. FC ShootersPlus d'info : #433
X-ALT-DESC;FMTTYPE=text/html:<!DOCTYPE HTML PUBLIC "-//W3C//DTD HTML 3.2//E
	N">\n<HTML>\n<HEAD>\n<TITLE></TITLE>\n</HEAD>\n<BODY>\n<h3>XTSC Footie Frid
	ays vs. FC Shooters</h3>Plus d'info : <a href="https://www.golnetwork.com/g
	ame/v/128022/">#433</a>\n\n</BODY>\n</HTML>
STATUS:CONFIRMED
CLASS:PUBLIC
URL:https://www.golnetwork.com/game/v/128022/
X-MICROSOFT-CDO-BUSYSTATUS:BUSY
X-MICROSOFT-CDO-IMPORTANCE:1
END:VEVENT
BEGIN:VEVENT
UID:gd2q5@games.golnetwork.com
LOCATION:Lamport Stadium - Field 2
GEO:43.6390028;-79.4232104
CREATED:20180829T013855Z
DTSTART:20181027T000000Z
DTEND:20181027T010000Z
DTSTAMP:20260421T052201Z
SUMMARY:XTSC Footie Fridays vs. We Wear Black 4
DESCRIPTION:We Wear Black 4 vs. XTSC Footie FridaysPlus d'info : #475
X-ALT-DESC;FMTTYPE=text/html:<!DOCTYPE HTML PUBLIC "-//W3C//DTD HTML 3.2//E
	N">\n<HTML>\n<HEAD>\n<TITLE></TITLE>\n</HEAD>\n<BODY>\n<h3>We Wear Black 4 
	vs. XTSC Footie Fridays</h3>Plus d'info : <a href="https://www.golnetwork.c
	om/game/v/128023/">#475</a>\n\n</BODY>\n</HTML>
STATUS:CONFIRMED
CLASS:PUBLIC
URL:https://www.golnetwork.com/game/v/128023/
X-MICROSOFT-CDO-BUSYSTATUS:BUSY
X-MICROSOFT-CDO-IMPORTANCE:1
END:VEVENT
END:VCALENDAR
