BEGIN:VCALENDAR
PRODID:-//gdesolutions.com//MV Framework 1.0.0.1607 Calendar//EN
VERSION:2.0
METHOD:PUBLISH
CALSCALE:GREGORIAN
BEGIN:VEVENT
UID:gd3ac@games.golnetwork.com
LOCATION:Lamport Stadium - Field 3
GEO:43.6390028;-79.4232104
CREATED:20180902T193443Z
DTSTART:20181014T230000Z
DTEND:20181015T000000Z
DTSTAMP:20260420T183350Z
SUMMARY:XTSC Hawks vs. Aztec Hawks
DESCRIPTION:Aztec Hawks vs. XTSC HawksPlus d'info : #386
X-ALT-DESC;FMTTYPE=text/html:<!DOCTYPE HTML PUBLIC "-//W3C//DTD HTML 3.2//E
	N">\n<HTML>\n<HEAD>\n<TITLE></TITLE>\n</HEAD>\n<BODY>\n<h3>Aztec Hawks vs. 
	XTSC Hawks</h3>Plus d'info : <a href="https://www.golnetwork.com/game/v/128
	175/">#386</a>\n\n</BODY>\n</HTML>
STATUS:CONFIRMED
CLASS:PUBLIC
URL:https://www.golnetwork.com/game/v/128175/
X-MICROSOFT-CDO-BUSYSTATUS:BUSY
X-MICROSOFT-CDO-IMPORTANCE:1
END:VEVENT
BEGIN:VEVENT
UID:gd3ae@games.golnetwork.com
LOCATION:Lamport Stadium - Field 3
GEO:43.6390028;-79.4232104
CREATED:20180902T193443Z
DTSTART:20181015T000000Z
DTEND:20181015T010000Z
DTSTAMP:20260420T183350Z
SUMMARY:World VII vs. XTSC Falcons
DESCRIPTION:XTSC Falcons vs. World VIIPlus d'info : #388
X-ALT-DESC;FMTTYPE=text/html:<!DOCTYPE HTML PUBLIC "-//W3C//DTD HTML 3.2//E
	N">\n<HTML>\n<HEAD>\n<TITLE></TITLE>\n</HEAD>\n<BODY>\n<h3>XTSC Falcons vs.
	 World VII</h3>Plus d'info : <a href="https://www.golnetwork.com/game/v/128
	176/">#388</a>\n\n</BODY>\n</HTML>
STATUS:CONFIRMED
CLASS:PUBLIC
URL:https://www.golnetwork.com/game/v/128176/
X-MICROSOFT-CDO-BUSYSTATUS:BUSY
X-MICROSOFT-CDO-IMPORTANCE:1
END:VEVENT
BEGIN:VEVENT
UID:gd3ag@games.golnetwork.com
LOCATION:Lamport Stadium - Field 3
GEO:43.6390028;-79.4232104
CREATED:20180902T193443Z
DTSTART:20181022T000000Z
DTEND:20181022T010000Z
DTSTAMP:20260420T183350Z
SUMMARY:World VII vs. Aztec Hawks
DESCRIPTION:Aztec Hawks vs. World VIIPlus d'info : #443
X-ALT-DESC;FMTTYPE=text/html:<!DOCTYPE HTML PUBLIC "-//W3C//DTD HTML 3.2//E
	N">\n<HTML>\n<HEAD>\n<TITLE></TITLE>\n</HEAD>\n<BODY>\n<h3>Aztec Hawks vs. 
	World VII</h3>Plus d'info : <a href="https://www.golnetwork.com/game/v/1281
	77/">#443</a>\n\n</BODY>\n</HTML>
STATUS:CONFIRMED
CLASS:PUBLIC
URL:https://www.golnetwork.com/game/v/128177/
X-MICROSOFT-CDO-BUSYSTATUS:BUSY
X-MICROSOFT-CDO-IMPORTANCE:1
END:VEVENT
END:VCALENDAR
