BEGIN:VCALENDAR
PRODID:-//gdesolutions.com//MV Framework 1.0.0.1607 Calendar//EN
VERSION:2.0
METHOD:PUBLISH
CALSCALE:GREGORIAN
BEGIN:VEVENT
UID:gd1mi@games.golnetwork.com
LOCATION:Lamport Stadium - Field 3
GEO:43.6390028;-79.4232104
CREATED:20180817T194414Z
DTSTART:20180827T221500Z
DTEND:20180827T231500Z
DTSTAMP:20260420T131435Z
SUMMARY:Dynamo Kebab vs. Brown Bag Busters
DESCRIPTION:Brown Bag Busters vs. Dynamo KebabPlus d'info : #30
X-ALT-DESC;FMTTYPE=text/html:<!DOCTYPE HTML PUBLIC "-//W3C//DTD HTML 3.2//E
	N">\n<HTML>\n<HEAD>\n<TITLE></TITLE>\n</HEAD>\n<BODY>\n<h3>Brown Bag Buster
	s vs. Dynamo Kebab</h3>Plus d'info : <a href="https://www.golnetwork.com/ga
	me/v/127611/">#30</a>\n\n</BODY>\n</HTML>
STATUS:CONFIRMED
CLASS:PUBLIC
URL:https://www.golnetwork.com/game/v/127611/
X-MICROSOFT-CDO-BUSYSTATUS:BUSY
X-MICROSOFT-CDO-IMPORTANCE:1
END:VEVENT
BEGIN:VEVENT
UID:gd1mk@games.golnetwork.com
LOCATION:Lamport Stadium - Field 3
GEO:43.6390028;-79.4232104
CREATED:20180817T194903Z
DTSTART:20180827T231000Z
DTEND:20180828T001000Z
DTSTAMP:20260420T131435Z
SUMMARY:Mbappe Around the Clock vs. Goal-bergine F.C.
DESCRIPTION:Goal-bergine F.C. vs. Mbappe Around the ClockPlus d'info : #32
X-ALT-DESC;FMTTYPE=text/html:<!DOCTYPE HTML PUBLIC "-//W3C//DTD HTML 3.2//E
	N">\n<HTML>\n<HEAD>\n<TITLE></TITLE>\n</HEAD>\n<BODY>\n<h3>Goal-bergine F.C
	. vs. Mbappe Around the Clock</h3>Plus d'info : <a href="https://www.golnet
	work.com/game/v/127612/">#32</a>\n\n</BODY>\n</HTML>
STATUS:CONFIRMED
CLASS:PUBLIC
URL:https://www.golnetwork.com/game/v/127612/
X-MICROSOFT-CDO-BUSYSTATUS:BUSY
X-MICROSOFT-CDO-IMPORTANCE:1
END:VEVENT
BEGIN:VEVENT
UID:gd1mm@games.golnetwork.com
LOCATION:Lamport Stadium - Field 3
GEO:43.6390028;-79.4232104
CREATED:20180817T194950Z
DTSTART:20180828T000500Z
DTEND:20180828T010500Z
DTSTAMP:20260420T131435Z
SUMMARY:XTSC Monday Night Madness vs. Not Sure Yet
DESCRIPTION:Not Sure Yet vs. XTSC Monday Night MadnessPlus d'info : #35
X-ALT-DESC;FMTTYPE=text/html:<!DOCTYPE HTML PUBLIC "-//W3C//DTD HTML 3.2//E
	N">\n<HTML>\n<HEAD>\n<TITLE></TITLE>\n</HEAD>\n<BODY>\n<h3>Not Sure Yet vs.
	 XTSC Monday Night Madness</h3>Plus d'info : <a href="https://www.golnetwor
	k.com/game/v/127613/">#35</a>\n\n</BODY>\n</HTML>
STATUS:CONFIRMED
CLASS:PUBLIC
URL:https://www.golnetwork.com/game/v/127613/
X-MICROSOFT-CDO-BUSYSTATUS:BUSY
X-MICROSOFT-CDO-IMPORTANCE:1
END:VEVENT
BEGIN:VEVENT
UID:gd1mo@games.golnetwork.com
LOCATION:Lamport Stadium - Field 3
GEO:43.6390028;-79.4232104
CREATED:20180817T195004Z
DTSTART:20180903T221500Z
DTEND:20180903T231500Z
DTSTAMP:20260420T131435Z
SUMMARY:Mbappe Around the Clock vs. XTSC Monday Night Madness
DESCRIPTION:XTSC Monday Night Madness vs. Mbappe Around the ClockPlus d'inf
	o : #59
X-ALT-DESC;FMTTYPE=text/html:<!DOCTYPE HTML PUBLIC "-//W3C//DTD HTML 3.2//E
	N">\n<HTML>\n<HEAD>\n<TITLE></TITLE>\n</HEAD>\n<BODY>\n<h3>XTSC Monday Nigh
	t Madness vs. Mbappe Around the Clock</h3>Plus d'info : <a href="https://ww
	w.golnetwork.com/game/v/127614/">#59</a>\n\n</BODY>\n</HTML>
STATUS:CONFIRMED
CLASS:PUBLIC
URL:https://www.golnetwork.com/game/v/127614/
X-MICROSOFT-CDO-BUSYSTATUS:BUSY
X-MICROSOFT-CDO-IMPORTANCE:1
END:VEVENT
BEGIN:VEVENT
UID:gd1mq@games.golnetwork.com
LOCATION:Lamport Stadium - Field 3
GEO:43.6390028;-79.4232104
CREATED:20180817T195016Z
DTSTART:20180903T231000Z
DTEND:20180904T001000Z
DTSTAMP:20260420T131435Z
SUMMARY:Dynamo Kebab vs. Not Sure Yet
DESCRIPTION:Not Sure Yet vs. Dynamo KebabPlus d'info : #61
X-ALT-DESC;FMTTYPE=text/html:<!DOCTYPE HTML PUBLIC "-//W3C//DTD HTML 3.2//E
	N">\n<HTML>\n<HEAD>\n<TITLE></TITLE>\n</HEAD>\n<BODY>\n<h3>Not Sure Yet vs.
	 Dynamo Kebab</h3>Plus d'info : <a href="https://www.golnetwork.com/game/v/
	127615/">#61</a>\n\n</BODY>\n</HTML>
STATUS:CONFIRMED
CLASS:PUBLIC
URL:https://www.golnetwork.com/game/v/127615/
X-MICROSOFT-CDO-BUSYSTATUS:BUSY
X-MICROSOFT-CDO-IMPORTANCE:1
END:VEVENT
BEGIN:VEVENT
UID:gd1n1@games.golnetwork.com
LOCATION:Lamport Stadium - Field 3
GEO:43.6390028;-79.4232104
CREATED:20180817T195027Z
DTSTART:20180904T000500Z
DTEND:20180904T010500Z
DTSTAMP:20260420T131435Z
SUMMARY:Goal-bergine F.C. vs. Brown Bag Busters
DESCRIPTION:Brown Bag Busters vs. Goal-bergine F.C.Plus d'info : #63
X-ALT-DESC;FMTTYPE=text/html:<!DOCTYPE HTML PUBLIC "-//W3C//DTD HTML 3.2//E
	N">\n<HTML>\n<HEAD>\n<TITLE></TITLE>\n</HEAD>\n<BODY>\n<h3>Brown Bag Buster
	s vs. Goal-bergine F.C.</h3>Plus d'info : <a href="https://www.golnetwork.c
	om/game/v/127616/">#63</a>\n\n</BODY>\n</HTML>
STATUS:CONFIRMED
CLASS:PUBLIC
URL:https://www.golnetwork.com/game/v/127616/
X-MICROSOFT-CDO-BUSYSTATUS:BUSY
X-MICROSOFT-CDO-IMPORTANCE:1
END:VEVENT
BEGIN:VEVENT
UID:gd1n7@games.golnetwork.com
LOCATION:Lamport Stadium - Field 3
GEO:43.6390028;-79.4232104
CREATED:20180817T195111Z
DTSTART:20180910T221500Z
DTEND:20180910T231500Z
DTSTAMP:20260420T131435Z
SUMMARY:Goal-bergine F.C. vs. XTSC Monday Night Madness
DESCRIPTION:XTSC Monday Night Madness vs. Goal-bergine F.C.Plus d'info : #1
	03
X-ALT-DESC;FMTTYPE=text/html:<!DOCTYPE HTML PUBLIC "-//W3C//DTD HTML 3.2//E
	N">\n<HTML>\n<HEAD>\n<TITLE></TITLE>\n</HEAD>\n<BODY>\n<h3>XTSC Monday Nigh
	t Madness vs. Goal-bergine F.C.</h3>Plus d'info : <a href="https://www.goln
	etwork.com/game/v/127619/">#103</a>\n\n</BODY>\n</HTML>
STATUS:CONFIRMED
CLASS:PUBLIC
URL:https://www.golnetwork.com/game/v/127619/
X-MICROSOFT-CDO-BUSYSTATUS:BUSY
X-MICROSOFT-CDO-IMPORTANCE:1
END:VEVENT
BEGIN:VEVENT
UID:gd1n5@games.golnetwork.com
LOCATION:Lamport Stadium - Field 3
GEO:43.6390028;-79.4232104
CREATED:20180817T195101Z
DTSTART:20180910T231000Z
DTEND:20180911T001000Z
DTSTAMP:20260420T131435Z
SUMMARY:Brown Bag Busters vs. Not Sure Yet
DESCRIPTION:Not Sure Yet vs. Brown Bag BustersPlus d'info : #106
X-ALT-DESC;FMTTYPE=text/html:<!DOCTYPE HTML PUBLIC "-//W3C//DTD HTML 3.2//E
	N">\n<HTML>\n<HEAD>\n<TITLE></TITLE>\n</HEAD>\n<BODY>\n<h3>Not Sure Yet vs.
	 Brown Bag Busters</h3>Plus d'info : <a href="https://www.golnetwork.com/ga
	me/v/127618/">#106</a>\n\n</BODY>\n</HTML>
STATUS:CONFIRMED
CLASS:PUBLIC
URL:https://www.golnetwork.com/game/v/127618/
X-MICROSOFT-CDO-BUSYSTATUS:BUSY
X-MICROSOFT-CDO-IMPORTANCE:1
END:VEVENT
BEGIN:VEVENT
UID:gd1n3@games.golnetwork.com
LOCATION:Lamport Stadium - Field 3
GEO:43.6390028;-79.4232104
CREATED:20180817T195046Z
DTSTART:20180911T000500Z
DTEND:20180911T010500Z
DTSTAMP:20260420T131435Z
SUMMARY:Dynamo Kebab vs. Mbappe Around the Clock
DESCRIPTION:Mbappe Around the Clock vs. Dynamo KebabPlus d'info : #108
X-ALT-DESC;FMTTYPE=text/html:<!DOCTYPE HTML PUBLIC "-//W3C//DTD HTML 3.2//E
	N">\n<HTML>\n<HEAD>\n<TITLE></TITLE>\n</HEAD>\n<BODY>\n<h3>Mbappe Around th
	e Clock vs. Dynamo Kebab</h3>Plus d'info : <a href="https://www.golnetwork.
	com/game/v/127617/">#108</a>\n\n</BODY>\n</HTML>
STATUS:CONFIRMED
CLASS:PUBLIC
URL:https://www.golnetwork.com/game/v/127617/
X-MICROSOFT-CDO-BUSYSTATUS:BUSY
X-MICROSOFT-CDO-IMPORTANCE:1
END:VEVENT
BEGIN:VEVENT
UID:gd1n9@games.golnetwork.com
LOCATION:Lamport Stadium - Field 3
GEO:43.6390028;-79.4232104
CREATED:20180817T195123Z
DTSTART:20180917T221500Z
DTEND:20180917T231500Z
DTSTAMP:20260420T131435Z
SUMMARY:Not Sure Yet vs. Mbappe Around the Clock
DESCRIPTION:Mbappe Around the Clock vs. Not Sure YetPlus d'info : #148
X-ALT-DESC;FMTTYPE=text/html:<!DOCTYPE HTML PUBLIC "-//W3C//DTD HTML 3.2//E
	N">\n<HTML>\n<HEAD>\n<TITLE></TITLE>\n</HEAD>\n<BODY>\n<h3>Mbappe Around th
	e Clock vs. Not Sure Yet</h3>Plus d'info : <a href="https://www.golnetwork.
	com/game/v/127620/">#148</a>\n\n</BODY>\n</HTML>
STATUS:CONFIRMED
CLASS:PUBLIC
URL:https://www.golnetwork.com/game/v/127620/
X-MICROSOFT-CDO-BUSYSTATUS:BUSY
X-MICROSOFT-CDO-IMPORTANCE:1
END:VEVENT
BEGIN:VEVENT
UID:gd1nb@games.golnetwork.com
LOCATION:Lamport Stadium - Field 3
GEO:43.6390028;-79.4232104
CREATED:20180817T195136Z
DTSTART:20180917T231000Z
DTEND:20180918T001000Z
DTSTAMP:20260420T131435Z
SUMMARY:Brown Bag Busters vs. XTSC Monday Night Madness
DESCRIPTION:XTSC Monday Night Madness vs. Brown Bag BustersPlus d'info : #1
	50
X-ALT-DESC;FMTTYPE=text/html:<!DOCTYPE HTML PUBLIC "-//W3C//DTD HTML 3.2//E
	N">\n<HTML>\n<HEAD>\n<TITLE></TITLE>\n</HEAD>\n<BODY>\n<h3>XTSC Monday Nigh
	t Madness vs. Brown Bag Busters</h3>Plus d'info : <a href="https://www.goln
	etwork.com/game/v/127621/">#150</a>\n\n</BODY>\n</HTML>
STATUS:CONFIRMED
CLASS:PUBLIC
URL:https://www.golnetwork.com/game/v/127621/
X-MICROSOFT-CDO-BUSYSTATUS:BUSY
X-MICROSOFT-CDO-IMPORTANCE:1
END:VEVENT
BEGIN:VEVENT
UID:gd1nd@games.golnetwork.com
LOCATION:Lamport Stadium - Field 3
GEO:43.6390028;-79.4232104
CREATED:20180817T195150Z
DTSTART:20180918T000500Z
DTEND:20180918T010500Z
DTSTAMP:20260420T131435Z
SUMMARY:Goal-bergine F.C. vs. Dynamo Kebab
DESCRIPTION:Dynamo Kebab vs. Goal-bergine F.C.Plus d'info : #154
X-ALT-DESC;FMTTYPE=text/html:<!DOCTYPE HTML PUBLIC "-//W3C//DTD HTML 3.2//E
	N">\n<HTML>\n<HEAD>\n<TITLE></TITLE>\n</HEAD>\n<BODY>\n<h3>Dynamo Kebab vs.
	 Goal-bergine F.C.</h3>Plus d'info : <a href="https://www.golnetwork.com/ga
	me/v/127622/">#154</a>\n\n</BODY>\n</HTML>
STATUS:CONFIRMED
CLASS:PUBLIC
URL:https://www.golnetwork.com/game/v/127622/
X-MICROSOFT-CDO-BUSYSTATUS:BUSY
X-MICROSOFT-CDO-IMPORTANCE:1
END:VEVENT
BEGIN:VEVENT
UID:gd1nj@games.golnetwork.com
LOCATION:Lamport Stadium - Field 3
GEO:43.6390028;-79.4232104
CREATED:20180817T195231Z
DTSTART:20180924T221500Z
DTEND:20180924T231500Z
DTSTAMP:20260420T131435Z
SUMMARY:Not Sure Yet vs. Goal-bergine F.C.
DESCRIPTION:Goal-bergine F.C. vs. Not Sure YetPlus d'info : #209
X-ALT-DESC;FMTTYPE=text/html:<!DOCTYPE HTML PUBLIC "-//W3C//DTD HTML 3.2//E
	N">\n<HTML>\n<HEAD>\n<TITLE></TITLE>\n</HEAD>\n<BODY>\n<h3>Goal-bergine F.C
	. vs. Not Sure Yet</h3>Plus d'info : <a href="https://www.golnetwork.com/ga
	me/v/127625/">#209</a>\n\n</BODY>\n</HTML>
STATUS:CONFIRMED
CLASS:PUBLIC
URL:https://www.golnetwork.com/game/v/127625/
X-MICROSOFT-CDO-BUSYSTATUS:BUSY
X-MICROSOFT-CDO-IMPORTANCE:1
END:VEVENT
BEGIN:VEVENT
UID:gd1nh@games.golnetwork.com
LOCATION:Lamport Stadium - Field 3
GEO:43.6390028;-79.4232104
CREATED:20180817T195221Z
DTSTART:20180924T231000Z
DTEND:20180925T001000Z
DTSTAMP:20260420T131435Z
SUMMARY:XTSC Monday Night Madness vs. Dynamo Kebab
DESCRIPTION:Dynamo Kebab vs. XTSC Monday Night MadnessPlus d'info : #212
X-ALT-DESC;FMTTYPE=text/html:<!DOCTYPE HTML PUBLIC "-//W3C//DTD HTML 3.2//E
	N">\n<HTML>\n<HEAD>\n<TITLE></TITLE>\n</HEAD>\n<BODY>\n<h3>Dynamo Kebab vs.
	 XTSC Monday Night Madness</h3>Plus d'info : <a href="https://www.golnetwor
	k.com/game/v/127624/">#212</a>\n\n</BODY>\n</HTML>
STATUS:CONFIRMED
CLASS:PUBLIC
URL:https://www.golnetwork.com/game/v/127624/
X-MICROSOFT-CDO-BUSYSTATUS:BUSY
X-MICROSOFT-CDO-IMPORTANCE:1
END:VEVENT
BEGIN:VEVENT
UID:gd1nf@games.golnetwork.com
LOCATION:Lamport Stadium - Field 3
GEO:43.6390028;-79.4232104
CREATED:20180817T195205Z
DTSTART:20180925T000500Z
DTEND:20180925T010500Z
DTSTAMP:20260420T131435Z
SUMMARY:Mbappe Around the Clock vs. Brown Bag Busters
DESCRIPTION:Brown Bag Busters vs. Mbappe Around the ClockPlus d'info : #216
X-ALT-DESC;FMTTYPE=text/html:<!DOCTYPE HTML PUBLIC "-//W3C//DTD HTML 3.2//E
	N">\n<HTML>\n<HEAD>\n<TITLE></TITLE>\n</HEAD>\n<BODY>\n<h3>Brown Bag Buster
	s vs. Mbappe Around the Clock</h3>Plus d'info : <a href="https://www.golnet
	work.com/game/v/127623/">#216</a>\n\n</BODY>\n</HTML>
STATUS:CONFIRMED
CLASS:PUBLIC
URL:https://www.golnetwork.com/game/v/127623/
X-MICROSOFT-CDO-BUSYSTATUS:BUSY
X-MICROSOFT-CDO-IMPORTANCE:1
END:VEVENT
BEGIN:VEVENT
UID:gd1nl@games.golnetwork.com
LOCATION:Lamport Stadium - Field 3
GEO:43.6390028;-79.4232104
CREATED:20180817T195238Z
DTSTART:20181001T221500Z
DTEND:20181001T231500Z
DTSTAMP:20260420T131435Z
SUMMARY:Dynamo Kebab vs. Brown Bag Busters
DESCRIPTION:Brown Bag Busters vs. Dynamo KebabPlus d'info : #277
X-ALT-DESC;FMTTYPE=text/html:<!DOCTYPE HTML PUBLIC "-//W3C//DTD HTML 3.2//E
	N">\n<HTML>\n<HEAD>\n<TITLE></TITLE>\n</HEAD>\n<BODY>\n<h3>Brown Bag Buster
	s vs. Dynamo Kebab</h3>Plus d'info : <a href="https://www.golnetwork.com/ga
	me/v/127626/">#277</a>\n\n</BODY>\n</HTML>
STATUS:CONFIRMED
CLASS:PUBLIC
URL:https://www.golnetwork.com/game/v/127626/
X-MICROSOFT-CDO-BUSYSTATUS:BUSY
X-MICROSOFT-CDO-IMPORTANCE:1
END:VEVENT
BEGIN:VEVENT
UID:gd1nn@games.golnetwork.com
LOCATION:Lamport Stadium - Field 3
GEO:43.6390028;-79.4232104
CREATED:20180817T195250Z
DTSTART:20181001T231000Z
DTEND:20181002T001000Z
DTSTAMP:20260420T131435Z
SUMMARY:Mbappe Around the Clock vs. Goal-bergine F.C.
DESCRIPTION:Goal-bergine F.C. vs. Mbappe Around the ClockPlus d'info : #281
X-ALT-DESC;FMTTYPE=text/html:<!DOCTYPE HTML PUBLIC "-//W3C//DTD HTML 3.2//E
	N">\n<HTML>\n<HEAD>\n<TITLE></TITLE>\n</HEAD>\n<BODY>\n<h3>Goal-bergine F.C
	. vs. Mbappe Around the Clock</h3>Plus d'info : <a href="https://www.golnet
	work.com/game/v/127627/">#281</a>\n\n</BODY>\n</HTML>
STATUS:CONFIRMED
CLASS:PUBLIC
URL:https://www.golnetwork.com/game/v/127627/
X-MICROSOFT-CDO-BUSYSTATUS:BUSY
X-MICROSOFT-CDO-IMPORTANCE:1
END:VEVENT
BEGIN:VEVENT
UID:gd1np@games.golnetwork.com
LOCATION:Lamport Stadium - Field 3
GEO:43.6390028;-79.4232104
CREATED:20180817T195323Z
DTSTART:20181002T000500Z
DTEND:20181002T010500Z
DTSTAMP:20260420T131435Z
SUMMARY:XTSC Monday Night Madness vs. Not Sure Yet
DESCRIPTION:Not Sure Yet vs. XTSC Monday Night MadnessPlus d'info : #285
X-ALT-DESC;FMTTYPE=text/html:<!DOCTYPE HTML PUBLIC "-//W3C//DTD HTML 3.2//E
	N">\n<HTML>\n<HEAD>\n<TITLE></TITLE>\n</HEAD>\n<BODY>\n<h3>Not Sure Yet vs.
	 XTSC Monday Night Madness</h3>Plus d'info : <a href="https://www.golnetwor
	k.com/game/v/127628/">#285</a>\n\n</BODY>\n</HTML>
STATUS:CONFIRMED
CLASS:PUBLIC
URL:https://www.golnetwork.com/game/v/127628/
X-MICROSOFT-CDO-BUSYSTATUS:BUSY
X-MICROSOFT-CDO-IMPORTANCE:1
END:VEVENT
BEGIN:VEVENT
UID:gd1o4@games.golnetwork.com
LOCATION:Lamport Stadium - Field 3
GEO:43.6390028;-79.4232104
CREATED:20180817T195359Z
DTSTART:20181008T221500Z
DTEND:20181008T231500Z
DTSTAMP:20260420T131435Z
SUMMARY:Mbappe Around the Clock vs. XTSC Monday Night Madness
DESCRIPTION:XTSC Monday Night Madness vs. Mbappe Around the ClockPlus d'inf
	o : #327
X-ALT-DESC;FMTTYPE=text/html:<!DOCTYPE HTML PUBLIC "-//W3C//DTD HTML 3.2//E
	N">\n<HTML>\n<HEAD>\n<TITLE></TITLE>\n</HEAD>\n<BODY>\n<h3>XTSC Monday Nigh
	t Madness vs. Mbappe Around the Clock</h3>Plus d'info : <a href="https://ww
	w.golnetwork.com/game/v/127631/">#327</a>\n\n</BODY>\n</HTML>
STATUS:CONFIRMED
CLASS:PUBLIC
URL:https://www.golnetwork.com/game/v/127631/
X-MICROSOFT-CDO-BUSYSTATUS:BUSY
X-MICROSOFT-CDO-IMPORTANCE:1
END:VEVENT
BEGIN:VEVENT
UID:gd1o2@games.golnetwork.com
LOCATION:Lamport Stadium - Field 3
GEO:43.6390028;-79.4232104
CREATED:20180817T195348Z
DTSTART:20181008T231000Z
DTEND:20181009T001000Z
DTSTAMP:20260420T131435Z
SUMMARY:Dynamo Kebab vs. Not Sure Yet
DESCRIPTION:Not Sure Yet vs. Dynamo KebabPlus d'info : #330
X-ALT-DESC;FMTTYPE=text/html:<!DOCTYPE HTML PUBLIC "-//W3C//DTD HTML 3.2//E
	N">\n<HTML>\n<HEAD>\n<TITLE></TITLE>\n</HEAD>\n<BODY>\n<h3>Not Sure Yet vs.
	 Dynamo Kebab</h3>Plus d'info : <a href="https://www.golnetwork.com/game/v/
	127630/">#330</a>\n\n</BODY>\n</HTML>
STATUS:CONFIRMED
CLASS:PUBLIC
URL:https://www.golnetwork.com/game/v/127630/
X-MICROSOFT-CDO-BUSYSTATUS:BUSY
X-MICROSOFT-CDO-IMPORTANCE:1
END:VEVENT
BEGIN:VEVENT
UID:gd1o0@games.golnetwork.com
LOCATION:Lamport Stadium - Field 3
GEO:43.6390028;-79.4232104
CREATED:20180817T195337Z
DTSTART:20181009T000500Z
DTEND:20181009T010500Z
DTSTAMP:20260420T131435Z
SUMMARY:Goal-bergine F.C. vs. Brown Bag Busters
DESCRIPTION:Brown Bag Busters vs. Goal-bergine F.C.Plus d'info : #336
X-ALT-DESC;FMTTYPE=text/html:<!DOCTYPE HTML PUBLIC "-//W3C//DTD HTML 3.2//E
	N">\n<HTML>\n<HEAD>\n<TITLE></TITLE>\n</HEAD>\n<BODY>\n<h3>Brown Bag Buster
	s vs. Goal-bergine F.C.</h3>Plus d'info : <a href="https://www.golnetwork.c
	om/game/v/127629/">#336</a>\n\n</BODY>\n</HTML>
STATUS:CONFIRMED
CLASS:PUBLIC
URL:https://www.golnetwork.com/game/v/127629/
X-MICROSOFT-CDO-BUSYSTATUS:BUSY
X-MICROSOFT-CDO-IMPORTANCE:1
END:VEVENT
BEGIN:VEVENT
UID:gd1o6@games.golnetwork.com
LOCATION:Lamport Stadium - Field 3
GEO:43.6390028;-79.4232104
CREATED:20180817T195415Z
DTSTART:20181015T221500Z
DTEND:20181015T231500Z
DTSTAMP:20260420T131435Z
SUMMARY:Brown Bag Busters vs. Dynamo Kebab
DESCRIPTION:Dynamo Kebab vs. Brown Bag BustersPlus d'info : #393
X-ALT-DESC;FMTTYPE=text/html:<!DOCTYPE HTML PUBLIC "-//W3C//DTD HTML 3.2//E
	N">\n<HTML>\n<HEAD>\n<TITLE></TITLE>\n</HEAD>\n<BODY>\n<h3>Dynamo Kebab vs.
	 Brown Bag Busters</h3>Plus d'info : <a href="https://www.golnetwork.com/ga
	me/v/127632/">#393</a>\n\n</BODY>\n</HTML>
STATUS:CONFIRMED
CLASS:PUBLIC
URL:https://www.golnetwork.com/game/v/127632/
X-MICROSOFT-CDO-BUSYSTATUS:BUSY
X-MICROSOFT-CDO-IMPORTANCE:1
END:VEVENT
BEGIN:VEVENT
UID:gd1o8@games.golnetwork.com
LOCATION:Lamport Stadium - Field 3
GEO:43.6390028;-79.4232104
CREATED:20180817T195419Z
DTSTART:20181022T221500Z
DTEND:20181022T231500Z
DTSTAMP:20260420T131435Z
SUMMARY:Goal-bergine F.C. vs. Dynamo Kebab
DESCRIPTION:Dynamo Kebab vs. Goal-bergine F.C.Plus d'info : #445
X-ALT-DESC;FMTTYPE=text/html:<!DOCTYPE HTML PUBLIC "-//W3C//DTD HTML 3.2//E
	N">\n<HTML>\n<HEAD>\n<TITLE></TITLE>\n</HEAD>\n<BODY>\n<h3>Dynamo Kebab vs.
	 Goal-bergine F.C.</h3>Plus d'info : <a href="https://www.golnetwork.com/ga
	me/v/127633/">#445</a>\n\n</BODY>\n</HTML>
STATUS:CONFIRMED
CLASS:PUBLIC
URL:https://www.golnetwork.com/game/v/127633/
X-MICROSOFT-CDO-BUSYSTATUS:BUSY
X-MICROSOFT-CDO-IMPORTANCE:1
END:VEVENT
BEGIN:VEVENT
UID:gd1oa@games.golnetwork.com
LOCATION:Lamport Stadium - Field 3
GEO:43.6390028;-79.4232104
CREATED:20180817T195425Z
DTSTART:20181022T231000Z
DTEND:20181023T001000Z
DTSTAMP:20260420T131435Z
SUMMARY:XTSC Monday Night Madness vs. Brown Bag Busters
DESCRIPTION:Brown Bag Busters vs. XTSC Monday Night MadnessPlus d'info : #4
	49
X-ALT-DESC;FMTTYPE=text/html:<!DOCTYPE HTML PUBLIC "-//W3C//DTD HTML 3.2//E
	N">\n<HTML>\n<HEAD>\n<TITLE></TITLE>\n</HEAD>\n<BODY>\n<h3>Brown Bag Buster
	s vs. XTSC Monday Night Madness</h3>Plus d'info : <a href="https://www.goln
	etwork.com/game/v/127634/">#449</a>\n\n</BODY>\n</HTML>
STATUS:CONFIRMED
CLASS:PUBLIC
URL:https://www.golnetwork.com/game/v/127634/
X-MICROSOFT-CDO-BUSYSTATUS:BUSY
X-MICROSOFT-CDO-IMPORTANCE:1
END:VEVENT
END:VCALENDAR
