BEGIN:VCALENDAR
PRODID:-//gdesolutions.com//MV Framework 1.0.0.1607 Calendar//EN
VERSION:2.0
METHOD:PUBLISH
CALSCALE:GREGORIAN
BEGIN:VEVENT
UID:gd2lq@games.golnetwork.com
LOCATION:Central Tech - Field 3
CREATED:20180827T182353Z
DTSTART:20181018T001500Z
DTEND:20181018T010500Z
DTSTAMP:20260420T145430Z
SUMMARY:No Bueno FC vs. Saulter St Brewers
DESCRIPTION:Saulter St Brewers vs. No Bueno FCPlus d'info : #72
X-ALT-DESC;FMTTYPE=text/html:<!DOCTYPE HTML PUBLIC "-//W3C//DTD HTML 3.2//E
	N">\n<HTML>\n<HEAD>\n<TITLE></TITLE>\n</HEAD>\n<BODY>\n<h3>Saulter St Brewe
	rs vs. No Bueno FC</h3>Plus d'info : <a href="https://www.golnetwork.com/ga
	me/v/127966/">#72</a>\n\n</BODY>\n</HTML>
STATUS:CONFIRMED
CLASS:PUBLIC
URL:https://www.golnetwork.com/game/v/127966/
X-MICROSOFT-CDO-BUSYSTATUS:BUSY
X-MICROSOFT-CDO-IMPORTANCE:1
END:VEVENT
BEGIN:VEVENT
UID:gd2m1@games.golnetwork.com
LOCATION:Central Tech - Field 3
CREATED:20180827T182353Z
DTSTART:20181018T011000Z
DTEND:20181018T020000Z
DTSTAMP:20260420T145430Z
SUMMARY:FC Bayer Neverlusen vs. Shopify FC
DESCRIPTION:Shopify FC vs. FC Bayer NeverlusenPlus d'info : #73
X-ALT-DESC;FMTTYPE=text/html:<!DOCTYPE HTML PUBLIC "-//W3C//DTD HTML 3.2//E
	N">\n<HTML>\n<HEAD>\n<TITLE></TITLE>\n</HEAD>\n<BODY>\n<h3>Shopify FC vs. F
	C Bayer Neverlusen</h3>Plus d'info : <a href="https://www.golnetwork.com/ga
	me/v/127967/">#73</a>\n\n</BODY>\n</HTML>
STATUS:CONFIRMED
CLASS:PUBLIC
URL:https://www.golnetwork.com/game/v/127967/
X-MICROSOFT-CDO-BUSYSTATUS:BUSY
X-MICROSOFT-CDO-IMPORTANCE:1
END:VEVENT
BEGIN:VEVENT
UID:gd2m3@games.golnetwork.com
LOCATION:Central Tech - Field 3
CREATED:20180827T182353Z
DTSTART:20181025T001500Z
DTEND:20181025T010500Z
DTSTAMP:20260420T145430Z
SUMMARY:FC Bayer Neverlusen vs. Saulter St Brewers
DESCRIPTION:Saulter St Brewers vs. FC Bayer NeverlusenPlus d'info : #83
X-ALT-DESC;FMTTYPE=text/html:<!DOCTYPE HTML PUBLIC "-//W3C//DTD HTML 3.2//E
	N">\n<HTML>\n<HEAD>\n<TITLE></TITLE>\n</HEAD>\n<BODY>\n<h3>Saulter St Brewe
	rs vs. FC Bayer Neverlusen</h3>Plus d'info : <a href="https://www.golnetwor
	k.com/game/v/127968/">#83</a>\n\n</BODY>\n</HTML>
STATUS:CONFIRMED
CLASS:PUBLIC
URL:https://www.golnetwork.com/game/v/127968/
X-MICROSOFT-CDO-BUSYSTATUS:BUSY
X-MICROSOFT-CDO-IMPORTANCE:1
END:VEVENT
END:VCALENDAR
