BEGIN:VCALENDAR
PRODID:-//gdesolutions.com//MV Framework 1.0.0.1607 Calendar//EN
VERSION:2.0
METHOD:PUBLISH
CALSCALE:GREGORIAN
BEGIN:VEVENT
UID:gd49m@games.golnetwork.com
LOCATION:Lord Lansdowne
CREATED:20180911T162120Z
DTSTART:20180918T220000Z
DTEND:20180918T230000Z
DTSTAMP:20260421T160519Z
SUMMARY:vodaQuad vs. XTSC Bump it Up!
DESCRIPTION:XTSC Bump it Up! vs. vodaQuadPlus d'info : #5
X-ALT-DESC;FMTTYPE=text/html:<!DOCTYPE HTML PUBLIC "-//W3C//DTD HTML 3.2//E
	N">\n<HTML>\n<HEAD>\n<TITLE></TITLE>\n</HEAD>\n<BODY>\n<h3>XTSC Bump it Up!
	 vs. vodaQuad</h3>Plus d'info : <a href="https://www.golnetwork.com/game/v/
	128531/">#5</a>\n\n</BODY>\n</HTML>
STATUS:CONFIRMED
CLASS:PUBLIC
URL:https://www.golnetwork.com/game/v/128531/
X-MICROSOFT-CDO-BUSYSTATUS:BUSY
X-MICROSOFT-CDO-IMPORTANCE:1
END:VEVENT
BEGIN:VEVENT
UID:gd49o@games.golnetwork.com
LOCATION:Lord Lansdowne
CREATED:20180911T162128Z
DTSTART:20180918T230000Z
DTEND:20180919T000000Z
DTSTAMP:20260421T160519Z
SUMMARY:Tripping Balls vs. Serving Cervezas
DESCRIPTION:Serving Cervezas vs. Tripping BallsPlus d'info : #6
X-ALT-DESC;FMTTYPE=text/html:<!DOCTYPE HTML PUBLIC "-//W3C//DTD HTML 3.2//E
	N">\n<HTML>\n<HEAD>\n<TITLE></TITLE>\n</HEAD>\n<BODY>\n<h3>Serving Cervezas
	 vs. Tripping Balls</h3>Plus d'info : <a href="https://www.golnetwork.com/g
	ame/v/128532/">#6</a>\n\n</BODY>\n</HTML>
STATUS:CONFIRMED
CLASS:PUBLIC
URL:https://www.golnetwork.com/game/v/128532/
X-MICROSOFT-CDO-BUSYSTATUS:BUSY
X-MICROSOFT-CDO-IMPORTANCE:1
END:VEVENT
BEGIN:VEVENT
UID:gd49q@games.golnetwork.com
LOCATION:Lord Lansdowne
CREATED:20180911T162136Z
DTSTART:20180919T000000Z
DTEND:20180919T010000Z
DTSTAMP:20260421T160519Z
SUMMARY:That Serve Tho vs. Buzzkillers
DESCRIPTION:Buzzkillers vs. That Serve ThoPlus d'info : #7
X-ALT-DESC;FMTTYPE=text/html:<!DOCTYPE HTML PUBLIC "-//W3C//DTD HTML 3.2//E
	N">\n<HTML>\n<HEAD>\n<TITLE></TITLE>\n</HEAD>\n<BODY>\n<h3>Buzzkillers vs. 
	That Serve Tho</h3>Plus d'info : <a href="https://www.golnetwork.com/game/v
	/128533/">#7</a>\n\n</BODY>\n</HTML>
STATUS:CONFIRMED
CLASS:PUBLIC
URL:https://www.golnetwork.com/game/v/128533/
X-MICROSOFT-CDO-BUSYSTATUS:BUSY
X-MICROSOFT-CDO-IMPORTANCE:1
END:VEVENT
BEGIN:VEVENT
UID:gd4a1@games.golnetwork.com
LOCATION:Lord Lansdowne
CREATED:20180911T162142Z
DTSTART:20180919T010000Z
DTEND:20180919T020000Z
DTSTAMP:20260421T160519Z
SUMMARY:tbd vs. Bump\, set\, GIRTH
DESCRIPTION:Bump\, set\, GIRTH vs. tbdPlus d'info : #8
X-ALT-DESC;FMTTYPE=text/html:<!DOCTYPE HTML PUBLIC "-//W3C//DTD HTML 3.2//E
	N">\n<HTML>\n<HEAD>\n<TITLE></TITLE>\n</HEAD>\n<BODY>\n<h3>Bump\, set\, GIR
	TH vs. tbd</h3>Plus d'info : <a href="https://www.golnetwork.com/game/v/128
	534/">#8</a>\n\n</BODY>\n</HTML>
STATUS:CONFIRMED
CLASS:PUBLIC
URL:https://www.golnetwork.com/game/v/128534/
X-MICROSOFT-CDO-BUSYSTATUS:BUSY
X-MICROSOFT-CDO-IMPORTANCE:1
END:VEVENT
BEGIN:VEVENT
UID:gd4a3@games.golnetwork.com
LOCATION:Lord Lansdowne
CREATED:20180911T162151Z
DTSTART:20180925T220000Z
DTEND:20180925T230000Z
DTSTAMP:20260421T160519Z
SUMMARY:Buzzkillers vs. Tripping Balls
DESCRIPTION:Tripping Balls vs. BuzzkillersPlus d'info : #21
X-ALT-DESC;FMTTYPE=text/html:<!DOCTYPE HTML PUBLIC "-//W3C//DTD HTML 3.2//E
	N">\n<HTML>\n<HEAD>\n<TITLE></TITLE>\n</HEAD>\n<BODY>\n<h3>Tripping Balls v
	s. Buzzkillers</h3>Plus d'info : <a href="https://www.golnetwork.com/game/v
	/128535/">#21</a>\n\n</BODY>\n</HTML>
STATUS:CONFIRMED
CLASS:PUBLIC
URL:https://www.golnetwork.com/game/v/128535/
X-MICROSOFT-CDO-BUSYSTATUS:BUSY
X-MICROSOFT-CDO-IMPORTANCE:1
END:VEVENT
BEGIN:VEVENT
UID:gd4a5@games.golnetwork.com
LOCATION:Lord Lansdowne
CREATED:20180911T162203Z
DTSTART:20180925T230000Z
DTEND:20180926T000000Z
DTSTAMP:20260421T160519Z
SUMMARY:That Serve Tho vs. Bump\, set\, GIRTH
DESCRIPTION:Bump\, set\, GIRTH vs. That Serve ThoPlus d'info : #22
X-ALT-DESC;FMTTYPE=text/html:<!DOCTYPE HTML PUBLIC "-//W3C//DTD HTML 3.2//E
	N">\n<HTML>\n<HEAD>\n<TITLE></TITLE>\n</HEAD>\n<BODY>\n<h3>Bump\, set\, GIR
	TH vs. That Serve Tho</h3>Plus d'info : <a href="https://www.golnetwork.com
	/game/v/128536/">#22</a>\n\n</BODY>\n</HTML>
STATUS:CONFIRMED
CLASS:PUBLIC
URL:https://www.golnetwork.com/game/v/128536/
X-MICROSOFT-CDO-BUSYSTATUS:BUSY
X-MICROSOFT-CDO-IMPORTANCE:1
END:VEVENT
BEGIN:VEVENT
UID:gd4a7@games.golnetwork.com
LOCATION:Lord Lansdowne
CREATED:20180911T162211Z
DTSTART:20180926T000000Z
DTEND:20180926T010000Z
DTSTAMP:20260421T160519Z
SUMMARY:tbd vs. vodaQuad
DESCRIPTION:vodaQuad vs. tbdPlus d'info : #23
X-ALT-DESC;FMTTYPE=text/html:<!DOCTYPE HTML PUBLIC "-//W3C//DTD HTML 3.2//E
	N">\n<HTML>\n<HEAD>\n<TITLE></TITLE>\n</HEAD>\n<BODY>\n<h3>vodaQuad vs. tbd
	</h3>Plus d'info : <a href="https://www.golnetwork.com/game/v/128537/">#23<
	/a>\n\n</BODY>\n</HTML>
STATUS:CONFIRMED
CLASS:PUBLIC
URL:https://www.golnetwork.com/game/v/128537/
X-MICROSOFT-CDO-BUSYSTATUS:BUSY
X-MICROSOFT-CDO-IMPORTANCE:1
END:VEVENT
BEGIN:VEVENT
UID:gd4a9@games.golnetwork.com
LOCATION:Lord Lansdowne
CREATED:20180911T162217Z
DTSTART:20180926T010000Z
DTEND:20180926T020000Z
DTSTAMP:20260421T160519Z
SUMMARY:Serving Cervezas vs. XTSC Bump it Up!
DESCRIPTION:XTSC Bump it Up! vs. Serving CervezasPlus d'info : #24
X-ALT-DESC;FMTTYPE=text/html:<!DOCTYPE HTML PUBLIC "-//W3C//DTD HTML 3.2//E
	N">\n<HTML>\n<HEAD>\n<TITLE></TITLE>\n</HEAD>\n<BODY>\n<h3>XTSC Bump it Up!
	 vs. Serving Cervezas</h3>Plus d'info : <a href="https://www.golnetwork.com
	/game/v/128538/">#24</a>\n\n</BODY>\n</HTML>
STATUS:CONFIRMED
CLASS:PUBLIC
URL:https://www.golnetwork.com/game/v/128538/
X-MICROSOFT-CDO-BUSYSTATUS:BUSY
X-MICROSOFT-CDO-IMPORTANCE:1
END:VEVENT
BEGIN:VEVENT
UID:gd4ab@games.golnetwork.com
LOCATION:Lord Lansdowne
CREATED:20180911T162226Z
DTSTART:20181002T220000Z
DTEND:20181002T230000Z
DTSTAMP:20260421T160519Z
SUMMARY:XTSC Bump it Up! vs. Buzzkillers
DESCRIPTION:Buzzkillers vs. XTSC Bump it Up!Plus d'info : #33
X-ALT-DESC;FMTTYPE=text/html:<!DOCTYPE HTML PUBLIC "-//W3C//DTD HTML 3.2//E
	N">\n<HTML>\n<HEAD>\n<TITLE></TITLE>\n</HEAD>\n<BODY>\n<h3>Buzzkillers vs. 
	XTSC Bump it Up!</h3>Plus d'info : <a href="https://www.golnetwork.com/game
	/v/128539/">#33</a>\n\n</BODY>\n</HTML>
STATUS:CONFIRMED
CLASS:PUBLIC
URL:https://www.golnetwork.com/game/v/128539/
X-MICROSOFT-CDO-BUSYSTATUS:BUSY
X-MICROSOFT-CDO-IMPORTANCE:1
END:VEVENT
BEGIN:VEVENT
UID:gd4ad@games.golnetwork.com
LOCATION:Lord Lansdowne
CREATED:20180911T162233Z
DTSTART:20181002T230000Z
DTEND:20181003T000000Z
DTSTAMP:20260421T160519Z
SUMMARY:Tripping Balls vs. tbd
DESCRIPTION:tbd vs. Tripping BallsPlus d'info : #34
X-ALT-DESC;FMTTYPE=text/html:<!DOCTYPE HTML PUBLIC "-//W3C//DTD HTML 3.2//E
	N">\n<HTML>\n<HEAD>\n<TITLE></TITLE>\n</HEAD>\n<BODY>\n<h3>tbd vs. Tripping
	 Balls</h3>Plus d'info : <a href="https://www.golnetwork.com/game/v/128540/
	">#34</a>\n\n</BODY>\n</HTML>
STATUS:CONFIRMED
CLASS:PUBLIC
URL:https://www.golnetwork.com/game/v/128540/
X-MICROSOFT-CDO-BUSYSTATUS:BUSY
X-MICROSOFT-CDO-IMPORTANCE:1
END:VEVENT
BEGIN:VEVENT
UID:gd4af@games.golnetwork.com
LOCATION:Lord Lansdowne
CREATED:20180911T162239Z
DTSTART:20181003T000000Z
DTEND:20181003T010000Z
DTSTAMP:20260421T160519Z
SUMMARY:Serving Cervezas vs. Bump\, set\, GIRTH
DESCRIPTION:Bump\, set\, GIRTH vs. Serving CervezasPlus d'info : #35
X-ALT-DESC;FMTTYPE=text/html:<!DOCTYPE HTML PUBLIC "-//W3C//DTD HTML 3.2//E
	N">\n<HTML>\n<HEAD>\n<TITLE></TITLE>\n</HEAD>\n<BODY>\n<h3>Bump\, set\, GIR
	TH vs. Serving Cervezas</h3>Plus d'info : <a href="https://www.golnetwork.c
	om/game/v/128541/">#35</a>\n\n</BODY>\n</HTML>
STATUS:CONFIRMED
CLASS:PUBLIC
URL:https://www.golnetwork.com/game/v/128541/
X-MICROSOFT-CDO-BUSYSTATUS:BUSY
X-MICROSOFT-CDO-IMPORTANCE:1
END:VEVENT
BEGIN:VEVENT
UID:gd4ah@games.golnetwork.com
LOCATION:Lord Lansdowne
CREATED:20180911T162247Z
DTSTART:20181003T010000Z
DTEND:20181003T020000Z
DTSTAMP:20260421T160519Z
SUMMARY:vodaQuad vs. That Serve Tho
DESCRIPTION:That Serve Tho vs. vodaQuadPlus d'info : #36
X-ALT-DESC;FMTTYPE=text/html:<!DOCTYPE HTML PUBLIC "-//W3C//DTD HTML 3.2//E
	N">\n<HTML>\n<HEAD>\n<TITLE></TITLE>\n</HEAD>\n<BODY>\n<h3>That Serve Tho v
	s. vodaQuad</h3>Plus d'info : <a href="https://www.golnetwork.com/game/v/12
	8542/">#36</a>\n\n</BODY>\n</HTML>
STATUS:CONFIRMED
CLASS:PUBLIC
URL:https://www.golnetwork.com/game/v/128542/
X-MICROSOFT-CDO-BUSYSTATUS:BUSY
X-MICROSOFT-CDO-IMPORTANCE:1
END:VEVENT
BEGIN:VEVENT
UID:gd4aj@games.golnetwork.com
LOCATION:Lord Lansdowne
CREATED:20180911T162258Z
DTSTART:20181009T220000Z
DTEND:20181009T230000Z
DTSTAMP:20260421T160519Z
SUMMARY:tbd vs. That Serve Tho
DESCRIPTION:That Serve Tho vs. tbdPlus d'info : #48
X-ALT-DESC;FMTTYPE=text/html:<!DOCTYPE HTML PUBLIC "-//W3C//DTD HTML 3.2//E
	N">\n<HTML>\n<HEAD>\n<TITLE></TITLE>\n</HEAD>\n<BODY>\n<h3>That Serve Tho v
	s. tbd</h3>Plus d'info : <a href="https://www.golnetwork.com/game/v/128543/
	">#48</a>\n\n</BODY>\n</HTML>
STATUS:CONFIRMED
CLASS:PUBLIC
URL:https://www.golnetwork.com/game/v/128543/
X-MICROSOFT-CDO-BUSYSTATUS:BUSY
X-MICROSOFT-CDO-IMPORTANCE:1
END:VEVENT
BEGIN:VEVENT
UID:gd4al@games.golnetwork.com
LOCATION:Lord Lansdowne
CREATED:20180911T162305Z
DTSTART:20181009T230000Z
DTEND:20181010T000000Z
DTSTAMP:20260421T160519Z
SUMMARY:Bump\, set\, GIRTH vs. vodaQuad
DESCRIPTION:vodaQuad vs. Bump\, set\, GIRTHPlus d'info : #49
X-ALT-DESC;FMTTYPE=text/html:<!DOCTYPE HTML PUBLIC "-//W3C//DTD HTML 3.2//E
	N">\n<HTML>\n<HEAD>\n<TITLE></TITLE>\n</HEAD>\n<BODY>\n<h3>vodaQuad vs. Bum
	p\, set\, GIRTH</h3>Plus d'info : <a href="https://www.golnetwork.com/game/
	v/128544/">#49</a>\n\n</BODY>\n</HTML>
STATUS:CONFIRMED
CLASS:PUBLIC
URL:https://www.golnetwork.com/game/v/128544/
X-MICROSOFT-CDO-BUSYSTATUS:BUSY
X-MICROSOFT-CDO-IMPORTANCE:1
END:VEVENT
BEGIN:VEVENT
UID:gd4an@games.golnetwork.com
LOCATION:Lord Lansdowne
CREATED:20180911T162317Z
DTSTART:20181010T000000Z
DTEND:20181010T010000Z
DTSTAMP:20260421T160519Z
SUMMARY:Tripping Balls vs. XTSC Bump it Up!
DESCRIPTION:XTSC Bump it Up! vs. Tripping BallsPlus d'info : #50
X-ALT-DESC;FMTTYPE=text/html:<!DOCTYPE HTML PUBLIC "-//W3C//DTD HTML 3.2//E
	N">\n<HTML>\n<HEAD>\n<TITLE></TITLE>\n</HEAD>\n<BODY>\n<h3>XTSC Bump it Up!
	 vs. Tripping Balls</h3>Plus d'info : <a href="https://www.golnetwork.com/g
	ame/v/128545/">#50</a>\n\n</BODY>\n</HTML>
STATUS:CONFIRMED
CLASS:PUBLIC
URL:https://www.golnetwork.com/game/v/128545/
X-MICROSOFT-CDO-BUSYSTATUS:BUSY
X-MICROSOFT-CDO-IMPORTANCE:1
END:VEVENT
BEGIN:VEVENT
UID:gd4ap@games.golnetwork.com
LOCATION:Lord Lansdowne
CREATED:20180911T162328Z
DTSTART:20181010T010000Z
DTEND:20181010T020000Z
DTSTAMP:20260421T160519Z
SUMMARY:Buzzkillers vs. Serving Cervezas
DESCRIPTION:Serving Cervezas vs. BuzzkillersPlus d'info : #51
X-ALT-DESC;FMTTYPE=text/html:<!DOCTYPE HTML PUBLIC "-//W3C//DTD HTML 3.2//E
	N">\n<HTML>\n<HEAD>\n<TITLE></TITLE>\n</HEAD>\n<BODY>\n<h3>Serving Cervezas
	 vs. Buzzkillers</h3>Plus d'info : <a href="https://www.golnetwork.com/game
	/v/128546/">#51</a>\n\n</BODY>\n</HTML>
STATUS:CONFIRMED
CLASS:PUBLIC
URL:https://www.golnetwork.com/game/v/128546/
X-MICROSOFT-CDO-BUSYSTATUS:BUSY
X-MICROSOFT-CDO-IMPORTANCE:1
END:VEVENT
BEGIN:VEVENT
UID:gd4b0@games.golnetwork.com
LOCATION:Lord Lansdowne
CREATED:20180911T162337Z
DTSTART:20181016T220000Z
DTEND:20181016T230000Z
DTSTAMP:20260421T160519Z
SUMMARY:Serving Cervezas vs. tbd
DESCRIPTION:tbd vs. Serving CervezasPlus d'info : #67
X-ALT-DESC;FMTTYPE=text/html:<!DOCTYPE HTML PUBLIC "-//W3C//DTD HTML 3.2//E
	N">\n<HTML>\n<HEAD>\n<TITLE></TITLE>\n</HEAD>\n<BODY>\n<h3>tbd vs. Serving 
	Cervezas</h3>Plus d'info : <a href="https://www.golnetwork.com/game/v/12854
	7/">#67</a>\n\n</BODY>\n</HTML>
STATUS:CONFIRMED
CLASS:PUBLIC
URL:https://www.golnetwork.com/game/v/128547/
X-MICROSOFT-CDO-BUSYSTATUS:BUSY
X-MICROSOFT-CDO-IMPORTANCE:1
END:VEVENT
BEGIN:VEVENT
UID:gd4b2@games.golnetwork.com
LOCATION:Lord Lansdowne
CREATED:20180911T162345Z
DTSTART:20181016T230000Z
DTEND:20181017T000000Z
DTSTAMP:20260421T160519Z
SUMMARY:vodaQuad vs. Buzzkillers
DESCRIPTION:Buzzkillers vs. vodaQuadPlus d'info : #68
X-ALT-DESC;FMTTYPE=text/html:<!DOCTYPE HTML PUBLIC "-//W3C//DTD HTML 3.2//E
	N">\n<HTML>\n<HEAD>\n<TITLE></TITLE>\n</HEAD>\n<BODY>\n<h3>Buzzkillers vs. 
	vodaQuad</h3>Plus d'info : <a href="https://www.golnetwork.com/game/v/12854
	8/">#68</a>\n\n</BODY>\n</HTML>
STATUS:CONFIRMED
CLASS:PUBLIC
URL:https://www.golnetwork.com/game/v/128548/
X-MICROSOFT-CDO-BUSYSTATUS:BUSY
X-MICROSOFT-CDO-IMPORTANCE:1
END:VEVENT
BEGIN:VEVENT
UID:gd4b4@games.golnetwork.com
LOCATION:Lord Lansdowne
CREATED:20180911T162352Z
DTSTART:20181017T000000Z
DTEND:20181017T010000Z
DTSTAMP:20260421T160519Z
SUMMARY:XTSC Bump it Up! vs. That Serve Tho
DESCRIPTION:That Serve Tho vs. XTSC Bump it Up!Plus d'info : #69
X-ALT-DESC;FMTTYPE=text/html:<!DOCTYPE HTML PUBLIC "-//W3C//DTD HTML 3.2//E
	N">\n<HTML>\n<HEAD>\n<TITLE></TITLE>\n</HEAD>\n<BODY>\n<h3>That Serve Tho v
	s. XTSC Bump it Up!</h3>Plus d'info : <a href="https://www.golnetwork.com/g
	ame/v/128549/">#69</a>\n\n</BODY>\n</HTML>
STATUS:CONFIRMED
CLASS:PUBLIC
URL:https://www.golnetwork.com/game/v/128549/
X-MICROSOFT-CDO-BUSYSTATUS:BUSY
X-MICROSOFT-CDO-IMPORTANCE:1
END:VEVENT
BEGIN:VEVENT
UID:gd4b6@games.golnetwork.com
LOCATION:Lord Lansdowne
CREATED:20180911T162401Z
DTSTART:20181017T010000Z
DTEND:20181017T020000Z
DTSTAMP:20260421T160519Z
SUMMARY:Tripping Balls vs. Bump\, set\, GIRTH
DESCRIPTION:Bump\, set\, GIRTH vs. Tripping BallsPlus d'info : #70
X-ALT-DESC;FMTTYPE=text/html:<!DOCTYPE HTML PUBLIC "-//W3C//DTD HTML 3.2//E
	N">\n<HTML>\n<HEAD>\n<TITLE></TITLE>\n</HEAD>\n<BODY>\n<h3>Bump\, set\, GIR
	TH vs. Tripping Balls</h3>Plus d'info : <a href="https://www.golnetwork.com
	/game/v/128550/">#70</a>\n\n</BODY>\n</HTML>
STATUS:CONFIRMED
CLASS:PUBLIC
URL:https://www.golnetwork.com/game/v/128550/
X-MICROSOFT-CDO-BUSYSTATUS:BUSY
X-MICROSOFT-CDO-IMPORTANCE:1
END:VEVENT
BEGIN:VEVENT
UID:gd4b8@games.golnetwork.com
LOCATION:Lord Lansdowne
CREATED:20180911T162411Z
DTSTART:20181023T220000Z
DTEND:20181023T230000Z
DTSTAMP:20260421T160519Z
SUMMARY:Tripping Balls vs. vodaQuad
DESCRIPTION:vodaQuad vs. Tripping BallsPlus d'info : #82
X-ALT-DESC;FMTTYPE=text/html:<!DOCTYPE HTML PUBLIC "-//W3C//DTD HTML 3.2//E
	N">\n<HTML>\n<HEAD>\n<TITLE></TITLE>\n</HEAD>\n<BODY>\n<h3>vodaQuad vs. Tri
	pping Balls</h3>Plus d'info : <a href="https://www.golnetwork.com/game/v/12
	8551/">#82</a>\n\n</BODY>\n</HTML>
STATUS:CONFIRMED
CLASS:PUBLIC
URL:https://www.golnetwork.com/game/v/128551/
X-MICROSOFT-CDO-BUSYSTATUS:BUSY
X-MICROSOFT-CDO-IMPORTANCE:1
END:VEVENT
BEGIN:VEVENT
UID:gd4ba@games.golnetwork.com
LOCATION:Lord Lansdowne
CREATED:20180911T162420Z
DTSTART:20181023T230000Z
DTEND:20181024T000000Z
DTSTAMP:20260421T160519Z
SUMMARY:That Serve Tho vs. Serving Cervezas
DESCRIPTION:Serving Cervezas vs. That Serve ThoPlus d'info : #83
X-ALT-DESC;FMTTYPE=text/html:<!DOCTYPE HTML PUBLIC "-//W3C//DTD HTML 3.2//E
	N">\n<HTML>\n<HEAD>\n<TITLE></TITLE>\n</HEAD>\n<BODY>\n<h3>Serving Cervezas
	 vs. That Serve Tho</h3>Plus d'info : <a href="https://www.golnetwork.com/g
	ame/v/128552/">#83</a>\n\n</BODY>\n</HTML>
STATUS:CONFIRMED
CLASS:PUBLIC
URL:https://www.golnetwork.com/game/v/128552/
X-MICROSOFT-CDO-BUSYSTATUS:BUSY
X-MICROSOFT-CDO-IMPORTANCE:1
END:VEVENT
BEGIN:VEVENT
UID:gd4bc@games.golnetwork.com
LOCATION:Lord Lansdowne
CREATED:20180911T162427Z
DTSTART:20181024T000000Z
DTEND:20181024T010000Z
DTSTAMP:20260421T160519Z
SUMMARY:Bump\, set\, GIRTH vs. XTSC Bump it Up!
DESCRIPTION:XTSC Bump it Up! vs. Bump\, set\, GIRTHPlus d'info : #84
X-ALT-DESC;FMTTYPE=text/html:<!DOCTYPE HTML PUBLIC "-//W3C//DTD HTML 3.2//E
	N">\n<HTML>\n<HEAD>\n<TITLE></TITLE>\n</HEAD>\n<BODY>\n<h3>XTSC Bump it Up!
	 vs. Bump\, set\, GIRTH</h3>Plus d'info : <a href="https://www.golnetwork.c
	om/game/v/128553/">#84</a>\n\n</BODY>\n</HTML>
STATUS:CONFIRMED
CLASS:PUBLIC
URL:https://www.golnetwork.com/game/v/128553/
X-MICROSOFT-CDO-BUSYSTATUS:BUSY
X-MICROSOFT-CDO-IMPORTANCE:1
END:VEVENT
BEGIN:VEVENT
UID:gd4be@games.golnetwork.com
LOCATION:Lord Lansdowne
CREATED:20180911T162432Z
DTSTART:20181024T010000Z
DTEND:20181024T020000Z
DTSTAMP:20260421T160519Z
SUMMARY:tbd vs. Buzzkillers
DESCRIPTION:Buzzkillers vs. tbdPlus d'info : #85
X-ALT-DESC;FMTTYPE=text/html:<!DOCTYPE HTML PUBLIC "-//W3C//DTD HTML 3.2//E
	N">\n<HTML>\n<HEAD>\n<TITLE></TITLE>\n</HEAD>\n<BODY>\n<h3>Buzzkillers vs. 
	tbd</h3>Plus d'info : <a href="https://www.golnetwork.com/game/v/128554/">#
	85</a>\n\n</BODY>\n</HTML>
STATUS:CONFIRMED
CLASS:PUBLIC
URL:https://www.golnetwork.com/game/v/128554/
X-MICROSOFT-CDO-BUSYSTATUS:BUSY
X-MICROSOFT-CDO-IMPORTANCE:1
END:VEVENT
BEGIN:VEVENT
UID:gd4bg@games.golnetwork.com
LOCATION:Lord Lansdowne
CREATED:20180911T162441Z
DTSTART:20181030T220000Z
DTEND:20181030T230000Z
DTSTAMP:20260421T160519Z
SUMMARY:Buzzkillers vs. Bump\, set\, GIRTH
DESCRIPTION:Bump\, set\, GIRTH vs. BuzzkillersPlus d'info : #101
X-ALT-DESC;FMTTYPE=text/html:<!DOCTYPE HTML PUBLIC "-//W3C//DTD HTML 3.2//E
	N">\n<HTML>\n<HEAD>\n<TITLE></TITLE>\n</HEAD>\n<BODY>\n<h3>Bump\, set\, GIR
	TH vs. Buzzkillers</h3>Plus d'info : <a href="https://www.golnetwork.com/ga
	me/v/128555/">#101</a>\n\n</BODY>\n</HTML>
STATUS:CONFIRMED
CLASS:PUBLIC
URL:https://www.golnetwork.com/game/v/128555/
X-MICROSOFT-CDO-BUSYSTATUS:BUSY
X-MICROSOFT-CDO-IMPORTANCE:1
END:VEVENT
BEGIN:VEVENT
UID:gd4bi@games.golnetwork.com
LOCATION:Lord Lansdowne
CREATED:20180911T162448Z
DTSTART:20181030T230000Z
DTEND:20181031T000000Z
DTSTAMP:20260421T160519Z
SUMMARY:XTSC Bump it Up! vs. tbd
DESCRIPTION:tbd vs. XTSC Bump it Up!Plus d'info : #102
X-ALT-DESC;FMTTYPE=text/html:<!DOCTYPE HTML PUBLIC "-//W3C//DTD HTML 3.2//E
	N">\n<HTML>\n<HEAD>\n<TITLE></TITLE>\n</HEAD>\n<BODY>\n<h3>tbd vs. XTSC Bum
	p it Up!</h3>Plus d'info : <a href="https://www.golnetwork.com/game/v/12855
	6/">#102</a>\n\n</BODY>\n</HTML>
STATUS:CONFIRMED
CLASS:PUBLIC
URL:https://www.golnetwork.com/game/v/128556/
X-MICROSOFT-CDO-BUSYSTATUS:BUSY
X-MICROSOFT-CDO-IMPORTANCE:1
END:VEVENT
BEGIN:VEVENT
UID:gd4bk@games.golnetwork.com
LOCATION:Lord Lansdowne
CREATED:20180911T162456Z
DTSTART:20181031T000000Z
DTEND:20181031T010000Z
DTSTAMP:20260421T160519Z
SUMMARY:vodaQuad vs. Serving Cervezas
DESCRIPTION:Serving Cervezas vs. vodaQuadPlus d'info : #103
X-ALT-DESC;FMTTYPE=text/html:<!DOCTYPE HTML PUBLIC "-//W3C//DTD HTML 3.2//E
	N">\n<HTML>\n<HEAD>\n<TITLE></TITLE>\n</HEAD>\n<BODY>\n<h3>Serving Cervezas
	 vs. vodaQuad</h3>Plus d'info : <a href="https://www.golnetwork.com/game/v/
	128557/">#103</a>\n\n</BODY>\n</HTML>
STATUS:CONFIRMED
CLASS:PUBLIC
URL:https://www.golnetwork.com/game/v/128557/
X-MICROSOFT-CDO-BUSYSTATUS:BUSY
X-MICROSOFT-CDO-IMPORTANCE:1
END:VEVENT
BEGIN:VEVENT
UID:gd4bm@games.golnetwork.com
LOCATION:Lord Lansdowne
CREATED:20180911T162505Z
DTSTART:20181031T010000Z
DTEND:20181031T020000Z
DTSTAMP:20260421T160519Z
SUMMARY:Tripping Balls vs. That Serve Tho
DESCRIPTION:That Serve Tho vs. Tripping BallsPlus d'info : #104
X-ALT-DESC;FMTTYPE=text/html:<!DOCTYPE HTML PUBLIC "-//W3C//DTD HTML 3.2//E
	N">\n<HTML>\n<HEAD>\n<TITLE></TITLE>\n</HEAD>\n<BODY>\n<h3>That Serve Tho v
	s. Tripping Balls</h3>Plus d'info : <a href="https://www.golnetwork.com/gam
	e/v/128558/">#104</a>\n\n</BODY>\n</HTML>
STATUS:CONFIRMED
CLASS:PUBLIC
URL:https://www.golnetwork.com/game/v/128558/
X-MICROSOFT-CDO-BUSYSTATUS:BUSY
X-MICROSOFT-CDO-IMPORTANCE:1
END:VEVENT
BEGIN:VEVENT
UID:gd4bo@games.golnetwork.com
LOCATION:Lord Lansdowne
CREATED:20180911T162513Z
DTSTART:20181106T230000Z
DTEND:20181107T000000Z
DTSTAMP:20260421T160519Z
SUMMARY:Tripping Balls vs. Serving Cervezas
DESCRIPTION:Serving Cervezas vs. Tripping BallsPlus d'info : #120
X-ALT-DESC;FMTTYPE=text/html:<!DOCTYPE HTML PUBLIC "-//W3C//DTD HTML 3.2//E
	N">\n<HTML>\n<HEAD>\n<TITLE></TITLE>\n</HEAD>\n<BODY>\n<h3>Serving Cervezas
	 vs. Tripping Balls</h3>Plus d'info : <a href="https://www.golnetwork.com/g
	ame/v/128559/">#120</a>\n\n</BODY>\n</HTML>
STATUS:CONFIRMED
CLASS:PUBLIC
URL:https://www.golnetwork.com/game/v/128559/
X-MICROSOFT-CDO-BUSYSTATUS:BUSY
X-MICROSOFT-CDO-IMPORTANCE:1
END:VEVENT
BEGIN:VEVENT
UID:gd4bq@games.golnetwork.com
LOCATION:Lord Lansdowne
CREATED:20180911T162520Z
DTSTART:20181107T020000Z
DTEND:20181107T030000Z
DTSTAMP:20260421T160519Z
SUMMARY:That Serve Tho vs. Buzzkillers
DESCRIPTION:Buzzkillers vs. That Serve ThoPlus d'info : #123
X-ALT-DESC;FMTTYPE=text/html:<!DOCTYPE HTML PUBLIC "-//W3C//DTD HTML 3.2//E
	N">\n<HTML>\n<HEAD>\n<TITLE></TITLE>\n</HEAD>\n<BODY>\n<h3>Buzzkillers vs. 
	That Serve Tho</h3>Plus d'info : <a href="https://www.golnetwork.com/game/v
	/128560/">#123</a>\n\n</BODY>\n</HTML>
STATUS:CONFIRMED
CLASS:PUBLIC
URL:https://www.golnetwork.com/game/v/128560/
X-MICROSOFT-CDO-BUSYSTATUS:BUSY
X-MICROSOFT-CDO-IMPORTANCE:1
END:VEVENT
BEGIN:VEVENT
UID:gd4c5@games.golnetwork.com
LOCATION:Lord Lansdowne
CREATED:20180911T162528Z
DTSTART:20181113T230000Z
DTEND:20181114T000000Z
DTSTAMP:20260421T160519Z
SUMMARY:vodaQuad vs. XTSC Bump it Up!
DESCRIPTION:XTSC Bump it Up! vs. vodaQuadPlus d'info : #139
X-ALT-DESC;FMTTYPE=text/html:<!DOCTYPE HTML PUBLIC "-//W3C//DTD HTML 3.2//E
	N">\n<HTML>\n<HEAD>\n<TITLE></TITLE>\n</HEAD>\n<BODY>\n<h3>XTSC Bump it Up!
	 vs. vodaQuad</h3>Plus d'info : <a href="https://www.golnetwork.com/game/v/
	128563/">#139</a>\n\n</BODY>\n</HTML>
STATUS:CONFIRMED
CLASS:PUBLIC
URL:https://www.golnetwork.com/game/v/128563/
X-MICROSOFT-CDO-BUSYSTATUS:BUSY
X-MICROSOFT-CDO-IMPORTANCE:1
END:VEVENT
BEGIN:VEVENT
UID:gd4c3@games.golnetwork.com
LOCATION:Lord Lansdowne
CREATED:20180911T162525Z
DTSTART:20181114T000000Z
DTEND:20181114T010000Z
DTSTAMP:20260421T160519Z
SUMMARY:Buzzkillers vs. Tripping Balls
DESCRIPTION:Tripping Balls vs. BuzzkillersPlus d'info : #140
X-ALT-DESC;FMTTYPE=text/html:<!DOCTYPE HTML PUBLIC "-//W3C//DTD HTML 3.2//E
	N">\n<HTML>\n<HEAD>\n<TITLE></TITLE>\n</HEAD>\n<BODY>\n<h3>Tripping Balls v
	s. Buzzkillers</h3>Plus d'info : <a href="https://www.golnetwork.com/game/v
	/128562/">#140</a>\n\n</BODY>\n</HTML>
STATUS:CONFIRMED
CLASS:PUBLIC
URL:https://www.golnetwork.com/game/v/128562/
X-MICROSOFT-CDO-BUSYSTATUS:BUSY
X-MICROSOFT-CDO-IMPORTANCE:1
END:VEVENT
BEGIN:VEVENT
UID:gd4c1@games.golnetwork.com
LOCATION:Lord Lansdowne
CREATED:20180911T162522Z
DTSTART:20181114T020000Z
DTEND:20181114T030000Z
DTSTAMP:20260421T160519Z
SUMMARY:Serving Cervezas vs. That Serve Tho
DESCRIPTION:That Serve Tho vs. Serving CervezasPlus d'info : #142
X-ALT-DESC;FMTTYPE=text/html:<!DOCTYPE HTML PUBLIC "-//W3C//DTD HTML 3.2//E
	N">\n<HTML>\n<HEAD>\n<TITLE></TITLE>\n</HEAD>\n<BODY>\n<h3>That Serve Tho v
	s. Serving Cervezas</h3>Plus d'info : <a href="https://www.golnetwork.com/g
	ame/v/128561/">#142</a>\n\n</BODY>\n</HTML>
STATUS:CONFIRMED
CLASS:PUBLIC
URL:https://www.golnetwork.com/game/v/128561/
X-MICROSOFT-CDO-BUSYSTATUS:BUSY
X-MICROSOFT-CDO-IMPORTANCE:1
END:VEVENT
END:VCALENDAR
