BEGIN:VCALENDAR
PRODID:-//gdesolutions.com//MV Framework 1.0.0.1607 Calendar//EN
VERSION:2.0
METHOD:PUBLISH
CALSCALE:GREGORIAN
BEGIN:VEVENT
UID:gdpd1@games.golnetwork.com
LOCATION:Colonel By High School
GEO:45.4552857;-75.6002507
CREATED:20181207T224537Z
DTSTART:20181211T000000Z
DTEND:20181211T010000Z
DTSTAMP:20260420T194815Z
SUMMARY:Individuals 2 vs. Stay Fit Team
DESCRIPTION:Stay Fit Team vs. Individuals 2Plus d'info : #20
X-ALT-DESC;FMTTYPE=text/html:<!DOCTYPE HTML PUBLIC "-//W3C//DTD HTML 3.2//E
	N">\n<HTML>\n<HEAD>\n<TITLE></TITLE>\n</HEAD>\n<BODY>\n<h3>Stay Fit Team vs
	. Individuals 2</h3>Plus d'info : <a href="https://www.golnetwork.com/game/
	v/136229/">#20</a>\n\n</BODY>\n</HTML>
STATUS:CONFIRMED
CLASS:PUBLIC
URL:https://www.golnetwork.com/game/v/136229/
X-MICROSOFT-CDO-BUSYSTATUS:BUSY
X-MICROSOFT-CDO-IMPORTANCE:1
END:VEVENT
BEGIN:VEVENT
UID:gdpco@games.golnetwork.com
LOCATION:Colonel By High School
GEO:45.4552857;-75.6002507
CREATED:20181207T224510Z
DTSTART:20181211T010000Z
DTEND:20181211T020000Z
DTSTAMP:20260420T194815Z
SUMMARY:Individuals vs. Dale Rojo
DESCRIPTION:Dale Rojo vs. IndividualsPlus d'info : #21
X-ALT-DESC;FMTTYPE=text/html:<!DOCTYPE HTML PUBLIC "-//W3C//DTD HTML 3.2//E
	N">\n<HTML>\n<HEAD>\n<TITLE></TITLE>\n</HEAD>\n<BODY>\n<h3>Dale Rojo vs. In
	dividuals</h3>Plus d'info : <a href="https://www.golnetwork.com/game/v/1362
	27/">#21</a>\n\n</BODY>\n</HTML>
STATUS:CONFIRMED
CLASS:PUBLIC
URL:https://www.golnetwork.com/game/v/136227/
X-MICROSOFT-CDO-BUSYSTATUS:BUSY
X-MICROSOFT-CDO-IMPORTANCE:1
END:VEVENT
BEGIN:VEVENT
UID:gdpcq@games.golnetwork.com
LOCATION:Colonel By High School
GEO:45.4552857;-75.6002507
CREATED:20181207T224524Z
DTSTART:20181211T020000Z
DTEND:20181211T030000Z
DTSTAMP:20260420T194815Z
SUMMARY:Refs vs. Individuals
DESCRIPTION:Individuals vs. RefsPlus d'info : #22
X-ALT-DESC;FMTTYPE=text/html:<!DOCTYPE HTML PUBLIC "-//W3C//DTD HTML 3.2//E
	N">\n<HTML>\n<HEAD>\n<TITLE></TITLE>\n</HEAD>\n<BODY>\n<h3>Individuals vs. 
	Refs</h3>Plus d'info : <a href="https://www.golnetwork.com/game/v/136228/">
	#22</a>\n\n</BODY>\n</HTML>
STATUS:CONFIRMED
CLASS:PUBLIC
URL:https://www.golnetwork.com/game/v/136228/
X-MICROSOFT-CDO-BUSYSTATUS:BUSY
X-MICROSOFT-CDO-IMPORTANCE:1
END:VEVENT
BEGIN:VEVENT
UID:gdq45@games.golnetwork.com
LOCATION:Colonel By High School
GEO:45.4552857;-75.6002507
CREATED:20181215T203745Z
DTSTART:20181218T000000Z
DTEND:20181218T010000Z
DTSTAMP:20260420T194815Z
SUMMARY:Stay Fit Team vs. Refs
DESCRIPTION:Refs vs. Stay Fit TeamPlus d'info : #23
X-ALT-DESC;FMTTYPE=text/html:<!DOCTYPE HTML PUBLIC "-//W3C//DTD HTML 3.2//E
	N">\n<HTML>\n<HEAD>\n<TITLE></TITLE>\n</HEAD>\n<BODY>\n<h3>Refs vs. Stay Fi
	t Team</h3>Plus d'info : <a href="https://www.golnetwork.com/game/v/136474/
	">#23</a>\n\n</BODY>\n</HTML>
STATUS:CONFIRMED
CLASS:PUBLIC
URL:https://www.golnetwork.com/game/v/136474/
X-MICROSOFT-CDO-BUSYSTATUS:BUSY
X-MICROSOFT-CDO-IMPORTANCE:1
END:VEVENT
BEGIN:VEVENT
UID:gdq47@games.golnetwork.com
LOCATION:Colonel By High School
GEO:45.4552857;-75.6002507
CREATED:20181215T203758Z
DTSTART:20181218T010000Z
DTEND:20181218T020000Z
DTSTAMP:20260420T194815Z
SUMMARY:Individuals vs. Individuals 2
DESCRIPTION:Individuals 2 vs. IndividualsPlus d'info : #24
X-ALT-DESC;FMTTYPE=text/html:<!DOCTYPE HTML PUBLIC "-//W3C//DTD HTML 3.2//E
	N">\n<HTML>\n<HEAD>\n<TITLE></TITLE>\n</HEAD>\n<BODY>\n<h3>Individuals 2 vs
	. Individuals</h3>Plus d'info : <a href="https://www.golnetwork.com/game/v/
	136475/">#24</a>\n\n</BODY>\n</HTML>
STATUS:CONFIRMED
CLASS:PUBLIC
URL:https://www.golnetwork.com/game/v/136475/
X-MICROSOFT-CDO-BUSYSTATUS:BUSY
X-MICROSOFT-CDO-IMPORTANCE:1
END:VEVENT
BEGIN:VEVENT
UID:gdq49@games.golnetwork.com
LOCATION:Colonel By High School
GEO:45.4552857;-75.6002507
CREATED:20181215T203810Z
DTSTART:20181218T020000Z
DTEND:20181218T030000Z
DTSTAMP:20260420T194815Z
SUMMARY:Dale Rojo vs. Individuals 2
DESCRIPTION:Individuals 2 vs. Dale RojoPlus d'info : #25
X-ALT-DESC;FMTTYPE=text/html:<!DOCTYPE HTML PUBLIC "-//W3C//DTD HTML 3.2//E
	N">\n<HTML>\n<HEAD>\n<TITLE></TITLE>\n</HEAD>\n<BODY>\n<h3>Individuals 2 vs
	. Dale Rojo</h3>Plus d'info : <a href="https://www.golnetwork.com/game/v/13
	6476/">#25</a>\n\n</BODY>\n</HTML>
STATUS:CONFIRMED
CLASS:PUBLIC
URL:https://www.golnetwork.com/game/v/136476/
X-MICROSOFT-CDO-BUSYSTATUS:BUSY
X-MICROSOFT-CDO-IMPORTANCE:1
END:VEVENT
END:VCALENDAR
