BEGIN:VCALENDAR
PRODID:-//gdesolutions.com//MV Framework 1.0.0.1607 Calendar//EN
VERSION:2.0
METHOD:PUBLISH
CALSCALE:GREGORIAN
BEGIN:VEVENT
UID:gdakd@games.golnetwork.com
LOCATION:Colonel By High School
GEO:45.4552857;-75.6002507
CREATED:20181011T082052Z
DTSTART:20181015T230000Z
DTEND:20181016T000000Z
DTSTAMP:20260423T032628Z
SUMMARY:Dale Rojo vs. Stay Fit Team
DESCRIPTION:Stay Fit Team vs. Dale RojoPlus d'info : #1
X-ALT-DESC;FMTTYPE=text/html:<!DOCTYPE HTML PUBLIC "-//W3C//DTD HTML 3.2//E
	N">\n<HTML>\n<HEAD>\n<TITLE></TITLE>\n</HEAD>\n<BODY>\n<h3>Stay Fit Team vs
	. Dale Rojo</h3>Plus d'info : <a href="https://www.golnetwork.com/game/v/13
	0862/">#1</a>\n\n</BODY>\n</HTML>
STATUS:CONFIRMED
CLASS:PUBLIC
URL:https://www.golnetwork.com/game/v/130862/
X-MICROSOFT-CDO-BUSYSTATUS:BUSY
X-MICROSOFT-CDO-IMPORTANCE:1
END:VEVENT
BEGIN:VEVENT
UID:gdakf@games.golnetwork.com
LOCATION:Colonel By High School
GEO:45.4552857;-75.6002507
CREATED:20181011T082058Z
DTSTART:20181016T000000Z
DTEND:20181016T010000Z
DTSTAMP:20260423T032628Z
SUMMARY:Individuals 2 vs. Individuals
DESCRIPTION:Individuals vs. Individuals 2Plus d'info : #2
X-ALT-DESC;FMTTYPE=text/html:<!DOCTYPE HTML PUBLIC "-//W3C//DTD HTML 3.2//E
	N">\n<HTML>\n<HEAD>\n<TITLE></TITLE>\n</HEAD>\n<BODY>\n<h3>Individuals vs. 
	Individuals 2</h3>Plus d'info : <a href="https://www.golnetwork.com/game/v/
	130863/">#2</a>\n\n</BODY>\n</HTML>
STATUS:CONFIRMED
CLASS:PUBLIC
URL:https://www.golnetwork.com/game/v/130863/
X-MICROSOFT-CDO-BUSYSTATUS:BUSY
X-MICROSOFT-CDO-IMPORTANCE:1
END:VEVENT
BEGIN:VEVENT
UID:gdkne@games.golnetwork.com
LOCATION:Colonel By High School
GEO:45.4552857;-75.6002507
CREATED:20181024T073722Z
DTSTART:20181029T230000Z
DTEND:20181030T000000Z
DTSTAMP:20260423T032628Z
SUMMARY:Stay Fit Team vs. Refs
DESCRIPTION:Refs vs. Stay Fit TeamPlus d'info : #1
X-ALT-DESC;FMTTYPE=text/html:<!DOCTYPE HTML PUBLIC "-//W3C//DTD HTML 3.2//E
	N">\n<HTML>\n<HEAD>\n<TITLE></TITLE>\n</HEAD>\n<BODY>\n<h3>Refs vs. Stay Fi
	t Team</h3>Plus d'info : <a href="https://www.golnetwork.com/game/v/134548/
	">#1</a>\n\n</BODY>\n</HTML>
STATUS:CONFIRMED
CLASS:PUBLIC
URL:https://www.golnetwork.com/game/v/134548/
X-MICROSOFT-CDO-BUSYSTATUS:BUSY
X-MICROSOFT-CDO-IMPORTANCE:1
END:VEVENT
BEGIN:VEVENT
UID:gdkng@games.golnetwork.com
LOCATION:Colonel By High School
GEO:45.4552857;-75.6002507
CREATED:20181024T073722Z
DTSTART:20181030T000000Z
DTEND:20181030T010000Z
DTSTAMP:20260423T032628Z
SUMMARY:Individuals 2 vs. Stay Fit Team
DESCRIPTION:Stay Fit Team vs. Individuals 2Plus d'info : #2
X-ALT-DESC;FMTTYPE=text/html:<!DOCTYPE HTML PUBLIC "-//W3C//DTD HTML 3.2//E
	N">\n<HTML>\n<HEAD>\n<TITLE></TITLE>\n</HEAD>\n<BODY>\n<h3>Stay Fit Team vs
	. Individuals 2</h3>Plus d'info : <a href="https://www.golnetwork.com/game/
	v/134549/">#2</a>\n\n</BODY>\n</HTML>
STATUS:CONFIRMED
CLASS:PUBLIC
URL:https://www.golnetwork.com/game/v/134549/
X-MICROSOFT-CDO-BUSYSTATUS:BUSY
X-MICROSOFT-CDO-IMPORTANCE:1
END:VEVENT
BEGIN:VEVENT
UID:gdkni@games.golnetwork.com
LOCATION:Colonel By High School
GEO:45.4552857;-75.6002507
CREATED:20181024T073722Z
DTSTART:20181030T010000Z
DTEND:20181030T020000Z
DTSTAMP:20260423T032628Z
SUMMARY:Individuals vs. Dale Rojo
DESCRIPTION:Dale Rojo vs. IndividualsPlus d'info : #3
X-ALT-DESC;FMTTYPE=text/html:<!DOCTYPE HTML PUBLIC "-//W3C//DTD HTML 3.2//E
	N">\n<HTML>\n<HEAD>\n<TITLE></TITLE>\n</HEAD>\n<BODY>\n<h3>Dale Rojo vs. In
	dividuals</h3>Plus d'info : <a href="https://www.golnetwork.com/game/v/1345
	50/">#3</a>\n\n</BODY>\n</HTML>
STATUS:CONFIRMED
CLASS:PUBLIC
URL:https://www.golnetwork.com/game/v/134550/
X-MICROSOFT-CDO-BUSYSTATUS:BUSY
X-MICROSOFT-CDO-IMPORTANCE:1
END:VEVENT
BEGIN:VEVENT
UID:gdknk@games.golnetwork.com
LOCATION:Colonel By High School
GEO:45.4552857;-75.6002507
CREATED:20181024T073722Z
DTSTART:20181106T000000Z
DTEND:20181106T010000Z
DTSTAMP:20260423T032628Z
SUMMARY:Individuals vs. Stay Fit Team
DESCRIPTION:Stay Fit Team vs. IndividualsPlus d'info : #4
X-ALT-DESC;FMTTYPE=text/html:<!DOCTYPE HTML PUBLIC "-//W3C//DTD HTML 3.2//E
	N">\n<HTML>\n<HEAD>\n<TITLE></TITLE>\n</HEAD>\n<BODY>\n<h3>Stay Fit Team vs
	. Individuals</h3>Plus d'info : <a href="https://www.golnetwork.com/game/v/
	134551/">#4</a>\n\n</BODY>\n</HTML>
STATUS:CONFIRMED
CLASS:PUBLIC
URL:https://www.golnetwork.com/game/v/134551/
X-MICROSOFT-CDO-BUSYSTATUS:BUSY
X-MICROSOFT-CDO-IMPORTANCE:1
END:VEVENT
BEGIN:VEVENT
UID:gdknm@games.golnetwork.com
LOCATION:Colonel By High School
GEO:45.4552857;-75.6002507
CREATED:20181024T073722Z
DTSTART:20181106T010000Z
DTEND:20181106T020000Z
DTSTAMP:20260423T032628Z
SUMMARY:Individuals 2 vs. Refs
DESCRIPTION:Refs vs. Individuals 2Plus d'info : #5
X-ALT-DESC;FMTTYPE=text/html:<!DOCTYPE HTML PUBLIC "-//W3C//DTD HTML 3.2//E
	N">\n<HTML>\n<HEAD>\n<TITLE></TITLE>\n</HEAD>\n<BODY>\n<h3>Refs vs. Individ
	uals 2</h3>Plus d'info : <a href="https://www.golnetwork.com/game/v/134552/
	">#5</a>\n\n</BODY>\n</HTML>
STATUS:CONFIRMED
CLASS:PUBLIC
URL:https://www.golnetwork.com/game/v/134552/
X-MICROSOFT-CDO-BUSYSTATUS:BUSY
X-MICROSOFT-CDO-IMPORTANCE:1
END:VEVENT
BEGIN:VEVENT
UID:gdkno@games.golnetwork.com
LOCATION:Colonel By High School
GEO:45.4552857;-75.6002507
CREATED:20181024T073722Z
DTSTART:20181106T020000Z
DTEND:20181106T030000Z
DTSTAMP:20260423T032628Z
SUMMARY:Individuals 2 vs. Dale Rojo
DESCRIPTION:Dale Rojo vs. Individuals 2Plus d'info : #6
X-ALT-DESC;FMTTYPE=text/html:<!DOCTYPE HTML PUBLIC "-//W3C//DTD HTML 3.2//E
	N">\n<HTML>\n<HEAD>\n<TITLE></TITLE>\n</HEAD>\n<BODY>\n<h3>Dale Rojo vs. In
	dividuals 2</h3>Plus d'info : <a href="https://www.golnetwork.com/game/v/13
	4553/">#6</a>\n\n</BODY>\n</HTML>
STATUS:CONFIRMED
CLASS:PUBLIC
URL:https://www.golnetwork.com/game/v/134553/
X-MICROSOFT-CDO-BUSYSTATUS:BUSY
X-MICROSOFT-CDO-IMPORTANCE:1
END:VEVENT
BEGIN:VEVENT
UID:gdknq@games.golnetwork.com
LOCATION:Colonel By High School
GEO:45.4552857;-75.6002507
CREATED:20181024T073722Z
DTSTART:20181113T000000Z
DTEND:20181113T010000Z
DTSTAMP:20260423T032628Z
SUMMARY:Individuals 2 vs. Stay Fit Team
DESCRIPTION:Stay Fit Team vs. Individuals 2Plus d'info : #7
X-ALT-DESC;FMTTYPE=text/html:<!DOCTYPE HTML PUBLIC "-//W3C//DTD HTML 3.2//E
	N">\n<HTML>\n<HEAD>\n<TITLE></TITLE>\n</HEAD>\n<BODY>\n<h3>Stay Fit Team vs
	. Individuals 2</h3>Plus d'info : <a href="https://www.golnetwork.com/game/
	v/134554/">#7</a>\n\n</BODY>\n</HTML>
STATUS:CONFIRMED
CLASS:PUBLIC
URL:https://www.golnetwork.com/game/v/134554/
X-MICROSOFT-CDO-BUSYSTATUS:BUSY
X-MICROSOFT-CDO-IMPORTANCE:1
END:VEVENT
BEGIN:VEVENT
UID:gdko1@games.golnetwork.com
LOCATION:Colonel By High School
GEO:45.4552857;-75.6002507
CREATED:20181024T073722Z
DTSTART:20181113T010000Z
DTEND:20181113T020000Z
DTSTAMP:20260423T032628Z
SUMMARY:Individuals vs. Refs
DESCRIPTION:Refs vs. IndividualsPlus d'info : #8
X-ALT-DESC;FMTTYPE=text/html:<!DOCTYPE HTML PUBLIC "-//W3C//DTD HTML 3.2//E
	N">\n<HTML>\n<HEAD>\n<TITLE></TITLE>\n</HEAD>\n<BODY>\n<h3>Refs vs. Individ
	uals</h3>Plus d'info : <a href="https://www.golnetwork.com/game/v/134555/">
	#8</a>\n\n</BODY>\n</HTML>
STATUS:CONFIRMED
CLASS:PUBLIC
URL:https://www.golnetwork.com/game/v/134555/
X-MICROSOFT-CDO-BUSYSTATUS:BUSY
X-MICROSOFT-CDO-IMPORTANCE:1
END:VEVENT
BEGIN:VEVENT
UID:gdko3@games.golnetwork.com
LOCATION:Colonel By High School
GEO:45.4552857;-75.6002507
CREATED:20181024T073722Z
DTSTART:20181113T020000Z
DTEND:20181113T030000Z
DTSTAMP:20260423T032628Z
SUMMARY:Dale Rojo vs. Refs
DESCRIPTION:Refs vs. Dale RojoPlus d'info : #9
X-ALT-DESC;FMTTYPE=text/html:<!DOCTYPE HTML PUBLIC "-//W3C//DTD HTML 3.2//E
	N">\n<HTML>\n<HEAD>\n<TITLE></TITLE>\n</HEAD>\n<BODY>\n<h3>Refs vs. Dale Ro
	jo</h3>Plus d'info : <a href="https://www.golnetwork.com/game/v/134556/">#9
	</a>\n\n</BODY>\n</HTML>
STATUS:CONFIRMED
CLASS:PUBLIC
URL:https://www.golnetwork.com/game/v/134556/
X-MICROSOFT-CDO-BUSYSTATUS:BUSY
X-MICROSOFT-CDO-IMPORTANCE:1
END:VEVENT
BEGIN:VEVENT
UID:gdko5@games.golnetwork.com
LOCATION:Colonel By High School
GEO:45.4552857;-75.6002507
CREATED:20181024T073722Z
DTSTART:20181120T000000Z
DTEND:20181120T010000Z
DTSTAMP:20260423T032628Z
SUMMARY:Individuals 2 vs. Refs
DESCRIPTION:Refs vs. Individuals 2Plus d'info : #10
X-ALT-DESC;FMTTYPE=text/html:<!DOCTYPE HTML PUBLIC "-//W3C//DTD HTML 3.2//E
	N">\n<HTML>\n<HEAD>\n<TITLE></TITLE>\n</HEAD>\n<BODY>\n<h3>Refs vs. Individ
	uals 2</h3>Plus d'info : <a href="https://www.golnetwork.com/game/v/134557/
	">#10</a>\n\n</BODY>\n</HTML>
STATUS:CONFIRMED
CLASS:PUBLIC
URL:https://www.golnetwork.com/game/v/134557/
X-MICROSOFT-CDO-BUSYSTATUS:BUSY
X-MICROSOFT-CDO-IMPORTANCE:1
END:VEVENT
BEGIN:VEVENT
UID:gdko9@games.golnetwork.com
LOCATION:Colonel By High School
GEO:45.4552857;-75.6002507
CREATED:20181024T073722Z
DTSTART:20181120T010000Z
DTEND:20181120T020000Z
DTSTAMP:20260423T032628Z
SUMMARY:Individuals vs. Dale Rojo
DESCRIPTION:Dale Rojo vs. IndividualsPlus d'info : #12
X-ALT-DESC;FMTTYPE=text/html:<!DOCTYPE HTML PUBLIC "-//W3C//DTD HTML 3.2//E
	N">\n<HTML>\n<HEAD>\n<TITLE></TITLE>\n</HEAD>\n<BODY>\n<h3>Dale Rojo vs. In
	dividuals</h3>Plus d'info : <a href="https://www.golnetwork.com/game/v/1345
	59/">#12</a>\n\n</BODY>\n</HTML>
STATUS:CONFIRMED
CLASS:PUBLIC
URL:https://www.golnetwork.com/game/v/134559/
X-MICROSOFT-CDO-BUSYSTATUS:BUSY
X-MICROSOFT-CDO-IMPORTANCE:1
END:VEVENT
BEGIN:VEVENT
UID:gdko7@games.golnetwork.com
LOCATION:Colonel By High School
GEO:45.4552857;-75.6002507
CREATED:20181024T073722Z
DTSTART:20181120T020000Z
DTEND:20181120T030000Z
DTSTAMP:20260423T032628Z
SUMMARY:Dale Rojo vs. Stay Fit Team
DESCRIPTION:Stay Fit Team vs. Dale RojoPlus d'info : #11
X-ALT-DESC;FMTTYPE=text/html:<!DOCTYPE HTML PUBLIC "-//W3C//DTD HTML 3.2//E
	N">\n<HTML>\n<HEAD>\n<TITLE></TITLE>\n</HEAD>\n<BODY>\n<h3>Stay Fit Team vs
	. Dale Rojo</h3>Plus d'info : <a href="https://www.golnetwork.com/game/v/13
	4558/">#11</a>\n\n</BODY>\n</HTML>
STATUS:CONFIRMED
CLASS:PUBLIC
URL:https://www.golnetwork.com/game/v/134558/
X-MICROSOFT-CDO-BUSYSTATUS:BUSY
X-MICROSOFT-CDO-IMPORTANCE:1
END:VEVENT
BEGIN:VEVENT
UID:gdkod@games.golnetwork.com
LOCATION:Colonel By High School
GEO:45.4552857;-75.6002507
CREATED:20181024T073722Z
DTSTART:20181127T010000Z
DTEND:20181127T020000Z
DTSTAMP:20260423T032628Z
SUMMARY:Stay Fit Team vs. Refs
DESCRIPTION:Refs vs. Stay Fit TeamPlus d'info : #14
X-ALT-DESC;FMTTYPE=text/html:<!DOCTYPE HTML PUBLIC "-//W3C//DTD HTML 3.2//E
	N">\n<HTML>\n<HEAD>\n<TITLE></TITLE>\n</HEAD>\n<BODY>\n<h3>Refs vs. Stay Fi
	t Team</h3>Plus d'info : <a href="https://www.golnetwork.com/game/v/134561/
	">#14</a>\n\n</BODY>\n</HTML>
STATUS:CONFIRMED
CLASS:PUBLIC
URL:https://www.golnetwork.com/game/v/134561/
X-MICROSOFT-CDO-BUSYSTATUS:BUSY
X-MICROSOFT-CDO-IMPORTANCE:1
END:VEVENT
BEGIN:VEVENT
UID:gdkof@games.golnetwork.com
LOCATION:Colonel By High School
GEO:45.4552857;-75.6002507
CREATED:20181024T073722Z
DTSTART:20181127T020000Z
DTEND:20181127T030000Z
DTSTAMP:20260423T032628Z
SUMMARY:Dale Rojo vs. Refs
DESCRIPTION:Refs vs. Dale RojoPlus d'info : #15
X-ALT-DESC;FMTTYPE=text/html:<!DOCTYPE HTML PUBLIC "-//W3C//DTD HTML 3.2//E
	N">\n<HTML>\n<HEAD>\n<TITLE></TITLE>\n</HEAD>\n<BODY>\n<h3>Refs vs. Dale Ro
	jo</h3>Plus d'info : <a href="https://www.golnetwork.com/game/v/134562/">#1
	5</a>\n\n</BODY>\n</HTML>
STATUS:CONFIRMED
CLASS:PUBLIC
URL:https://www.golnetwork.com/game/v/134562/
X-MICROSOFT-CDO-BUSYSTATUS:BUSY
X-MICROSOFT-CDO-IMPORTANCE:1
END:VEVENT
BEGIN:VEVENT
UID:gdkoh@games.golnetwork.com
LOCATION:Colonel By High School
GEO:45.4552857;-75.6002507
CREATED:20181024T073722Z
DTSTART:20181204T000000Z
DTEND:20181204T010000Z
DTSTAMP:20260423T032628Z
SUMMARY:Stay Fit Team vs. Individuals
DESCRIPTION:Individuals vs. Stay Fit TeamPlus d'info : #16
X-ALT-DESC;FMTTYPE=text/html:<!DOCTYPE HTML PUBLIC "-//W3C//DTD HTML 3.2//E
	N">\n<HTML>\n<HEAD>\n<TITLE></TITLE>\n</HEAD>\n<BODY>\n<h3>Individuals vs. 
	Stay Fit Team</h3>Plus d'info : <a href="https://www.golnetwork.com/game/v/
	134563/">#16</a>\n\n</BODY>\n</HTML>
STATUS:CONFIRMED
CLASS:PUBLIC
URL:https://www.golnetwork.com/game/v/134563/
X-MICROSOFT-CDO-BUSYSTATUS:BUSY
X-MICROSOFT-CDO-IMPORTANCE:1
END:VEVENT
BEGIN:VEVENT
UID:gdkoj@games.golnetwork.com
LOCATION:Colonel By High School
GEO:45.4552857;-75.6002507
CREATED:20181024T073722Z
DTSTART:20181204T010000Z
DTEND:20181204T020000Z
DTSTAMP:20260423T032628Z
SUMMARY:Refs vs. Individuals
DESCRIPTION:Individuals vs. RefsPlus d'info : #17
X-ALT-DESC;FMTTYPE=text/html:<!DOCTYPE HTML PUBLIC "-//W3C//DTD HTML 3.2//E
	N">\n<HTML>\n<HEAD>\n<TITLE></TITLE>\n</HEAD>\n<BODY>\n<h3>Individuals vs. 
	Refs</h3>Plus d'info : <a href="https://www.golnetwork.com/game/v/134564/">
	#17</a>\n\n</BODY>\n</HTML>
STATUS:CONFIRMED
CLASS:PUBLIC
URL:https://www.golnetwork.com/game/v/134564/
X-MICROSOFT-CDO-BUSYSTATUS:BUSY
X-MICROSOFT-CDO-IMPORTANCE:1
END:VEVENT
BEGIN:VEVENT
UID:gdkol@games.golnetwork.com
LOCATION:Colonel By High School
GEO:45.4552857;-75.6002507
CREATED:20181024T073722Z
DTSTART:20181204T020000Z
DTEND:20181204T030000Z
DTSTAMP:20260423T032628Z
SUMMARY:Dale Rojo vs. Individuals 2
DESCRIPTION:Individuals 2 vs. Dale RojoPlus d'info : #18
X-ALT-DESC;FMTTYPE=text/html:<!DOCTYPE HTML PUBLIC "-//W3C//DTD HTML 3.2//E
	N">\n<HTML>\n<HEAD>\n<TITLE></TITLE>\n</HEAD>\n<BODY>\n<h3>Individuals 2 vs
	. Dale Rojo</h3>Plus d'info : <a href="https://www.golnetwork.com/game/v/13
	4565/">#18</a>\n\n</BODY>\n</HTML>
STATUS:CONFIRMED
CLASS:PUBLIC
URL:https://www.golnetwork.com/game/v/134565/
X-MICROSOFT-CDO-BUSYSTATUS:BUSY
X-MICROSOFT-CDO-IMPORTANCE:1
END:VEVENT
END:VCALENDAR
