BEGIN:VCALENDAR
PRODID:-//gdesolutions.com//MV Framework 1.0.0.1607 Calendar//EN
VERSION:2.0
METHOD:PUBLISH
CALSCALE:GREGORIAN
BEGIN:VEVENT
UID:gdm8d@games.golnetwork.com
LOCATION:Central Tech - Field 2
GEO:43.6637272;-79.4087613
CREATED:20181030T190421Z
DTSTART:20181108T010000Z
DTEND:20181108T015000Z
DTSTAMP:20260421T173407Z
SUMMARY:Saulter St Brewers vs. Annex FC
DESCRIPTION:Annex FC vs. Saulter St BrewersPlus d'info : #63
X-ALT-DESC;FMTTYPE=text/html:<!DOCTYPE HTML PUBLIC "-//W3C//DTD HTML 3.2//E
	N">\n<HTML>\n<HEAD>\n<TITLE></TITLE>\n</HEAD>\n<BODY>\n<h3>Annex FC vs. Sau
	lter St Brewers</h3>Plus d'info : <a href="https://www.golnetwork.com/game/
	v/135074/">#63</a>\n\n</BODY>\n</HTML>
STATUS:CONFIRMED
CLASS:PUBLIC
URL:https://www.golnetwork.com/game/v/135074/
X-MICROSOFT-CDO-BUSYSTATUS:BUSY
X-MICROSOFT-CDO-IMPORTANCE:1
END:VEVENT
BEGIN:VEVENT
UID:gdm8f@games.golnetwork.com
LOCATION:Central Tech - Field 2
GEO:43.6637272;-79.4087613
CREATED:20181030T190429Z
DTSTART:20181108T020000Z
DTEND:20181108T025000Z
DTSTAMP:20260421T173407Z
SUMMARY:Gran Reserva vs. Akelius
DESCRIPTION:Akelius vs. Gran ReservaPlus d'info : #64
X-ALT-DESC;FMTTYPE=text/html:<!DOCTYPE HTML PUBLIC "-//W3C//DTD HTML 3.2//E
	N">\n<HTML>\n<HEAD>\n<TITLE></TITLE>\n</HEAD>\n<BODY>\n<h3>Akelius vs. Gran
	 Reserva</h3>Plus d'info : <a href="https://www.golnetwork.com/game/v/13507
	5/">#64</a>\n\n</BODY>\n</HTML>
STATUS:CONFIRMED
CLASS:PUBLIC
URL:https://www.golnetwork.com/game/v/135075/
X-MICROSOFT-CDO-BUSYSTATUS:BUSY
X-MICROSOFT-CDO-IMPORTANCE:1
END:VEVENT
BEGIN:VEVENT
UID:gdm8h@games.golnetwork.com
LOCATION:Central Tech - Field 2
GEO:43.6637272;-79.4087613
CREATED:20181030T190438Z
DTSTART:20181108T040000Z
DTEND:20181108T045000Z
DTSTAMP:20260421T173407Z
SUMMARY:Panna FC vs. MOTORSPORT
DESCRIPTION:MOTORSPORT vs. Panna FCPlus d'info : #65
X-ALT-DESC;FMTTYPE=text/html:<!DOCTYPE HTML PUBLIC "-//W3C//DTD HTML 3.2//E
	N">\n<HTML>\n<HEAD>\n<TITLE></TITLE>\n</HEAD>\n<BODY>\n<h3>MOTORSPORT vs. P
	anna FC</h3>Plus d'info : <a href="https://www.golnetwork.com/game/v/135076
	/">#65</a>\n\n</BODY>\n</HTML>
STATUS:CONFIRMED
CLASS:PUBLIC
URL:https://www.golnetwork.com/game/v/135076/
X-MICROSOFT-CDO-BUSYSTATUS:BUSY
X-MICROSOFT-CDO-IMPORTANCE:1
END:VEVENT
BEGIN:VEVENT
UID:gdm8j@games.golnetwork.com
LOCATION:Central Tech - Field 2
GEO:43.6637272;-79.4087613
CREATED:20181030T190449Z
DTSTART:20181115T010000Z
DTEND:20181115T015000Z
DTSTAMP:20260421T173407Z
SUMMARY:Gran Reserva vs. Panna FC
DESCRIPTION:Panna FC vs. Gran ReservaPlus d'info : #104
X-ALT-DESC;FMTTYPE=text/html:<!DOCTYPE HTML PUBLIC "-//W3C//DTD HTML 3.2//E
	N">\n<HTML>\n<HEAD>\n<TITLE></TITLE>\n</HEAD>\n<BODY>\n<h3>Panna FC vs. Gra
	n Reserva</h3>Plus d'info : <a href="https://www.golnetwork.com/game/v/1350
	77/">#104</a>\n\n</BODY>\n</HTML>
STATUS:CONFIRMED
CLASS:PUBLIC
URL:https://www.golnetwork.com/game/v/135077/
X-MICROSOFT-CDO-BUSYSTATUS:BUSY
X-MICROSOFT-CDO-IMPORTANCE:1
END:VEVENT
BEGIN:VEVENT
UID:gdm8l@games.golnetwork.com
LOCATION:Central Tech - Field 2
GEO:43.6637272;-79.4087613
CREATED:20181030T190459Z
DTSTART:20181115T020000Z
DTEND:20181115T025000Z
DTSTAMP:20260421T173407Z
SUMMARY:Saulter St Brewers vs. MOTORSPORT
DESCRIPTION:MOTORSPORT vs. Saulter St BrewersPlus d'info : #105
X-ALT-DESC;FMTTYPE=text/html:<!DOCTYPE HTML PUBLIC "-//W3C//DTD HTML 3.2//E
	N">\n<HTML>\n<HEAD>\n<TITLE></TITLE>\n</HEAD>\n<BODY>\n<h3>MOTORSPORT vs. S
	aulter St Brewers</h3>Plus d'info : <a href="https://www.golnetwork.com/gam
	e/v/135078/">#105</a>\n\n</BODY>\n</HTML>
STATUS:CONFIRMED
CLASS:PUBLIC
URL:https://www.golnetwork.com/game/v/135078/
X-MICROSOFT-CDO-BUSYSTATUS:BUSY
X-MICROSOFT-CDO-IMPORTANCE:1
END:VEVENT
BEGIN:VEVENT
UID:gdm8n@games.golnetwork.com
LOCATION:Central Tech - Field 2
GEO:43.6637272;-79.4087613
CREATED:20181030T190507Z
DTSTART:20181115T040000Z
DTEND:20181115T045000Z
DTSTAMP:20260421T173407Z
SUMMARY:Akelius vs. Annex FC
DESCRIPTION:Annex FC vs. AkeliusPlus d'info : #106
X-ALT-DESC;FMTTYPE=text/html:<!DOCTYPE HTML PUBLIC "-//W3C//DTD HTML 3.2//E
	N">\n<HTML>\n<HEAD>\n<TITLE></TITLE>\n</HEAD>\n<BODY>\n<h3>Annex FC vs. Ake
	lius</h3>Plus d'info : <a href="https://www.golnetwork.com/game/v/135079/">
	#106</a>\n\n</BODY>\n</HTML>
STATUS:CONFIRMED
CLASS:PUBLIC
URL:https://www.golnetwork.com/game/v/135079/
X-MICROSOFT-CDO-BUSYSTATUS:BUSY
X-MICROSOFT-CDO-IMPORTANCE:1
END:VEVENT
BEGIN:VEVENT
UID:gdm8p@games.golnetwork.com
LOCATION:Central Tech - Field 3
CREATED:20181030T190521Z
DTSTART:20181122T000000Z
DTEND:20181122T005000Z
DTSTAMP:20260421T173407Z
SUMMARY:Akelius vs. Panna FC
DESCRIPTION:Panna FC vs. AkeliusPlus d'info : #154
X-ALT-DESC;FMTTYPE=text/html:<!DOCTYPE HTML PUBLIC "-//W3C//DTD HTML 3.2//E
	N">\n<HTML>\n<HEAD>\n<TITLE></TITLE>\n</HEAD>\n<BODY>\n<h3>Panna FC vs. Ake
	lius</h3>Plus d'info : <a href="https://www.golnetwork.com/game/v/135080/">
	#154</a>\n\n</BODY>\n</HTML>
STATUS:CONFIRMED
CLASS:PUBLIC
URL:https://www.golnetwork.com/game/v/135080/
X-MICROSOFT-CDO-BUSYSTATUS:BUSY
X-MICROSOFT-CDO-IMPORTANCE:1
END:VEVENT
BEGIN:VEVENT
UID:gdm90@games.golnetwork.com
LOCATION:Central Tech - Field 3
CREATED:20181030T190530Z
DTSTART:20181122T030000Z
DTEND:20181122T035000Z
DTSTAMP:20260421T173407Z
SUMMARY:MOTORSPORT vs. Annex FC
DESCRIPTION:Annex FC vs. MOTORSPORTPlus d'info : #155
X-ALT-DESC;FMTTYPE=text/html:<!DOCTYPE HTML PUBLIC "-//W3C//DTD HTML 3.2//E
	N">\n<HTML>\n<HEAD>\n<TITLE></TITLE>\n</HEAD>\n<BODY>\n<h3>Annex FC vs. MOT
	ORSPORT</h3>Plus d'info : <a href="https://www.golnetwork.com/game/v/135081
	/">#155</a>\n\n</BODY>\n</HTML>
STATUS:CONFIRMED
CLASS:PUBLIC
URL:https://www.golnetwork.com/game/v/135081/
X-MICROSOFT-CDO-BUSYSTATUS:BUSY
X-MICROSOFT-CDO-IMPORTANCE:1
END:VEVENT
BEGIN:VEVENT
UID:gdm92@games.golnetwork.com
LOCATION:Central Tech - Field 3
CREATED:20181030T190539Z
DTSTART:20181122T040000Z
DTEND:20181122T045000Z
DTSTAMP:20260421T173407Z
SUMMARY:Saulter St Brewers vs. Gran Reserva
DESCRIPTION:Gran Reserva vs. Saulter St BrewersPlus d'info : #156
X-ALT-DESC;FMTTYPE=text/html:<!DOCTYPE HTML PUBLIC "-//W3C//DTD HTML 3.2//E
	N">\n<HTML>\n<HEAD>\n<TITLE></TITLE>\n</HEAD>\n<BODY>\n<h3>Gran Reserva vs.
	 Saulter St Brewers</h3>Plus d'info : <a href="https://www.golnetwork.com/g
	ame/v/135082/">#156</a>\n\n</BODY>\n</HTML>
STATUS:CONFIRMED
CLASS:PUBLIC
URL:https://www.golnetwork.com/game/v/135082/
X-MICROSOFT-CDO-BUSYSTATUS:BUSY
X-MICROSOFT-CDO-IMPORTANCE:1
END:VEVENT
BEGIN:VEVENT
UID:gdm94@games.golnetwork.com
LOCATION:Central Tech - Field 3
CREATED:20181030T190549Z
DTSTART:20181129T000000Z
DTEND:20181129T005000Z
DTSTAMP:20260421T173407Z
SUMMARY:MOTORSPORT vs. Gran Reserva
DESCRIPTION:Gran Reserva vs. MOTORSPORTPlus d'info : #205
X-ALT-DESC;FMTTYPE=text/html:<!DOCTYPE HTML PUBLIC "-//W3C//DTD HTML 3.2//E
	N">\n<HTML>\n<HEAD>\n<TITLE></TITLE>\n</HEAD>\n<BODY>\n<h3>Gran Reserva vs.
	 MOTORSPORT</h3>Plus d'info : <a href="https://www.golnetwork.com/game/v/13
	5083/">#205</a>\n\n</BODY>\n</HTML>
STATUS:CONFIRMED
CLASS:PUBLIC
URL:https://www.golnetwork.com/game/v/135083/
X-MICROSOFT-CDO-BUSYSTATUS:BUSY
X-MICROSOFT-CDO-IMPORTANCE:1
END:VEVENT
BEGIN:VEVENT
UID:gdm96@games.golnetwork.com
LOCATION:Central Tech - Field 3
CREATED:20181030T190559Z
DTSTART:20181129T020000Z
DTEND:20181129T025000Z
DTSTAMP:20260421T173407Z
SUMMARY:Annex FC vs. Panna FC
DESCRIPTION:Panna FC vs. Annex FCPlus d'info : #206
X-ALT-DESC;FMTTYPE=text/html:<!DOCTYPE HTML PUBLIC "-//W3C//DTD HTML 3.2//E
	N">\n<HTML>\n<HEAD>\n<TITLE></TITLE>\n</HEAD>\n<BODY>\n<h3>Panna FC vs. Ann
	ex FC</h3>Plus d'info : <a href="https://www.golnetwork.com/game/v/135084/"
	>#206</a>\n\n</BODY>\n</HTML>
STATUS:CONFIRMED
CLASS:PUBLIC
URL:https://www.golnetwork.com/game/v/135084/
X-MICROSOFT-CDO-BUSYSTATUS:BUSY
X-MICROSOFT-CDO-IMPORTANCE:1
END:VEVENT
BEGIN:VEVENT
UID:gdm98@games.golnetwork.com
LOCATION:Central Tech - Field 3
CREATED:20181030T190606Z
DTSTART:20181129T030000Z
DTEND:20181129T035000Z
DTSTAMP:20260421T173407Z
SUMMARY:Akelius vs. Saulter St Brewers
DESCRIPTION:Saulter St Brewers vs. AkeliusPlus d'info : #207
X-ALT-DESC;FMTTYPE=text/html:<!DOCTYPE HTML PUBLIC "-//W3C//DTD HTML 3.2//E
	N">\n<HTML>\n<HEAD>\n<TITLE></TITLE>\n</HEAD>\n<BODY>\n<h3>Saulter St Brewe
	rs vs. Akelius</h3>Plus d'info : <a href="https://www.golnetwork.com/game/v
	/135085/">#207</a>\n\n</BODY>\n</HTML>
STATUS:CONFIRMED
CLASS:PUBLIC
URL:https://www.golnetwork.com/game/v/135085/
X-MICROSOFT-CDO-BUSYSTATUS:BUSY
X-MICROSOFT-CDO-IMPORTANCE:1
END:VEVENT
BEGIN:VEVENT
UID:gdm9a@games.golnetwork.com
LOCATION:Central Tech - Field 2
GEO:43.6637272;-79.4087613
CREATED:20181030T190618Z
DTSTART:20181206T010000Z
DTEND:20181206T015000Z
DTSTAMP:20260421T173407Z
SUMMARY:MOTORSPORT vs. Akelius
DESCRIPTION:Akelius vs. MOTORSPORTPlus d'info : #258
X-ALT-DESC;FMTTYPE=text/html:<!DOCTYPE HTML PUBLIC "-//W3C//DTD HTML 3.2//E
	N">\n<HTML>\n<HEAD>\n<TITLE></TITLE>\n</HEAD>\n<BODY>\n<h3>Akelius vs. MOTO
	RSPORT</h3>Plus d'info : <a href="https://www.golnetwork.com/game/v/135086/
	">#258</a>\n\n</BODY>\n</HTML>
STATUS:CONFIRMED
CLASS:PUBLIC
URL:https://www.golnetwork.com/game/v/135086/
X-MICROSOFT-CDO-BUSYSTATUS:BUSY
X-MICROSOFT-CDO-IMPORTANCE:1
END:VEVENT
BEGIN:VEVENT
UID:gdm9c@games.golnetwork.com
LOCATION:Central Tech - Field 2
GEO:43.6637272;-79.4087613
CREATED:20181030T190627Z
DTSTART:20181206T030000Z
DTEND:20181206T035000Z
DTSTAMP:20260421T173407Z
SUMMARY:Panna FC vs. Saulter St Brewers
DESCRIPTION:Saulter St Brewers vs. Panna FCPlus d'info : #259
X-ALT-DESC;FMTTYPE=text/html:<!DOCTYPE HTML PUBLIC "-//W3C//DTD HTML 3.2//E
	N">\n<HTML>\n<HEAD>\n<TITLE></TITLE>\n</HEAD>\n<BODY>\n<h3>Saulter St Brewe
	rs vs. Panna FC</h3>Plus d'info : <a href="https://www.golnetwork.com/game/
	v/135087/">#259</a>\n\n</BODY>\n</HTML>
STATUS:CONFIRMED
CLASS:PUBLIC
URL:https://www.golnetwork.com/game/v/135087/
X-MICROSOFT-CDO-BUSYSTATUS:BUSY
X-MICROSOFT-CDO-IMPORTANCE:1
END:VEVENT
BEGIN:VEVENT
UID:gdm9e@games.golnetwork.com
LOCATION:Central Tech - Field 3
CREATED:20181030T190634Z
DTSTART:20181206T030000Z
DTEND:20181206T035000Z
DTSTAMP:20260421T173407Z
SUMMARY:Gran Reserva vs. Annex FC
DESCRIPTION:Annex FC vs. Gran ReservaPlus d'info : #260
X-ALT-DESC;FMTTYPE=text/html:<!DOCTYPE HTML PUBLIC "-//W3C//DTD HTML 3.2//E
	N">\n<HTML>\n<HEAD>\n<TITLE></TITLE>\n</HEAD>\n<BODY>\n<h3>Annex FC vs. Gra
	n Reserva</h3>Plus d'info : <a href="https://www.golnetwork.com/game/v/1350
	88/">#260</a>\n\n</BODY>\n</HTML>
STATUS:CONFIRMED
CLASS:PUBLIC
URL:https://www.golnetwork.com/game/v/135088/
X-MICROSOFT-CDO-BUSYSTATUS:BUSY
X-MICROSOFT-CDO-IMPORTANCE:1
END:VEVENT
BEGIN:VEVENT
UID:gdm9g@games.golnetwork.com
LOCATION:Central Tech - Field 3
CREATED:20181030T190648Z
DTSTART:20181213T000000Z
DTEND:20181213T005000Z
DTSTAMP:20260421T173407Z
SUMMARY:Annex FC vs. Saulter St Brewers
DESCRIPTION:Saulter St Brewers vs. Annex FCPlus d'info : #310
X-ALT-DESC;FMTTYPE=text/html:<!DOCTYPE HTML PUBLIC "-//W3C//DTD HTML 3.2//E
	N">\n<HTML>\n<HEAD>\n<TITLE></TITLE>\n</HEAD>\n<BODY>\n<h3>Saulter St Brewe
	rs vs. Annex FC</h3>Plus d'info : <a href="https://www.golnetwork.com/game/
	v/135089/">#310</a>\n\n</BODY>\n</HTML>
STATUS:CONFIRMED
CLASS:PUBLIC
URL:https://www.golnetwork.com/game/v/135089/
X-MICROSOFT-CDO-BUSYSTATUS:BUSY
X-MICROSOFT-CDO-IMPORTANCE:1
END:VEVENT
BEGIN:VEVENT
UID:gdm9i@games.golnetwork.com
LOCATION:Central Tech - Field 2
GEO:43.6637272;-79.4087613
CREATED:20181030T190659Z
DTSTART:20181213T030000Z
DTEND:20181213T035000Z
DTSTAMP:20260421T173407Z
SUMMARY:Akelius vs. Gran Reserva
DESCRIPTION:Gran Reserva vs. AkeliusPlus d'info : #311
X-ALT-DESC;FMTTYPE=text/html:<!DOCTYPE HTML PUBLIC "-//W3C//DTD HTML 3.2//E
	N">\n<HTML>\n<HEAD>\n<TITLE></TITLE>\n</HEAD>\n<BODY>\n<h3>Gran Reserva vs.
	 Akelius</h3>Plus d'info : <a href="https://www.golnetwork.com/game/v/13509
	0/">#311</a>\n\n</BODY>\n</HTML>
STATUS:CONFIRMED
CLASS:PUBLIC
URL:https://www.golnetwork.com/game/v/135090/
X-MICROSOFT-CDO-BUSYSTATUS:BUSY
X-MICROSOFT-CDO-IMPORTANCE:1
END:VEVENT
BEGIN:VEVENT
UID:gdm9k@games.golnetwork.com
LOCATION:Central Tech - Field 3
CREATED:20181030T190707Z
DTSTART:20181213T030000Z
DTEND:20181213T035000Z
DTSTAMP:20260421T173407Z
SUMMARY:MOTORSPORT vs. Panna FC
DESCRIPTION:Panna FC vs. MOTORSPORTPlus d'info : #312
X-ALT-DESC;FMTTYPE=text/html:<!DOCTYPE HTML PUBLIC "-//W3C//DTD HTML 3.2//E
	N">\n<HTML>\n<HEAD>\n<TITLE></TITLE>\n</HEAD>\n<BODY>\n<h3>Panna FC vs. MOT
	ORSPORT</h3>Plus d'info : <a href="https://www.golnetwork.com/game/v/135091
	/">#312</a>\n\n</BODY>\n</HTML>
STATUS:CONFIRMED
CLASS:PUBLIC
URL:https://www.golnetwork.com/game/v/135091/
X-MICROSOFT-CDO-BUSYSTATUS:BUSY
X-MICROSOFT-CDO-IMPORTANCE:1
END:VEVENT
BEGIN:VEVENT
UID:gdm9m@games.golnetwork.com
LOCATION:Central Tech - Field 2
GEO:43.6637272;-79.4087613
CREATED:20181030T190735Z
DTSTART:20181220T010000Z
DTEND:20181220T015000Z
DTSTAMP:20260421T173407Z
SUMMARY:Gran Reserva vs. Panna FC
DESCRIPTION:Panna FC vs. Gran ReservaPlus d'info : #363
X-ALT-DESC;FMTTYPE=text/html:<!DOCTYPE HTML PUBLIC "-//W3C//DTD HTML 3.2//E
	N">\n<HTML>\n<HEAD>\n<TITLE></TITLE>\n</HEAD>\n<BODY>\n<h3>Panna FC vs. Gra
	n Reserva</h3>Plus d'info : <a href="https://www.golnetwork.com/game/v/1350
	92/">#363</a>\n\n</BODY>\n</HTML>
STATUS:CONFIRMED
CLASS:PUBLIC
URL:https://www.golnetwork.com/game/v/135092/
X-MICROSOFT-CDO-BUSYSTATUS:BUSY
X-MICROSOFT-CDO-IMPORTANCE:1
END:VEVENT
BEGIN:VEVENT
UID:gdm9o@games.golnetwork.com
LOCATION:Central Tech - Field 2
GEO:43.6637272;-79.4087613
CREATED:20181030T190747Z
DTSTART:20181220T040000Z
DTEND:20181220T045000Z
DTSTAMP:20260421T173407Z
SUMMARY:Saulter St Brewers vs. MOTORSPORT
DESCRIPTION:MOTORSPORT vs. Saulter St BrewersPlus d'info : #364
X-ALT-DESC;FMTTYPE=text/html:<!DOCTYPE HTML PUBLIC "-//W3C//DTD HTML 3.2//E
	N">\n<HTML>\n<HEAD>\n<TITLE></TITLE>\n</HEAD>\n<BODY>\n<h3>MOTORSPORT vs. S
	aulter St Brewers</h3>Plus d'info : <a href="https://www.golnetwork.com/gam
	e/v/135093/">#364</a>\n\n</BODY>\n</HTML>
STATUS:CONFIRMED
CLASS:PUBLIC
URL:https://www.golnetwork.com/game/v/135093/
X-MICROSOFT-CDO-BUSYSTATUS:BUSY
X-MICROSOFT-CDO-IMPORTANCE:1
END:VEVENT
BEGIN:VEVENT
UID:gdm9q@games.golnetwork.com
LOCATION:Central Tech - Field 3
CREATED:20181030T190755Z
DTSTART:20181220T040000Z
DTEND:20181220T045000Z
DTSTAMP:20260421T173407Z
SUMMARY:Akelius vs. Annex FC
DESCRIPTION:Annex FC vs. AkeliusPlus d'info : #365
X-ALT-DESC;FMTTYPE=text/html:<!DOCTYPE HTML PUBLIC "-//W3C//DTD HTML 3.2//E
	N">\n<HTML>\n<HEAD>\n<TITLE></TITLE>\n</HEAD>\n<BODY>\n<h3>Annex FC vs. Ake
	lius</h3>Plus d'info : <a href="https://www.golnetwork.com/game/v/135094/">
	#365</a>\n\n</BODY>\n</HTML>
STATUS:CONFIRMED
CLASS:PUBLIC
URL:https://www.golnetwork.com/game/v/135094/
X-MICROSOFT-CDO-BUSYSTATUS:BUSY
X-MICROSOFT-CDO-IMPORTANCE:1
END:VEVENT
BEGIN:VEVENT
UID:gdma1@games.golnetwork.com
LOCATION:Central Tech - Field 3
CREATED:20181030T190803Z
DTSTART:20190103T020000Z
DTEND:20190103T025000Z
DTSTAMP:20260421T173407Z
SUMMARY:Akelius vs. Gran Reserva
DESCRIPTION:Gran Reserva vs. AkeliusPlus d'info : #388
X-ALT-DESC;FMTTYPE=text/html:<!DOCTYPE HTML PUBLIC "-//W3C//DTD HTML 3.2//E
	N">\n<HTML>\n<HEAD>\n<TITLE></TITLE>\n</HEAD>\n<BODY>\n<h3>Gran Reserva vs.
	 Akelius</h3>Plus d'info : <a href="https://www.golnetwork.com/game/v/13509
	5/">#388</a>\n\n</BODY>\n</HTML>
STATUS:CONFIRMED
CLASS:PUBLIC
URL:https://www.golnetwork.com/game/v/135095/
X-MICROSOFT-CDO-BUSYSTATUS:BUSY
X-MICROSOFT-CDO-IMPORTANCE:1
END:VEVENT
BEGIN:VEVENT
UID:gdma3@games.golnetwork.com
LOCATION:Central Tech - Field 2
GEO:43.6637272;-79.4087613
CREATED:20181030T190807Z
DTSTART:20190110T020000Z
DTEND:20190110T025000Z
DTSTAMP:20260421T173407Z
SUMMARY:Gran Reserva vs. MOTORSPORT
DESCRIPTION:MOTORSPORT vs. Gran ReservaPlus d'info : #420
X-ALT-DESC;FMTTYPE=text/html:<!DOCTYPE HTML PUBLIC "-//W3C//DTD HTML 3.2//E
	N">\n<HTML>\n<HEAD>\n<TITLE></TITLE>\n</HEAD>\n<BODY>\n<h3>MOTORSPORT vs. G
	ran Reserva</h3>Plus d'info : <a href="https://www.golnetwork.com/game/v/13
	5096/">#420</a>\n\n</BODY>\n</HTML>
STATUS:CONFIRMED
CLASS:PUBLIC
URL:https://www.golnetwork.com/game/v/135096/
X-MICROSOFT-CDO-BUSYSTATUS:BUSY
X-MICROSOFT-CDO-IMPORTANCE:1
END:VEVENT
BEGIN:VEVENT
UID:gdma5@games.golnetwork.com
LOCATION:Central Tech - Field 2
GEO:43.6637272;-79.4087613
CREATED:20181030T190812Z
DTSTART:20190110T040000Z
DTEND:20190110T045000Z
DTSTAMP:20260421T173407Z
SUMMARY:Akelius vs. Panna FC
DESCRIPTION:Panna FC vs. AkeliusPlus d'info : #421
X-ALT-DESC;FMTTYPE=text/html:<!DOCTYPE HTML PUBLIC "-//W3C//DTD HTML 3.2//E
	N">\n<HTML>\n<HEAD>\n<TITLE></TITLE>\n</HEAD>\n<BODY>\n<h3>Panna FC vs. Ake
	lius</h3>Plus d'info : <a href="https://www.golnetwork.com/game/v/135097/">
	#421</a>\n\n</BODY>\n</HTML>
STATUS:CONFIRMED
CLASS:PUBLIC
URL:https://www.golnetwork.com/game/v/135097/
X-MICROSOFT-CDO-BUSYSTATUS:BUSY
X-MICROSOFT-CDO-IMPORTANCE:1
END:VEVENT
END:VCALENDAR
