BEGIN:VCALENDAR
PRODID:-//gdesolutions.com//MV Framework 1.0.0.1607 Calendar//EN
VERSION:2.0
METHOD:PUBLISH
CALSCALE:GREGORIAN
BEGIN:VEVENT
UID:gdchq@games.golnetwork.com
LOCATION:Monarch Park Stadium - Field 4
GEO:43.6792789;-79.3234873
CREATED:20181018T195908Z
DTSTART:20181025T000000Z
DTEND:20181025T010000Z
DTSTAMP:20260421T152623Z
SUMMARY:No Merci vs. XTSC Eagles
DESCRIPTION:XTSC Eagles vs. No MerciPlus d'info : #29
X-ALT-DESC;FMTTYPE=text/html:<!DOCTYPE HTML PUBLIC "-//W3C//DTD HTML 3.2//E
	N">\n<HTML>\n<HEAD>\n<TITLE></TITLE>\n</HEAD>\n<BODY>\n<h3>XTSC Eagles vs. 
	No Merci</h3>Plus d'info : <a href="https://www.golnetwork.com/game/v/13155
	7/">#29</a>\n\n</BODY>\n</HTML>
STATUS:CONFIRMED
CLASS:PUBLIC
URL:https://www.golnetwork.com/game/v/131557/
X-MICROSOFT-CDO-BUSYSTATUS:BUSY
X-MICROSOFT-CDO-IMPORTANCE:1
END:VEVENT
BEGIN:VEVENT
UID:gdci3@games.golnetwork.com
LOCATION:Monarch Park Stadium - Field 4
GEO:43.6792789;-79.3234873
CREATED:20181018T195922Z
DTSTART:20181025T010000Z
DTEND:20181025T020000Z
DTSTAMP:20260421T152623Z
SUMMARY:Les Foufounes vs. Campisi Personal Injury Lawyers
DESCRIPTION:Campisi Personal Injury Lawyers vs. Les FoufounesPlus d'info : 
	#30
X-ALT-DESC;FMTTYPE=text/html:<!DOCTYPE HTML PUBLIC "-//W3C//DTD HTML 3.2//E
	N">\n<HTML>\n<HEAD>\n<TITLE></TITLE>\n</HEAD>\n<BODY>\n<h3>Campisi Personal
	 Injury Lawyers vs. Les Foufounes</h3>Plus d'info : <a href="https://www.go
	lnetwork.com/game/v/131559/">#30</a>\n\n</BODY>\n</HTML>
STATUS:CONFIRMED
CLASS:PUBLIC
URL:https://www.golnetwork.com/game/v/131559/
X-MICROSOFT-CDO-BUSYSTATUS:BUSY
X-MICROSOFT-CDO-IMPORTANCE:1
END:VEVENT
BEGIN:VEVENT
UID:gdci1@games.golnetwork.com
LOCATION:Monarch Park Stadium - Field 4
GEO:43.6792789;-79.3234873
CREATED:20181018T195915Z
DTSTART:20181025T020000Z
DTEND:20181025T030000Z
DTSTAMP:20260421T152623Z
SUMMARY:Turkey Bacon FC vs. No Flying Today
DESCRIPTION:No Flying Today vs. Turkey Bacon FCPlus d'info : #31
X-ALT-DESC;FMTTYPE=text/html:<!DOCTYPE HTML PUBLIC "-//W3C//DTD HTML 3.2//E
	N">\n<HTML>\n<HEAD>\n<TITLE></TITLE>\n</HEAD>\n<BODY>\n<h3>No Flying Today 
	vs. Turkey Bacon FC</h3>Plus d'info : <a href="https://www.golnetwork.com/g
	ame/v/131558/">#31</a>\n\n</BODY>\n</HTML>
STATUS:CONFIRMED
CLASS:PUBLIC
URL:https://www.golnetwork.com/game/v/131558/
X-MICROSOFT-CDO-BUSYSTATUS:BUSY
X-MICROSOFT-CDO-IMPORTANCE:1
END:VEVENT
BEGIN:VEVENT
UID:gdci5@games.golnetwork.com
LOCATION:Monarch Park Stadium - Field 4
GEO:43.6792789;-79.3234873
CREATED:20181018T195930Z
DTSTART:20181025T030000Z
DTEND:20181025T040000Z
DTSTAMP:20260421T152623Z
SUMMARY:Just Try'na Kick It vs. Julian Lakers
DESCRIPTION:Julian Lakers vs. Just Try'na Kick ItPlus d'info : #32
X-ALT-DESC;FMTTYPE=text/html:<!DOCTYPE HTML PUBLIC "-//W3C//DTD HTML 3.2//E
	N">\n<HTML>\n<HEAD>\n<TITLE></TITLE>\n</HEAD>\n<BODY>\n<h3>Julian Lakers vs
	. Just Try'na Kick It</h3>Plus d'info : <a href="https://www.golnetwork.com
	/game/v/131560/">#32</a>\n\n</BODY>\n</HTML>
STATUS:CONFIRMED
CLASS:PUBLIC
URL:https://www.golnetwork.com/game/v/131560/
X-MICROSOFT-CDO-BUSYSTATUS:BUSY
X-MICROSOFT-CDO-IMPORTANCE:1
END:VEVENT
BEGIN:VEVENT
UID:gdci7@games.golnetwork.com
LOCATION:Monarch Park Stadium - Field 4
GEO:43.6792789;-79.3234873
CREATED:20181018T195942Z
DTSTART:20181101T000000Z
DTEND:20181101T010000Z
DTSTAMP:20260421T152623Z
SUMMARY:Campisi Personal Injury Lawyers vs. Turkey Bacon FC
DESCRIPTION:Turkey Bacon FC vs. Campisi Personal Injury LawyersPlus d'info 
	: #67
X-ALT-DESC;FMTTYPE=text/html:<!DOCTYPE HTML PUBLIC "-//W3C//DTD HTML 3.2//E
	N">\n<HTML>\n<HEAD>\n<TITLE></TITLE>\n</HEAD>\n<BODY>\n<h3>Turkey Bacon FC 
	vs. Campisi Personal Injury Lawyers</h3>Plus d'info : <a href="https://www.
	golnetwork.com/game/v/131561/">#67</a>\n\n</BODY>\n</HTML>
STATUS:CONFIRMED
CLASS:PUBLIC
URL:https://www.golnetwork.com/game/v/131561/
X-MICROSOFT-CDO-BUSYSTATUS:BUSY
X-MICROSOFT-CDO-IMPORTANCE:1
END:VEVENT
BEGIN:VEVENT
UID:gdci9@games.golnetwork.com
LOCATION:Monarch Park Stadium - Field 4
GEO:43.6792789;-79.3234873
CREATED:20181018T195949Z
DTSTART:20181101T010000Z
DTEND:20181101T020000Z
DTSTAMP:20260421T152623Z
SUMMARY:Les Foufounes vs. Julian Lakers
DESCRIPTION:Julian Lakers vs. Les FoufounesPlus d'info : #68
X-ALT-DESC;FMTTYPE=text/html:<!DOCTYPE HTML PUBLIC "-//W3C//DTD HTML 3.2//E
	N">\n<HTML>\n<HEAD>\n<TITLE></TITLE>\n</HEAD>\n<BODY>\n<h3>Julian Lakers vs
	. Les Foufounes</h3>Plus d'info : <a href="https://www.golnetwork.com/game/
	v/131562/">#68</a>\n\n</BODY>\n</HTML>
STATUS:CONFIRMED
CLASS:PUBLIC
URL:https://www.golnetwork.com/game/v/131562/
X-MICROSOFT-CDO-BUSYSTATUS:BUSY
X-MICROSOFT-CDO-IMPORTANCE:1
END:VEVENT
BEGIN:VEVENT
UID:gdcib@games.golnetwork.com
LOCATION:Monarch Park Stadium - Field 4
GEO:43.6792789;-79.3234873
CREATED:20181018T200000Z
DTSTART:20181101T020000Z
DTEND:20181101T030000Z
DTSTAMP:20260421T152623Z
SUMMARY:Just Try'na Kick It vs. No Merci
DESCRIPTION:No Merci vs. Just Try'na Kick ItPlus d'info : #69
X-ALT-DESC;FMTTYPE=text/html:<!DOCTYPE HTML PUBLIC "-//W3C//DTD HTML 3.2//E
	N">\n<HTML>\n<HEAD>\n<TITLE></TITLE>\n</HEAD>\n<BODY>\n<h3>No Merci vs. Jus
	t Try'na Kick It</h3>Plus d'info : <a href="https://www.golnetwork.com/game
	/v/131563/">#69</a>\n\n</BODY>\n</HTML>
STATUS:CONFIRMED
CLASS:PUBLIC
URL:https://www.golnetwork.com/game/v/131563/
X-MICROSOFT-CDO-BUSYSTATUS:BUSY
X-MICROSOFT-CDO-IMPORTANCE:1
END:VEVENT
BEGIN:VEVENT
UID:gdcid@games.golnetwork.com
LOCATION:Monarch Park Stadium - Field 4
GEO:43.6792789;-79.3234873
CREATED:20181018T200009Z
DTSTART:20181101T030000Z
DTEND:20181101T040000Z
DTSTAMP:20260421T152623Z
SUMMARY:No Flying Today vs. XTSC Eagles
DESCRIPTION:XTSC Eagles vs. No Flying TodayPlus d'info : #70
X-ALT-DESC;FMTTYPE=text/html:<!DOCTYPE HTML PUBLIC "-//W3C//DTD HTML 3.2//E
	N">\n<HTML>\n<HEAD>\n<TITLE></TITLE>\n</HEAD>\n<BODY>\n<h3>XTSC Eagles vs. 
	No Flying Today</h3>Plus d'info : <a href="https://www.golnetwork.com/game/
	v/131564/">#70</a>\n\n</BODY>\n</HTML>
STATUS:CONFIRMED
CLASS:PUBLIC
URL:https://www.golnetwork.com/game/v/131564/
X-MICROSOFT-CDO-BUSYSTATUS:BUSY
X-MICROSOFT-CDO-IMPORTANCE:1
END:VEVENT
BEGIN:VEVENT
UID:gdcif@games.golnetwork.com
LOCATION:Monarch Park Stadium - Field 4
GEO:43.6792789;-79.3234873
CREATED:20181018T200019Z
DTSTART:20181108T010000Z
DTEND:20181108T020000Z
DTSTAMP:20260421T152623Z
SUMMARY:XTSC Eagles vs. Campisi Personal Injury Lawyers
DESCRIPTION:Campisi Personal Injury Lawyers vs. XTSC EaglesPlus d'info : #1
	17
X-ALT-DESC;FMTTYPE=text/html:<!DOCTYPE HTML PUBLIC "-//W3C//DTD HTML 3.2//E
	N">\n<HTML>\n<HEAD>\n<TITLE></TITLE>\n</HEAD>\n<BODY>\n<h3>Campisi Personal
	 Injury Lawyers vs. XTSC Eagles</h3>Plus d'info : <a href="https://www.goln
	etwork.com/game/v/131565/">#117</a>\n\n</BODY>\n</HTML>
STATUS:CONFIRMED
CLASS:PUBLIC
URL:https://www.golnetwork.com/game/v/131565/
X-MICROSOFT-CDO-BUSYSTATUS:BUSY
X-MICROSOFT-CDO-IMPORTANCE:1
END:VEVENT
BEGIN:VEVENT
UID:gdcih@games.golnetwork.com
LOCATION:Monarch Park Stadium - Field 4
GEO:43.6792789;-79.3234873
CREATED:20181018T200028Z
DTSTART:20181108T020000Z
DTEND:20181108T030000Z
DTSTAMP:20260421T152623Z
SUMMARY:Turkey Bacon FC vs. Just Try'na Kick It
DESCRIPTION:Just Try'na Kick It vs. Turkey Bacon FCPlus d'info : #119
X-ALT-DESC;FMTTYPE=text/html:<!DOCTYPE HTML PUBLIC "-//W3C//DTD HTML 3.2//E
	N">\n<HTML>\n<HEAD>\n<TITLE></TITLE>\n</HEAD>\n<BODY>\n<h3>Just Try'na Kick
	 It vs. Turkey Bacon FC</h3>Plus d'info : <a href="https://www.golnetwork.c
	om/game/v/131566/">#119</a>\n\n</BODY>\n</HTML>
STATUS:CONFIRMED
CLASS:PUBLIC
URL:https://www.golnetwork.com/game/v/131566/
X-MICROSOFT-CDO-BUSYSTATUS:BUSY
X-MICROSOFT-CDO-IMPORTANCE:1
END:VEVENT
BEGIN:VEVENT
UID:gdcij@games.golnetwork.com
LOCATION:Monarch Park Stadium - Field 4
GEO:43.6792789;-79.3234873
CREATED:20181018T200037Z
DTSTART:20181108T030000Z
DTEND:20181108T040000Z
DTSTAMP:20260421T152623Z
SUMMARY:No Flying Today vs. Julian Lakers
DESCRIPTION:Julian Lakers vs. No Flying TodayPlus d'info : #122
X-ALT-DESC;FMTTYPE=text/html:<!DOCTYPE HTML PUBLIC "-//W3C//DTD HTML 3.2//E
	N">\n<HTML>\n<HEAD>\n<TITLE></TITLE>\n</HEAD>\n<BODY>\n<h3>Julian Lakers vs
	. No Flying Today</h3>Plus d'info : <a href="https://www.golnetwork.com/gam
	e/v/131567/">#122</a>\n\n</BODY>\n</HTML>
STATUS:CONFIRMED
CLASS:PUBLIC
URL:https://www.golnetwork.com/game/v/131567/
X-MICROSOFT-CDO-BUSYSTATUS:BUSY
X-MICROSOFT-CDO-IMPORTANCE:1
END:VEVENT
BEGIN:VEVENT
UID:gdcil@games.golnetwork.com
LOCATION:Monarch Park Stadium - Field 4
GEO:43.6792789;-79.3234873
CREATED:20181018T200045Z
DTSTART:20181108T040000Z
DTEND:20181108T050000Z
DTSTAMP:20260421T152623Z
SUMMARY:No Merci vs. Les Foufounes
DESCRIPTION:Les Foufounes vs. No MerciPlus d'info : #124
X-ALT-DESC;FMTTYPE=text/html:<!DOCTYPE HTML PUBLIC "-//W3C//DTD HTML 3.2//E
	N">\n<HTML>\n<HEAD>\n<TITLE></TITLE>\n</HEAD>\n<BODY>\n<h3>Les Foufounes vs
	. No Merci</h3>Plus d'info : <a href="https://www.golnetwork.com/game/v/131
	568/">#124</a>\n\n</BODY>\n</HTML>
STATUS:CONFIRMED
CLASS:PUBLIC
URL:https://www.golnetwork.com/game/v/131568/
X-MICROSOFT-CDO-BUSYSTATUS:BUSY
X-MICROSOFT-CDO-IMPORTANCE:1
END:VEVENT
BEGIN:VEVENT
UID:gdcin@games.golnetwork.com
LOCATION:Monarch Park Stadium - Field 4
GEO:43.6792789;-79.3234873
CREATED:20181018T200354Z
DTSTART:20181115T010000Z
DTEND:20181115T020000Z
DTSTAMP:20260421T152623Z
SUMMARY:Just Try'na Kick It vs. Les Foufounes
DESCRIPTION:Les Foufounes vs. Just Try'na Kick ItPlus d'info : #210
X-ALT-DESC;FMTTYPE=text/html:<!DOCTYPE HTML PUBLIC "-//W3C//DTD HTML 3.2//E
	N">\n<HTML>\n<HEAD>\n<TITLE></TITLE>\n</HEAD>\n<BODY>\n<h3>Les Foufounes vs
	. Just Try'na Kick It</h3>Plus d'info : <a href="https://www.golnetwork.com
	/game/v/131569/">#210</a>\n\n</BODY>\n</HTML>
STATUS:CONFIRMED
CLASS:PUBLIC
URL:https://www.golnetwork.com/game/v/131569/
X-MICROSOFT-CDO-BUSYSTATUS:BUSY
X-MICROSOFT-CDO-IMPORTANCE:1
END:VEVENT
BEGIN:VEVENT
UID:gdcip@games.golnetwork.com
LOCATION:Monarch Park Stadium - Field 4
GEO:43.6792789;-79.3234873
CREATED:20181018T200402Z
DTSTART:20181115T020000Z
DTEND:20181115T030000Z
DTSTAMP:20260421T152623Z
SUMMARY:Julian Lakers vs. No Merci
DESCRIPTION:No Merci vs. Julian LakersPlus d'info : #212
X-ALT-DESC;FMTTYPE=text/html:<!DOCTYPE HTML PUBLIC "-//W3C//DTD HTML 3.2//E
	N">\n<HTML>\n<HEAD>\n<TITLE></TITLE>\n</HEAD>\n<BODY>\n<h3>No Merci vs. Jul
	ian Lakers</h3>Plus d'info : <a href="https://www.golnetwork.com/game/v/131
	570/">#212</a>\n\n</BODY>\n</HTML>
STATUS:CONFIRMED
CLASS:PUBLIC
URL:https://www.golnetwork.com/game/v/131570/
X-MICROSOFT-CDO-BUSYSTATUS:BUSY
X-MICROSOFT-CDO-IMPORTANCE:1
END:VEVENT
BEGIN:VEVENT
UID:gdcj0@games.golnetwork.com
LOCATION:Monarch Park Stadium - Field 4
GEO:43.6792789;-79.3234873
CREATED:20181018T200411Z
DTSTART:20181115T030000Z
DTEND:20181115T040000Z
DTSTAMP:20260421T152623Z
SUMMARY:Turkey Bacon FC vs. XTSC Eagles
DESCRIPTION:XTSC Eagles vs. Turkey Bacon FCPlus d'info : #215
X-ALT-DESC;FMTTYPE=text/html:<!DOCTYPE HTML PUBLIC "-//W3C//DTD HTML 3.2//E
	N">\n<HTML>\n<HEAD>\n<TITLE></TITLE>\n</HEAD>\n<BODY>\n<h3>XTSC Eagles vs. 
	Turkey Bacon FC</h3>Plus d'info : <a href="https://www.golnetwork.com/game/
	v/131571/">#215</a>\n\n</BODY>\n</HTML>
STATUS:CONFIRMED
CLASS:PUBLIC
URL:https://www.golnetwork.com/game/v/131571/
X-MICROSOFT-CDO-BUSYSTATUS:BUSY
X-MICROSOFT-CDO-IMPORTANCE:1
END:VEVENT
BEGIN:VEVENT
UID:gdcj2@games.golnetwork.com
LOCATION:Monarch Park Stadium - Field 4
GEO:43.6792789;-79.3234873
CREATED:20181018T200419Z
DTSTART:20181115T040000Z
DTEND:20181115T050000Z
DTSTAMP:20260421T152623Z
SUMMARY:Campisi Personal Injury Lawyers vs. No Flying Today
DESCRIPTION:No Flying Today vs. Campisi Personal Injury LawyersPlus d'info 
	: #217
X-ALT-DESC;FMTTYPE=text/html:<!DOCTYPE HTML PUBLIC "-//W3C//DTD HTML 3.2//E
	N">\n<HTML>\n<HEAD>\n<TITLE></TITLE>\n</HEAD>\n<BODY>\n<h3>No Flying Today 
	vs. Campisi Personal Injury Lawyers</h3>Plus d'info : <a href="https://www.
	golnetwork.com/game/v/131572/">#217</a>\n\n</BODY>\n</HTML>
STATUS:CONFIRMED
CLASS:PUBLIC
URL:https://www.golnetwork.com/game/v/131572/
X-MICROSOFT-CDO-BUSYSTATUS:BUSY
X-MICROSOFT-CDO-IMPORTANCE:1
END:VEVENT
BEGIN:VEVENT
UID:gdcj4@games.golnetwork.com
LOCATION:Monarch Park Stadium - Field 4
GEO:43.6792789;-79.3234873
CREATED:20181018T200431Z
DTSTART:20181122T010000Z
DTEND:20181122T020000Z
DTSTAMP:20260421T152623Z
SUMMARY:No Flying Today vs. Just Try'na Kick It
DESCRIPTION:Just Try'na Kick It vs. No Flying TodayPlus d'info : #302
X-ALT-DESC;FMTTYPE=text/html:<!DOCTYPE HTML PUBLIC "-//W3C//DTD HTML 3.2//E
	N">\n<HTML>\n<HEAD>\n<TITLE></TITLE>\n</HEAD>\n<BODY>\n<h3>Just Try'na Kick
	 It vs. No Flying Today</h3>Plus d'info : <a href="https://www.golnetwork.c
	om/game/v/131573/">#302</a>\n\n</BODY>\n</HTML>
STATUS:CONFIRMED
CLASS:PUBLIC
URL:https://www.golnetwork.com/game/v/131573/
X-MICROSOFT-CDO-BUSYSTATUS:BUSY
X-MICROSOFT-CDO-IMPORTANCE:1
END:VEVENT
BEGIN:VEVENT
UID:gdcj6@games.golnetwork.com
LOCATION:Monarch Park Stadium - Field 4
GEO:43.6792789;-79.3234873
CREATED:20181018T200439Z
DTSTART:20181122T020000Z
DTEND:20181122T030000Z
DTSTAMP:20260421T152623Z
SUMMARY:No Merci vs. Campisi Personal Injury Lawyers
DESCRIPTION:Campisi Personal Injury Lawyers vs. No MerciPlus d'info : #305
X-ALT-DESC;FMTTYPE=text/html:<!DOCTYPE HTML PUBLIC "-//W3C//DTD HTML 3.2//E
	N">\n<HTML>\n<HEAD>\n<TITLE></TITLE>\n</HEAD>\n<BODY>\n<h3>Campisi Personal
	 Injury Lawyers vs. No Merci</h3>Plus d'info : <a href="https://www.golnetw
	ork.com/game/v/131574/">#305</a>\n\n</BODY>\n</HTML>
STATUS:CONFIRMED
CLASS:PUBLIC
URL:https://www.golnetwork.com/game/v/131574/
X-MICROSOFT-CDO-BUSYSTATUS:BUSY
X-MICROSOFT-CDO-IMPORTANCE:1
END:VEVENT
BEGIN:VEVENT
UID:gdcj8@games.golnetwork.com
LOCATION:Monarch Park Stadium - Field 4
GEO:43.6792789;-79.3234873
CREATED:20181018T200447Z
DTSTART:20181122T030000Z
DTEND:20181122T040000Z
DTSTAMP:20260421T152623Z
SUMMARY:XTSC Eagles vs. Les Foufounes
DESCRIPTION:Les Foufounes vs. XTSC EaglesPlus d'info : #308
X-ALT-DESC;FMTTYPE=text/html:<!DOCTYPE HTML PUBLIC "-//W3C//DTD HTML 3.2//E
	N">\n<HTML>\n<HEAD>\n<TITLE></TITLE>\n</HEAD>\n<BODY>\n<h3>Les Foufounes vs
	. XTSC Eagles</h3>Plus d'info : <a href="https://www.golnetwork.com/game/v/
	131575/">#308</a>\n\n</BODY>\n</HTML>
STATUS:CONFIRMED
CLASS:PUBLIC
URL:https://www.golnetwork.com/game/v/131575/
X-MICROSOFT-CDO-BUSYSTATUS:BUSY
X-MICROSOFT-CDO-IMPORTANCE:1
END:VEVENT
BEGIN:VEVENT
UID:gdcja@games.golnetwork.com
LOCATION:Monarch Park Stadium - Field 4
GEO:43.6792789;-79.3234873
CREATED:20181018T200500Z
DTSTART:20181122T040000Z
DTEND:20181122T050000Z
DTSTAMP:20260421T152623Z
SUMMARY:Turkey Bacon FC vs. Julian Lakers
DESCRIPTION:Julian Lakers vs. Turkey Bacon FCPlus d'info : #310
X-ALT-DESC;FMTTYPE=text/html:<!DOCTYPE HTML PUBLIC "-//W3C//DTD HTML 3.2//E
	N">\n<HTML>\n<HEAD>\n<TITLE></TITLE>\n</HEAD>\n<BODY>\n<h3>Julian Lakers vs
	. Turkey Bacon FC</h3>Plus d'info : <a href="https://www.golnetwork.com/gam
	e/v/131576/">#310</a>\n\n</BODY>\n</HTML>
STATUS:CONFIRMED
CLASS:PUBLIC
URL:https://www.golnetwork.com/game/v/131576/
X-MICROSOFT-CDO-BUSYSTATUS:BUSY
X-MICROSOFT-CDO-IMPORTANCE:1
END:VEVENT
BEGIN:VEVENT
UID:gdcjc@games.golnetwork.com
LOCATION:Monarch Park Stadium - Field 4
GEO:43.6792789;-79.3234873
CREATED:20181018T200515Z
DTSTART:20181129T010000Z
DTEND:20181129T020000Z
DTSTAMP:20260421T152623Z
SUMMARY:Turkey Bacon FC vs. No Merci
DESCRIPTION:No Merci vs. Turkey Bacon FCPlus d'info : #395
X-ALT-DESC;FMTTYPE=text/html:<!DOCTYPE HTML PUBLIC "-//W3C//DTD HTML 3.2//E
	N">\n<HTML>\n<HEAD>\n<TITLE></TITLE>\n</HEAD>\n<BODY>\n<h3>No Merci vs. Tur
	key Bacon FC</h3>Plus d'info : <a href="https://www.golnetwork.com/game/v/1
	31577/">#395</a>\n\n</BODY>\n</HTML>
STATUS:CONFIRMED
CLASS:PUBLIC
URL:https://www.golnetwork.com/game/v/131577/
X-MICROSOFT-CDO-BUSYSTATUS:BUSY
X-MICROSOFT-CDO-IMPORTANCE:1
END:VEVENT
BEGIN:VEVENT
UID:gdcje@games.golnetwork.com
LOCATION:Monarch Park Stadium - Field 4
GEO:43.6792789;-79.3234873
CREATED:20181018T200522Z
DTSTART:20181129T020000Z
DTEND:20181129T030000Z
DTSTAMP:20260421T152623Z
SUMMARY:Les Foufounes vs. No Flying Today
DESCRIPTION:No Flying Today vs. Les FoufounesPlus d'info : #398
X-ALT-DESC;FMTTYPE=text/html:<!DOCTYPE HTML PUBLIC "-//W3C//DTD HTML 3.2//E
	N">\n<HTML>\n<HEAD>\n<TITLE></TITLE>\n</HEAD>\n<BODY>\n<h3>No Flying Today 
	vs. Les Foufounes</h3>Plus d'info : <a href="https://www.golnetwork.com/gam
	e/v/131578/">#398</a>\n\n</BODY>\n</HTML>
STATUS:CONFIRMED
CLASS:PUBLIC
URL:https://www.golnetwork.com/game/v/131578/
X-MICROSOFT-CDO-BUSYSTATUS:BUSY
X-MICROSOFT-CDO-IMPORTANCE:1
END:VEVENT
BEGIN:VEVENT
UID:gdcjg@games.golnetwork.com
LOCATION:Monarch Park Stadium - Field 4
GEO:43.6792789;-79.3234873
CREATED:20181018T200533Z
DTSTART:20181129T030000Z
DTEND:20181129T040000Z
DTSTAMP:20260421T152623Z
SUMMARY:Julian Lakers vs. XTSC Eagles
DESCRIPTION:XTSC Eagles vs. Julian LakersPlus d'info : #400
X-ALT-DESC;FMTTYPE=text/html:<!DOCTYPE HTML PUBLIC "-//W3C//DTD HTML 3.2//E
	N">\n<HTML>\n<HEAD>\n<TITLE></TITLE>\n</HEAD>\n<BODY>\n<h3>XTSC Eagles vs. 
	Julian Lakers</h3>Plus d'info : <a href="https://www.golnetwork.com/game/v/
	131579/">#400</a>\n\n</BODY>\n</HTML>
STATUS:CONFIRMED
CLASS:PUBLIC
URL:https://www.golnetwork.com/game/v/131579/
X-MICROSOFT-CDO-BUSYSTATUS:BUSY
X-MICROSOFT-CDO-IMPORTANCE:1
END:VEVENT
BEGIN:VEVENT
UID:gdcji@games.golnetwork.com
LOCATION:Monarch Park Stadium - Field 4
GEO:43.6792789;-79.3234873
CREATED:20181018T200542Z
DTSTART:20181129T040000Z
DTEND:20181129T050000Z
DTSTAMP:20260421T152623Z
SUMMARY:Just Try'na Kick It vs. Campisi Personal Injury Lawyers
DESCRIPTION:Campisi Personal Injury Lawyers vs. Just Try'na Kick ItPlus d'i
	nfo : #402
X-ALT-DESC;FMTTYPE=text/html:<!DOCTYPE HTML PUBLIC "-//W3C//DTD HTML 3.2//E
	N">\n<HTML>\n<HEAD>\n<TITLE></TITLE>\n</HEAD>\n<BODY>\n<h3>Campisi Personal
	 Injury Lawyers vs. Just Try'na Kick It</h3>Plus d'info : <a href="https://
	www.golnetwork.com/game/v/131580/">#402</a>\n\n</BODY>\n</HTML>
STATUS:CONFIRMED
CLASS:PUBLIC
URL:https://www.golnetwork.com/game/v/131580/
X-MICROSOFT-CDO-BUSYSTATUS:BUSY
X-MICROSOFT-CDO-IMPORTANCE:1
END:VEVENT
BEGIN:VEVENT
UID:gdcjk@games.golnetwork.com
LOCATION:Monarch Park Stadium - Field 4
GEO:43.6792789;-79.3234873
CREATED:20181018T200554Z
DTSTART:20181206T010000Z
DTEND:20181206T020000Z
DTSTAMP:20260421T152623Z
SUMMARY:Julian Lakers vs. Campisi Personal Injury Lawyers
DESCRIPTION:Campisi Personal Injury Lawyers vs. Julian LakersPlus d'info : 
	#487
X-ALT-DESC;FMTTYPE=text/html:<!DOCTYPE HTML PUBLIC "-//W3C//DTD HTML 3.2//E
	N">\n<HTML>\n<HEAD>\n<TITLE></TITLE>\n</HEAD>\n<BODY>\n<h3>Campisi Personal
	 Injury Lawyers vs. Julian Lakers</h3>Plus d'info : <a href="https://www.go
	lnetwork.com/game/v/131581/">#487</a>\n\n</BODY>\n</HTML>
STATUS:CONFIRMED
CLASS:PUBLIC
URL:https://www.golnetwork.com/game/v/131581/
X-MICROSOFT-CDO-BUSYSTATUS:BUSY
X-MICROSOFT-CDO-IMPORTANCE:1
END:VEVENT
BEGIN:VEVENT
UID:gdcjm@games.golnetwork.com
LOCATION:Monarch Park Stadium - Field 4
GEO:43.6792789;-79.3234873
CREATED:20181018T200603Z
DTSTART:20181206T020000Z
DTEND:20181206T030000Z
DTSTAMP:20260421T152623Z
SUMMARY:Just Try'na Kick It vs. XTSC Eagles
DESCRIPTION:XTSC Eagles vs. Just Try'na Kick ItPlus d'info : #490
X-ALT-DESC;FMTTYPE=text/html:<!DOCTYPE HTML PUBLIC "-//W3C//DTD HTML 3.2//E
	N">\n<HTML>\n<HEAD>\n<TITLE></TITLE>\n</HEAD>\n<BODY>\n<h3>XTSC Eagles vs. 
	Just Try'na Kick It</h3>Plus d'info : <a href="https://www.golnetwork.com/g
	ame/v/131582/">#490</a>\n\n</BODY>\n</HTML>
STATUS:CONFIRMED
CLASS:PUBLIC
URL:https://www.golnetwork.com/game/v/131582/
X-MICROSOFT-CDO-BUSYSTATUS:BUSY
X-MICROSOFT-CDO-IMPORTANCE:1
END:VEVENT
BEGIN:VEVENT
UID:gdcjo@games.golnetwork.com
LOCATION:Monarch Park Stadium - Field 4
GEO:43.6792789;-79.3234873
CREATED:20181018T200612Z
DTSTART:20181206T030000Z
DTEND:20181206T040000Z
DTSTAMP:20260421T152623Z
SUMMARY:No Flying Today vs. No Merci
DESCRIPTION:No Merci vs. No Flying TodayPlus d'info : #492
X-ALT-DESC;FMTTYPE=text/html:<!DOCTYPE HTML PUBLIC "-//W3C//DTD HTML 3.2//E
	N">\n<HTML>\n<HEAD>\n<TITLE></TITLE>\n</HEAD>\n<BODY>\n<h3>No Merci vs. No 
	Flying Today</h3>Plus d'info : <a href="https://www.golnetwork.com/game/v/1
	31583/">#492</a>\n\n</BODY>\n</HTML>
STATUS:CONFIRMED
CLASS:PUBLIC
URL:https://www.golnetwork.com/game/v/131583/
X-MICROSOFT-CDO-BUSYSTATUS:BUSY
X-MICROSOFT-CDO-IMPORTANCE:1
END:VEVENT
BEGIN:VEVENT
UID:gdcjq@games.golnetwork.com
LOCATION:Monarch Park Stadium - Field 4
GEO:43.6792789;-79.3234873
CREATED:20181018T200621Z
DTSTART:20181206T040000Z
DTEND:20181206T050000Z
DTSTAMP:20260421T152623Z
SUMMARY:Les Foufounes vs. Turkey Bacon FC
DESCRIPTION:Turkey Bacon FC vs. Les FoufounesPlus d'info : #494
X-ALT-DESC;FMTTYPE=text/html:<!DOCTYPE HTML PUBLIC "-//W3C//DTD HTML 3.2//E
	N">\n<HTML>\n<HEAD>\n<TITLE></TITLE>\n</HEAD>\n<BODY>\n<h3>Turkey Bacon FC 
	vs. Les Foufounes</h3>Plus d'info : <a href="https://www.golnetwork.com/gam
	e/v/131584/">#494</a>\n\n</BODY>\n</HTML>
STATUS:CONFIRMED
CLASS:PUBLIC
URL:https://www.golnetwork.com/game/v/131584/
X-MICROSOFT-CDO-BUSYSTATUS:BUSY
X-MICROSOFT-CDO-IMPORTANCE:1
END:VEVENT
BEGIN:VEVENT
UID:gdck3@games.golnetwork.com
LOCATION:Monarch Park Stadium - Field 4
GEO:43.6792789;-79.3234873
CREATED:20181018T200628Z
DTSTART:20181213T030000Z
DTEND:20181213T040000Z
DTSTAMP:20260421T152623Z
SUMMARY:No Flying Today vs. Just Try'na Kick It
DESCRIPTION:Just Try'na Kick It vs. No Flying TodayPlus d'info : #585
X-ALT-DESC;FMTTYPE=text/html:<!DOCTYPE HTML PUBLIC "-//W3C//DTD HTML 3.2//E
	N">\n<HTML>\n<HEAD>\n<TITLE></TITLE>\n</HEAD>\n<BODY>\n<h3>Just Try'na Kick
	 It vs. No Flying Today</h3>Plus d'info : <a href="https://www.golnetwork.c
	om/game/v/131586/">#585</a>\n\n</BODY>\n</HTML>
STATUS:CONFIRMED
CLASS:PUBLIC
URL:https://www.golnetwork.com/game/v/131586/
X-MICROSOFT-CDO-BUSYSTATUS:BUSY
X-MICROSOFT-CDO-IMPORTANCE:1
END:VEVENT
BEGIN:VEVENT
UID:gdck1@games.golnetwork.com
LOCATION:Monarch Park Stadium - Field 4
GEO:43.6792789;-79.3234873
CREATED:20181018T200625Z
DTSTART:20181213T040000Z
DTEND:20181213T050000Z
DTSTAMP:20260421T152623Z
SUMMARY:XTSC Eagles vs. No Merci
DESCRIPTION:No Merci vs. XTSC EaglesPlus d'info : #587
X-ALT-DESC;FMTTYPE=text/html:<!DOCTYPE HTML PUBLIC "-//W3C//DTD HTML 3.2//E
	N">\n<HTML>\n<HEAD>\n<TITLE></TITLE>\n</HEAD>\n<BODY>\n<h3>No Merci vs. XTS
	C Eagles</h3>Plus d'info : <a href="https://www.golnetwork.com/game/v/13158
	5/">#587</a>\n\n</BODY>\n</HTML>
STATUS:CONFIRMED
CLASS:PUBLIC
URL:https://www.golnetwork.com/game/v/131585/
X-MICROSOFT-CDO-BUSYSTATUS:BUSY
X-MICROSOFT-CDO-IMPORTANCE:1
END:VEVENT
BEGIN:VEVENT
UID:gdck7@games.golnetwork.com
LOCATION:Monarch Park Stadium - Field 4
GEO:43.6792789;-79.3234873
CREATED:20181018T200634Z
DTSTART:20181220T020000Z
DTEND:20181220T030000Z
DTSTAMP:20260421T152623Z
SUMMARY:Just Try'na Kick It vs. No Merci
DESCRIPTION:No Merci vs. Just Try'na Kick ItPlus d'info : #675
X-ALT-DESC;FMTTYPE=text/html:<!DOCTYPE HTML PUBLIC "-//W3C//DTD HTML 3.2//E
	N">\n<HTML>\n<HEAD>\n<TITLE></TITLE>\n</HEAD>\n<BODY>\n<h3>No Merci vs. Jus
	t Try'na Kick It</h3>Plus d'info : <a href="https://www.golnetwork.com/game
	/v/131588/">#675</a>\n\n</BODY>\n</HTML>
STATUS:CONFIRMED
CLASS:PUBLIC
URL:https://www.golnetwork.com/game/v/131588/
X-MICROSOFT-CDO-BUSYSTATUS:BUSY
X-MICROSOFT-CDO-IMPORTANCE:1
END:VEVENT
BEGIN:VEVENT
UID:gdck5@games.golnetwork.com
LOCATION:Monarch Park Stadium - Field 4
GEO:43.6792789;-79.3234873
CREATED:20181018T200631Z
DTSTART:20181220T030000Z
DTEND:20181220T040000Z
DTSTAMP:20260421T152623Z
SUMMARY:No Flying Today vs. XTSC Eagles
DESCRIPTION:XTSC Eagles vs. No Flying TodayPlus d'info : #678
X-ALT-DESC;FMTTYPE=text/html:<!DOCTYPE HTML PUBLIC "-//W3C//DTD HTML 3.2//E
	N">\n<HTML>\n<HEAD>\n<TITLE></TITLE>\n</HEAD>\n<BODY>\n<h3>XTSC Eagles vs. 
	No Flying Today</h3>Plus d'info : <a href="https://www.golnetwork.com/game/
	v/131587/">#678</a>\n\n</BODY>\n</HTML>
STATUS:CONFIRMED
CLASS:PUBLIC
URL:https://www.golnetwork.com/game/v/131587/
X-MICROSOFT-CDO-BUSYSTATUS:BUSY
X-MICROSOFT-CDO-IMPORTANCE:1
END:VEVENT
BEGIN:VEVENT
UID:gdck9@games.golnetwork.com
LOCATION:Monarch Park Stadium - Field 4
GEO:43.6792789;-79.3234873
CREATED:20181018T200637Z
DTSTART:20181220T040000Z
DTEND:20181220T050000Z
DTSTAMP:20260421T152623Z
SUMMARY:Turkey Bacon FC vs. Campisi Personal Injury Lawyers
DESCRIPTION:Campisi Personal Injury Lawyers vs. Turkey Bacon FCPlus d'info 
	: #680
X-ALT-DESC;FMTTYPE=text/html:<!DOCTYPE HTML PUBLIC "-//W3C//DTD HTML 3.2//E
	N">\n<HTML>\n<HEAD>\n<TITLE></TITLE>\n</HEAD>\n<BODY>\n<h3>Campisi Personal
	 Injury Lawyers vs. Turkey Bacon FC</h3>Plus d'info : <a href="https://www.
	golnetwork.com/game/v/131589/">#680</a>\n\n</BODY>\n</HTML>
STATUS:CONFIRMED
CLASS:PUBLIC
URL:https://www.golnetwork.com/game/v/131589/
X-MICROSOFT-CDO-BUSYSTATUS:BUSY
X-MICROSOFT-CDO-IMPORTANCE:1
END:VEVENT
END:VCALENDAR
