BEGIN:VCALENDAR
PRODID:-//gdesolutions.com//MV Framework 1.0.0.1607 Calendar//EN
VERSION:2.0
METHOD:PUBLISH
CALSCALE:GREGORIAN
BEGIN:VEVENT
UID:gdkdi@games.golnetwork.com
LOCATION:CVM - Court #1
GEO:45.5146585;-73.5658635
CREATED:20181022T141604Z
DTSTART:20190403T233000Z
DTEND:20190404T003000Z
DTSTAMP:20260420T051337Z
SUMMARY:TRANSAT TEAM vs. NATIONAL BANK
DESCRIPTION:NATIONAL BANK vs. TRANSAT TEAMPlus d'info : #77
X-ALT-DESC;FMTTYPE=text/html:<!DOCTYPE HTML PUBLIC "-//W3C//DTD HTML 3.2//E
	N">\n<HTML>\n<HEAD>\n<TITLE></TITLE>\n</HEAD>\n<BODY>\n<h3>NATIONAL BANK vs
	. TRANSAT TEAM</h3>Plus d'info : <a href="https://www.golnetwork.com/game/v
	/134415/">#77</a>\n\n</BODY>\n</HTML>
STATUS:CONFIRMED
CLASS:PUBLIC
URL:https://www.golnetwork.com/game/v/134415/
X-MICROSOFT-CDO-BUSYSTATUS:BUSY
X-MICROSOFT-CDO-IMPORTANCE:1
END:VEVENT
BEGIN:VEVENT
UID:gdkd8@games.golnetwork.com
LOCATION:CVM - Court #1
GEO:45.5146585;-73.5658635
CREATED:20181022T141414Z
DTSTART:20190409T233000Z
DTEND:20190410T003000Z
DTSTAMP:20260420T051337Z
SUMMARY:TRANSAT TEAM vs. MONSIEUR MADAME
DESCRIPTION:MONSIEUR MADAME vs. TRANSAT TEAMPlus d'info : #78
X-ALT-DESC;FMTTYPE=text/html:<!DOCTYPE HTML PUBLIC "-//W3C//DTD HTML 3.2//E
	N">\n<HTML>\n<HEAD>\n<TITLE></TITLE>\n</HEAD>\n<BODY>\n<h3>MONSIEUR MADAME 
	vs. TRANSAT TEAM</h3>Plus d'info : <a href="https://www.golnetwork.com/game
	/v/134410/">#78</a>\n\n</BODY>\n</HTML>
STATUS:CONFIRMED
CLASS:PUBLIC
URL:https://www.golnetwork.com/game/v/134410/
X-MICROSOFT-CDO-BUSYSTATUS:BUSY
X-MICROSOFT-CDO-IMPORTANCE:1
END:VEVENT
BEGIN:VEVENT
UID:gdkd6@games.golnetwork.com
LOCATION:CVM - Court #1
GEO:45.5146585;-73.5658635
CREATED:20181022T141414Z
DTSTART:20190410T003000Z
DTEND:20190410T013000Z
DTSTAMP:20260420T051337Z
SUMMARY:QUEBEC vs. STRATTON OAKMONT
DESCRIPTION:STRATTON OAKMONT vs. QUEBECPlus d'info : #79
X-ALT-DESC;FMTTYPE=text/html:<!DOCTYPE HTML PUBLIC "-//W3C//DTD HTML 3.2//E
	N">\n<HTML>\n<HEAD>\n<TITLE></TITLE>\n</HEAD>\n<BODY>\n<h3>STRATTON OAKMONT
	 vs. QUEBEC</h3>Plus d'info : <a href="https://www.golnetwork.com/game/v/13
	4409/">#79</a>\n\n</BODY>\n</HTML>
STATUS:CONFIRMED
CLASS:PUBLIC
URL:https://www.golnetwork.com/game/v/134409/
X-MICROSOFT-CDO-BUSYSTATUS:BUSY
X-MICROSOFT-CDO-IMPORTANCE:1
END:VEVENT
BEGIN:VEVENT
UID:gdkda@games.golnetwork.com
LOCATION:CVM - Court #1
GEO:45.5146585;-73.5658635
CREATED:20181022T141414Z
DTSTART:20190410T013000Z
DTEND:20190410T023000Z
DTSTAMP:20260420T051337Z
SUMMARY:SUPERTEAM vs. SGCC
DESCRIPTION:SGCC vs. SUPERTEAMPlus d'info : #80
X-ALT-DESC;FMTTYPE=text/html:<!DOCTYPE HTML PUBLIC "-//W3C//DTD HTML 3.2//E
	N">\n<HTML>\n<HEAD>\n<TITLE></TITLE>\n</HEAD>\n<BODY>\n<h3>SGCC vs. SUPERTE
	AM</h3>Plus d'info : <a href="https://www.golnetwork.com/game/v/134411/">#8
	0</a>\n\n</BODY>\n</HTML>
STATUS:CONFIRMED
CLASS:PUBLIC
URL:https://www.golnetwork.com/game/v/134411/
X-MICROSOFT-CDO-BUSYSTATUS:BUSY
X-MICROSOFT-CDO-IMPORTANCE:1
END:VEVENT
BEGIN:VEVENT
UID:gdkdc@games.golnetwork.com
LOCATION:CVM - Court #1
GEO:45.5146585;-73.5658635
CREATED:20181022T141414Z
DTSTART:20190417T001500Z
DTEND:20190417T011500Z
DTSTAMP:20260420T051337Z
SUMMARY:MONSIEUR MADAME vs. QUEBEC
DESCRIPTION:QUEBEC vs. MONSIEUR MADAMEPlus d'info : #82
X-ALT-DESC;FMTTYPE=text/html:<!DOCTYPE HTML PUBLIC "-//W3C//DTD HTML 3.2//E
	N">\n<HTML>\n<HEAD>\n<TITLE></TITLE>\n</HEAD>\n<BODY>\n<h3>QUEBEC vs. MONSI
	EUR MADAME</h3>Plus d'info : <a href="https://www.golnetwork.com/game/v/134
	412/">#82</a>\n\n</BODY>\n</HTML>
STATUS:CONFIRMED
CLASS:PUBLIC
URL:https://www.golnetwork.com/game/v/134412/
X-MICROSOFT-CDO-BUSYSTATUS:BUSY
X-MICROSOFT-CDO-IMPORTANCE:1
END:VEVENT
BEGIN:VEVENT
UID:gdkde@games.golnetwork.com
LOCATION:CVM - Court #1
GEO:45.5146585;-73.5658635
CREATED:20181022T141414Z
DTSTART:20190417T013000Z
DTEND:20190417T023000Z
DTSTAMP:20260420T051337Z
SUMMARY:SGCC vs. WOLVES
DESCRIPTION:WOLVES vs. SGCCPlus d'info : #83
X-ALT-DESC;FMTTYPE=text/html:<!DOCTYPE HTML PUBLIC "-//W3C//DTD HTML 3.2//E
	N">\n<HTML>\n<HEAD>\n<TITLE></TITLE>\n</HEAD>\n<BODY>\n<h3>WOLVES vs. SGCC<
	/h3>Plus d'info : <a href="https://www.golnetwork.com/game/v/134413/">#83</
	a>\n\n</BODY>\n</HTML>
STATUS:CONFIRMED
CLASS:PUBLIC
URL:https://www.golnetwork.com/game/v/134413/
X-MICROSOFT-CDO-BUSYSTATUS:BUSY
X-MICROSOFT-CDO-IMPORTANCE:1
END:VEVENT
BEGIN:VEVENT
UID:gdkdg@games.golnetwork.com
LOCATION:CVM - Court #1
GEO:45.5146585;-73.5658635
CREATED:20181022T141414Z
DTSTART:20190425T001500Z
DTEND:20190425T011500Z
DTSTAMP:20260420T051337Z
SUMMARY:WOLVES vs. MONSIEUR MADAME
DESCRIPTION:MONSIEUR MADAME vs. WOLVESPlus d'info : #84
X-ALT-DESC;FMTTYPE=text/html:<!DOCTYPE HTML PUBLIC "-//W3C//DTD HTML 3.2//E
	N">\n<HTML>\n<HEAD>\n<TITLE></TITLE>\n</HEAD>\n<BODY>\n<h3>MONSIEUR MADAME 
	vs. WOLVES</h3>Plus d'info : <a href="https://www.golnetwork.com/game/v/134
	414/">#84</a>\n\n</BODY>\n</HTML>
STATUS:CONFIRMED
CLASS:PUBLIC
URL:https://www.golnetwork.com/game/v/134414/
X-MICROSOFT-CDO-BUSYSTATUS:BUSY
X-MICROSOFT-CDO-IMPORTANCE:1
END:VEVENT
END:VCALENDAR
