BEGIN:VCALENDAR
PRODID:-//gdesolutions.com//MV Framework 1.0.0.1607 Calendar//EN
VERSION:2.0
METHOD:PUBLISH
CALSCALE:GREGORIAN
BEGIN:VEVENT
UID:gdp17@games.golnetwork.com
LOCATION:Jesse Ketchum Public School
GEO:43.6730545;-79.3911034
CREATED:20181127T173756Z
DTSTART:20181203T233000Z
DTEND:20181204T003000Z
DTSTAMP:20260420T133523Z
SUMMARY:Rooney Tunes vs. Net Six and Chill
DESCRIPTION:Net Six and Chill vs. Rooney TunesPlus d'info : #1
X-ALT-DESC;FMTTYPE=text/html:<!DOCTYPE HTML PUBLIC "-//W3C//DTD HTML 3.2//E
	N">\n<HTML>\n<HEAD>\n<TITLE></TITLE>\n</HEAD>\n<BODY>\n<h3>Net Six and Chil
	l vs. Rooney Tunes</h3>Plus d'info : <a href="https://www.golnetwork.com/ga
	me/v/136070/">#1</a>\n\n</BODY>\n</HTML>
STATUS:CONFIRMED
CLASS:PUBLIC
URL:https://www.golnetwork.com/game/v/136070/
X-MICROSOFT-CDO-BUSYSTATUS:BUSY
X-MICROSOFT-CDO-IMPORTANCE:1
END:VEVENT
BEGIN:VEVENT
UID:gdp19@games.golnetwork.com
LOCATION:Jesse Ketchum Public School
GEO:43.6730545;-79.3911034
CREATED:20181127T173815Z
DTSTART:20181204T003000Z
DTEND:20181204T013000Z
DTSTAMP:20260420T133523Z
SUMMARY:Rooney Tunes vs. Surfing Llamas
DESCRIPTION:Surfing Llamas vs. Rooney TunesPlus d'info : #2
X-ALT-DESC;FMTTYPE=text/html:<!DOCTYPE HTML PUBLIC "-//W3C//DTD HTML 3.2//E
	N">\n<HTML>\n<HEAD>\n<TITLE></TITLE>\n</HEAD>\n<BODY>\n<h3>Surfing Llamas v
	s. Rooney Tunes</h3>Plus d'info : <a href="https://www.golnetwork.com/game/
	v/136071/">#2</a>\n\n</BODY>\n</HTML>
STATUS:CONFIRMED
CLASS:PUBLIC
URL:https://www.golnetwork.com/game/v/136071/
X-MICROSOFT-CDO-BUSYSTATUS:BUSY
X-MICROSOFT-CDO-IMPORTANCE:1
END:VEVENT
BEGIN:VEVENT
UID:gdp1b@games.golnetwork.com
LOCATION:Jesse Ketchum Public School
GEO:43.6730545;-79.3911034
CREATED:20181127T173821Z
DTSTART:20181204T013000Z
DTEND:20181204T023000Z
DTSTAMP:20260420T133523Z
SUMMARY:XTSC Overdrive vs. Squirtle Squad
DESCRIPTION:Squirtle Squad vs. XTSC OverdrivePlus d'info : #3
X-ALT-DESC;FMTTYPE=text/html:<!DOCTYPE HTML PUBLIC "-//W3C//DTD HTML 3.2//E
	N">\n<HTML>\n<HEAD>\n<TITLE></TITLE>\n</HEAD>\n<BODY>\n<h3>Squirtle Squad v
	s. XTSC Overdrive</h3>Plus d'info : <a href="https://www.golnetwork.com/gam
	e/v/136072/">#3</a>\n\n</BODY>\n</HTML>
STATUS:CONFIRMED
CLASS:PUBLIC
URL:https://www.golnetwork.com/game/v/136072/
X-MICROSOFT-CDO-BUSYSTATUS:BUSY
X-MICROSOFT-CDO-IMPORTANCE:1
END:VEVENT
BEGIN:VEVENT
UID:gdp48@games.golnetwork.com
LOCATION:Jesse Ketchum Public School
GEO:43.6730545;-79.3911034
CREATED:20181128T173005Z
DTSTART:20181210T233000Z
DTEND:20181211T003000Z
DTSTAMP:20260420T133523Z
SUMMARY:Surfing Llamas vs. Net Six and Chill
DESCRIPTION:Net Six and Chill vs. Surfing LlamasPlus d'info : #4
X-ALT-DESC;FMTTYPE=text/html:<!DOCTYPE HTML PUBLIC "-//W3C//DTD HTML 3.2//E
	N">\n<HTML>\n<HEAD>\n<TITLE></TITLE>\n</HEAD>\n<BODY>\n<h3>Net Six and Chil
	l vs. Surfing Llamas</h3>Plus d'info : <a href="https://www.golnetwork.com/
	game/v/136111/">#4</a>\n\n</BODY>\n</HTML>
STATUS:CONFIRMED
CLASS:PUBLIC
URL:https://www.golnetwork.com/game/v/136111/
X-MICROSOFT-CDO-BUSYSTATUS:BUSY
X-MICROSOFT-CDO-IMPORTANCE:1
END:VEVENT
BEGIN:VEVENT
UID:gdp4a@games.golnetwork.com
LOCATION:Jesse Ketchum Public School
GEO:43.6730545;-79.3911034
CREATED:20181128T173013Z
DTSTART:20181211T003000Z
DTEND:20181211T013000Z
DTSTAMP:20260420T133523Z
SUMMARY:XTSC Overdrive vs. Net Six and Chill
DESCRIPTION:Net Six and Chill vs. XTSC OverdrivePlus d'info : #5
X-ALT-DESC;FMTTYPE=text/html:<!DOCTYPE HTML PUBLIC "-//W3C//DTD HTML 3.2//E
	N">\n<HTML>\n<HEAD>\n<TITLE></TITLE>\n</HEAD>\n<BODY>\n<h3>Net Six and Chil
	l vs. XTSC Overdrive</h3>Plus d'info : <a href="https://www.golnetwork.com/
	game/v/136112/">#5</a>\n\n</BODY>\n</HTML>
STATUS:CONFIRMED
CLASS:PUBLIC
URL:https://www.golnetwork.com/game/v/136112/
X-MICROSOFT-CDO-BUSYSTATUS:BUSY
X-MICROSOFT-CDO-IMPORTANCE:1
END:VEVENT
BEGIN:VEVENT
UID:gdp4c@games.golnetwork.com
LOCATION:Jesse Ketchum Public School
GEO:43.6730545;-79.3911034
CREATED:20181128T173022Z
DTSTART:20181211T013000Z
DTEND:20181211T023000Z
DTSTAMP:20260420T133523Z
SUMMARY:Rooney Tunes vs. Squirtle Squad
DESCRIPTION:Squirtle Squad vs. Rooney TunesPlus d'info : #6
X-ALT-DESC;FMTTYPE=text/html:<!DOCTYPE HTML PUBLIC "-//W3C//DTD HTML 3.2//E
	N">\n<HTML>\n<HEAD>\n<TITLE></TITLE>\n</HEAD>\n<BODY>\n<h3>Squirtle Squad v
	s. Rooney Tunes</h3>Plus d'info : <a href="https://www.golnetwork.com/game/
	v/136113/">#6</a>\n\n</BODY>\n</HTML>
STATUS:CONFIRMED
CLASS:PUBLIC
URL:https://www.golnetwork.com/game/v/136113/
X-MICROSOFT-CDO-BUSYSTATUS:BUSY
X-MICROSOFT-CDO-IMPORTANCE:1
END:VEVENT
BEGIN:VEVENT
UID:gdp4e@games.golnetwork.com
LOCATION:Jesse Ketchum Public School
GEO:43.6730545;-79.3911034
CREATED:20181128T173038Z
DTSTART:20181217T233000Z
DTEND:20181218T003000Z
DTSTAMP:20260420T133523Z
SUMMARY:Surfing Llamas vs. Squirtle Squad
DESCRIPTION:Squirtle Squad vs. Surfing LlamasPlus d'info : #7
X-ALT-DESC;FMTTYPE=text/html:<!DOCTYPE HTML PUBLIC "-//W3C//DTD HTML 3.2//E
	N">\n<HTML>\n<HEAD>\n<TITLE></TITLE>\n</HEAD>\n<BODY>\n<h3>Squirtle Squad v
	s. Surfing Llamas</h3>Plus d'info : <a href="https://www.golnetwork.com/gam
	e/v/136114/">#7</a>\n\n</BODY>\n</HTML>
STATUS:CONFIRMED
CLASS:PUBLIC
URL:https://www.golnetwork.com/game/v/136114/
X-MICROSOFT-CDO-BUSYSTATUS:BUSY
X-MICROSOFT-CDO-IMPORTANCE:1
END:VEVENT
BEGIN:VEVENT
UID:gdp4g@games.golnetwork.com
LOCATION:Jesse Ketchum Public School
GEO:43.6730545;-79.3911034
CREATED:20181128T173142Z
DTSTART:20181218T003000Z
DTEND:20181218T013000Z
DTSTAMP:20260420T133523Z
SUMMARY:Net Six and Chill vs. Squirtle Squad
DESCRIPTION:Squirtle Squad vs. Net Six and ChillPlus d'info : #8
X-ALT-DESC;FMTTYPE=text/html:<!DOCTYPE HTML PUBLIC "-//W3C//DTD HTML 3.2//E
	N">\n<HTML>\n<HEAD>\n<TITLE></TITLE>\n</HEAD>\n<BODY>\n<h3>Squirtle Squad v
	s. Net Six and Chill</h3>Plus d'info : <a href="https://www.golnetwork.com/
	game/v/136115/">#8</a>\n\n</BODY>\n</HTML>
STATUS:CONFIRMED
CLASS:PUBLIC
URL:https://www.golnetwork.com/game/v/136115/
X-MICROSOFT-CDO-BUSYSTATUS:BUSY
X-MICROSOFT-CDO-IMPORTANCE:1
END:VEVENT
BEGIN:VEVENT
UID:gdp4i@games.golnetwork.com
LOCATION:Jesse Ketchum Public School
GEO:43.6730545;-79.3911034
CREATED:20181128T173149Z
DTSTART:20181218T013000Z
DTEND:20181218T023000Z
DTSTAMP:20260420T133523Z
SUMMARY:XTSC Overdrive vs. Rooney Tunes
DESCRIPTION:Rooney Tunes vs. XTSC OverdrivePlus d'info : #9
X-ALT-DESC;FMTTYPE=text/html:<!DOCTYPE HTML PUBLIC "-//W3C//DTD HTML 3.2//E
	N">\n<HTML>\n<HEAD>\n<TITLE></TITLE>\n</HEAD>\n<BODY>\n<h3>Rooney Tunes vs.
	 XTSC Overdrive</h3>Plus d'info : <a href="https://www.golnetwork.com/game/
	v/136116/">#9</a>\n\n</BODY>\n</HTML>
STATUS:CONFIRMED
CLASS:PUBLIC
URL:https://www.golnetwork.com/game/v/136116/
X-MICROSOFT-CDO-BUSYSTATUS:BUSY
X-MICROSOFT-CDO-IMPORTANCE:1
END:VEVENT
BEGIN:VEVENT
UID:gdp4k@games.golnetwork.com
LOCATION:Jesse Ketchum Public School
GEO:43.6730545;-79.3911034
CREATED:20181128T173201Z
DTSTART:20190107T233000Z
DTEND:20190108T003000Z
DTSTAMP:20260420T133523Z
SUMMARY:Squirtle Squad vs. XTSC Overdrive
DESCRIPTION:XTSC Overdrive vs. Squirtle SquadPlus d'info : #10
X-ALT-DESC;FMTTYPE=text/html:<!DOCTYPE HTML PUBLIC "-//W3C//DTD HTML 3.2//E
	N">\n<HTML>\n<HEAD>\n<TITLE></TITLE>\n</HEAD>\n<BODY>\n<h3>XTSC Overdrive v
	s. Squirtle Squad</h3>Plus d'info : <a href="https://www.golnetwork.com/gam
	e/v/136117/">#10</a>\n\n</BODY>\n</HTML>
STATUS:CONFIRMED
CLASS:PUBLIC
URL:https://www.golnetwork.com/game/v/136117/
X-MICROSOFT-CDO-BUSYSTATUS:BUSY
X-MICROSOFT-CDO-IMPORTANCE:1
END:VEVENT
BEGIN:VEVENT
UID:gdp4m@games.golnetwork.com
LOCATION:Jesse Ketchum Public School
GEO:43.6730545;-79.3911034
CREATED:20181128T173208Z
DTSTART:20190108T003000Z
DTEND:20190108T013000Z
DTSTAMP:20260420T133523Z
SUMMARY:Surfing Llamas vs. XTSC Overdrive
DESCRIPTION:XTSC Overdrive vs. Surfing LlamasPlus d'info : #11
X-ALT-DESC;FMTTYPE=text/html:<!DOCTYPE HTML PUBLIC "-//W3C//DTD HTML 3.2//E
	N">\n<HTML>\n<HEAD>\n<TITLE></TITLE>\n</HEAD>\n<BODY>\n<h3>XTSC Overdrive v
	s. Surfing Llamas</h3>Plus d'info : <a href="https://www.golnetwork.com/gam
	e/v/136118/">#11</a>\n\n</BODY>\n</HTML>
STATUS:CONFIRMED
CLASS:PUBLIC
URL:https://www.golnetwork.com/game/v/136118/
X-MICROSOFT-CDO-BUSYSTATUS:BUSY
X-MICROSOFT-CDO-IMPORTANCE:1
END:VEVENT
BEGIN:VEVENT
UID:gdp4o@games.golnetwork.com
LOCATION:Jesse Ketchum Public School
GEO:43.6730545;-79.3911034
CREATED:20181128T173216Z
DTSTART:20190108T013000Z
DTEND:20190108T023000Z
DTSTAMP:20260420T133523Z
SUMMARY:Net Six and Chill vs. Rooney Tunes
DESCRIPTION:Rooney Tunes vs. Net Six and ChillPlus d'info : #12
X-ALT-DESC;FMTTYPE=text/html:<!DOCTYPE HTML PUBLIC "-//W3C//DTD HTML 3.2//E
	N">\n<HTML>\n<HEAD>\n<TITLE></TITLE>\n</HEAD>\n<BODY>\n<h3>Rooney Tunes vs.
	 Net Six and Chill</h3>Plus d'info : <a href="https://www.golnetwork.com/ga
	me/v/136119/">#12</a>\n\n</BODY>\n</HTML>
STATUS:CONFIRMED
CLASS:PUBLIC
URL:https://www.golnetwork.com/game/v/136119/
X-MICROSOFT-CDO-BUSYSTATUS:BUSY
X-MICROSOFT-CDO-IMPORTANCE:1
END:VEVENT
BEGIN:VEVENT
UID:gdp4q@games.golnetwork.com
LOCATION:Jesse Ketchum Public School
GEO:43.6730545;-79.3911034
CREATED:20181128T173231Z
DTSTART:20190114T233000Z
DTEND:20190115T003000Z
DTSTAMP:20260420T133523Z
SUMMARY:Rooney Tunes vs. XTSC Overdrive
DESCRIPTION:XTSC Overdrive vs. Rooney TunesPlus d'info : #13
X-ALT-DESC;FMTTYPE=text/html:<!DOCTYPE HTML PUBLIC "-//W3C//DTD HTML 3.2//E
	N">\n<HTML>\n<HEAD>\n<TITLE></TITLE>\n</HEAD>\n<BODY>\n<h3>XTSC Overdrive v
	s. Rooney Tunes</h3>Plus d'info : <a href="https://www.golnetwork.com/game/
	v/136120/">#13</a>\n\n</BODY>\n</HTML>
STATUS:CONFIRMED
CLASS:PUBLIC
URL:https://www.golnetwork.com/game/v/136120/
X-MICROSOFT-CDO-BUSYSTATUS:BUSY
X-MICROSOFT-CDO-IMPORTANCE:1
END:VEVENT
BEGIN:VEVENT
UID:gdp51@games.golnetwork.com
LOCATION:Jesse Ketchum Public School
GEO:43.6730545;-79.3911034
CREATED:20181128T173240Z
DTSTART:20190115T003000Z
DTEND:20190115T013000Z
DTSTAMP:20260420T133523Z
SUMMARY:Surfing Llamas vs. Squirtle Squad
DESCRIPTION:Squirtle Squad vs. Surfing LlamasPlus d'info : #14
X-ALT-DESC;FMTTYPE=text/html:<!DOCTYPE HTML PUBLIC "-//W3C//DTD HTML 3.2//E
	N">\n<HTML>\n<HEAD>\n<TITLE></TITLE>\n</HEAD>\n<BODY>\n<h3>Squirtle Squad v
	s. Surfing Llamas</h3>Plus d'info : <a href="https://www.golnetwork.com/gam
	e/v/136121/">#14</a>\n\n</BODY>\n</HTML>
STATUS:CONFIRMED
CLASS:PUBLIC
URL:https://www.golnetwork.com/game/v/136121/
X-MICROSOFT-CDO-BUSYSTATUS:BUSY
X-MICROSOFT-CDO-IMPORTANCE:1
END:VEVENT
BEGIN:VEVENT
UID:gdp53@games.golnetwork.com
LOCATION:Jesse Ketchum Public School
GEO:43.6730545;-79.3911034
CREATED:20181128T173249Z
DTSTART:20190115T013000Z
DTEND:20190115T023000Z
DTSTAMP:20260420T133523Z
SUMMARY:Surfing Llamas vs. Net Six and Chill
DESCRIPTION:Net Six and Chill vs. Surfing LlamasPlus d'info : #15
X-ALT-DESC;FMTTYPE=text/html:<!DOCTYPE HTML PUBLIC "-//W3C//DTD HTML 3.2//E
	N">\n<HTML>\n<HEAD>\n<TITLE></TITLE>\n</HEAD>\n<BODY>\n<h3>Net Six and Chil
	l vs. Surfing Llamas</h3>Plus d'info : <a href="https://www.golnetwork.com/
	game/v/136122/">#15</a>\n\n</BODY>\n</HTML>
STATUS:CONFIRMED
CLASS:PUBLIC
URL:https://www.golnetwork.com/game/v/136122/
X-MICROSOFT-CDO-BUSYSTATUS:BUSY
X-MICROSOFT-CDO-IMPORTANCE:1
END:VEVENT
BEGIN:VEVENT
UID:gdp55@games.golnetwork.com
LOCATION:Jesse Ketchum Public School
GEO:43.6730545;-79.3911034
CREATED:20181128T173258Z
DTSTART:20190121T233000Z
DTEND:20190122T003000Z
DTSTAMP:20260420T133523Z
SUMMARY:Rooney Tunes vs. Surfing Llamas
DESCRIPTION:Surfing Llamas vs. Rooney TunesPlus d'info : #16
X-ALT-DESC;FMTTYPE=text/html:<!DOCTYPE HTML PUBLIC "-//W3C//DTD HTML 3.2//E
	N">\n<HTML>\n<HEAD>\n<TITLE></TITLE>\n</HEAD>\n<BODY>\n<h3>Surfing Llamas v
	s. Rooney Tunes</h3>Plus d'info : <a href="https://www.golnetwork.com/game/
	v/136123/">#16</a>\n\n</BODY>\n</HTML>
STATUS:CONFIRMED
CLASS:PUBLIC
URL:https://www.golnetwork.com/game/v/136123/
X-MICROSOFT-CDO-BUSYSTATUS:BUSY
X-MICROSOFT-CDO-IMPORTANCE:1
END:VEVENT
BEGIN:VEVENT
UID:gdp57@games.golnetwork.com
LOCATION:Jesse Ketchum Public School
GEO:43.6730545;-79.3911034
CREATED:20181128T173304Z
DTSTART:20190122T003000Z
DTEND:20190122T013000Z
DTSTAMP:20260420T133523Z
SUMMARY:Squirtle Squad vs. Net Six and Chill
DESCRIPTION:Net Six and Chill vs. Squirtle SquadPlus d'info : #17
X-ALT-DESC;FMTTYPE=text/html:<!DOCTYPE HTML PUBLIC "-//W3C//DTD HTML 3.2//E
	N">\n<HTML>\n<HEAD>\n<TITLE></TITLE>\n</HEAD>\n<BODY>\n<h3>Net Six and Chil
	l vs. Squirtle Squad</h3>Plus d'info : <a href="https://www.golnetwork.com/
	game/v/136124/">#17</a>\n\n</BODY>\n</HTML>
STATUS:CONFIRMED
CLASS:PUBLIC
URL:https://www.golnetwork.com/game/v/136124/
X-MICROSOFT-CDO-BUSYSTATUS:BUSY
X-MICROSOFT-CDO-IMPORTANCE:1
END:VEVENT
BEGIN:VEVENT
UID:gdp59@games.golnetwork.com
LOCATION:Jesse Ketchum Public School
GEO:43.6730545;-79.3911034
CREATED:20181128T173312Z
DTSTART:20190122T013000Z
DTEND:20190122T023000Z
DTSTAMP:20260420T133523Z
SUMMARY:XTSC Overdrive vs. Net Six and Chill
DESCRIPTION:Net Six and Chill vs. XTSC OverdrivePlus d'info : #18
X-ALT-DESC;FMTTYPE=text/html:<!DOCTYPE HTML PUBLIC "-//W3C//DTD HTML 3.2//E
	N">\n<HTML>\n<HEAD>\n<TITLE></TITLE>\n</HEAD>\n<BODY>\n<h3>Net Six and Chil
	l vs. XTSC Overdrive</h3>Plus d'info : <a href="https://www.golnetwork.com/
	game/v/136125/">#18</a>\n\n</BODY>\n</HTML>
STATUS:CONFIRMED
CLASS:PUBLIC
URL:https://www.golnetwork.com/game/v/136125/
X-MICROSOFT-CDO-BUSYSTATUS:BUSY
X-MICROSOFT-CDO-IMPORTANCE:1
END:VEVENT
BEGIN:VEVENT
UID:gdp5b@games.golnetwork.com
LOCATION:Jesse Ketchum Public School
GEO:43.6730545;-79.3911034
CREATED:20181128T173320Z
DTSTART:20190205T013000Z
DTEND:20190205T023000Z
DTSTAMP:20260420T133523Z
SUMMARY:Net Six and Chill vs. Rooney Tunes
DESCRIPTION:Rooney Tunes vs. Net Six and ChillPlus d'info : #21
X-ALT-DESC;FMTTYPE=text/html:<!DOCTYPE HTML PUBLIC "-//W3C//DTD HTML 3.2//E
	N">\n<HTML>\n<HEAD>\n<TITLE></TITLE>\n</HEAD>\n<BODY>\n<h3>Rooney Tunes vs.
	 Net Six and Chill</h3>Plus d'info : <a href="https://www.golnetwork.com/ga
	me/v/136126/">#21</a>\n\n</BODY>\n</HTML>
STATUS:CONFIRMED
CLASS:PUBLIC
URL:https://www.golnetwork.com/game/v/136126/
X-MICROSOFT-CDO-BUSYSTATUS:BUSY
X-MICROSOFT-CDO-IMPORTANCE:1
END:VEVENT
BEGIN:VEVENT
UID:gdp5d@games.golnetwork.com
LOCATION:Jesse Ketchum Public School
GEO:43.6730545;-79.3911034
CREATED:20181128T173328Z
DTSTART:20190211T233000Z
DTEND:20190212T003000Z
DTSTAMP:20260420T133523Z
SUMMARY:Net Six and Chill vs. XTSC Overdrive
DESCRIPTION:XTSC Overdrive vs. Net Six and ChillPlus d'info : #22
X-ALT-DESC;FMTTYPE=text/html:<!DOCTYPE HTML PUBLIC "-//W3C//DTD HTML 3.2//E
	N">\n<HTML>\n<HEAD>\n<TITLE></TITLE>\n</HEAD>\n<BODY>\n<h3>XTSC Overdrive v
	s. Net Six and Chill</h3>Plus d'info : <a href="https://www.golnetwork.com/
	game/v/136127/">#22</a>\n\n</BODY>\n</HTML>
STATUS:CONFIRMED
CLASS:PUBLIC
URL:https://www.golnetwork.com/game/v/136127/
X-MICROSOFT-CDO-BUSYSTATUS:BUSY
X-MICROSOFT-CDO-IMPORTANCE:1
END:VEVENT
BEGIN:VEVENT
UID:gdp5f@games.golnetwork.com
LOCATION:Jesse Ketchum Public School
GEO:43.6730545;-79.3911034
CREATED:20181128T173332Z
DTSTART:20190212T003000Z
DTEND:20190212T013000Z
DTSTAMP:20260420T133523Z
SUMMARY:Squirtle Squad vs. XTSC Overdrive
DESCRIPTION:XTSC Overdrive vs. Squirtle SquadPlus d'info : #23
X-ALT-DESC;FMTTYPE=text/html:<!DOCTYPE HTML PUBLIC "-//W3C//DTD HTML 3.2//E
	N">\n<HTML>\n<HEAD>\n<TITLE></TITLE>\n</HEAD>\n<BODY>\n<h3>XTSC Overdrive v
	s. Squirtle Squad</h3>Plus d'info : <a href="https://www.golnetwork.com/gam
	e/v/136128/">#23</a>\n\n</BODY>\n</HTML>
STATUS:CONFIRMED
CLASS:PUBLIC
URL:https://www.golnetwork.com/game/v/136128/
X-MICROSOFT-CDO-BUSYSTATUS:BUSY
X-MICROSOFT-CDO-IMPORTANCE:1
END:VEVENT
END:VCALENDAR
