BEGIN:VCALENDAR
PRODID:-//gdesolutions.com//MV Framework 1.0.0.1607 Calendar//EN
VERSION:2.0
METHOD:PUBLISH
CALSCALE:GREGORIAN
BEGIN:VEVENT
UID:gecki@games.golnetwork.com
LOCATION:Align Healthcare Field (Newmarket SoccerCentre)
GEO:44.0379318;-79.4421489
CREATED:20190319T213017Z
DTSTART:20190417T000000Z
DTEND:20190417T005000Z
DTSTAMP:20260420T025828Z
SUMMARY:Good Times vs. Highlighters FC
DESCRIPTION:Highlighters FC vs. Good TimesPlus d'info : #74
X-ALT-DESC;FMTTYPE=text/html:<!DOCTYPE HTML PUBLIC "-//W3C//DTD HTML 3.2//E
	N">\n<HTML>\n<HEAD>\n<TITLE></TITLE>\n</HEAD>\n<BODY>\n<h3>Highlighters FC 
	vs. Good Times</h3>Plus d'info : <a href="https://www.golnetwork.com/game/v
	/141435/">#74</a>\n\n</BODY>\n</HTML>
STATUS:CONFIRMED
CLASS:PUBLIC
URL:https://www.golnetwork.com/game/v/141435/
X-MICROSOFT-CDO-BUSYSTATUS:BUSY
X-MICROSOFT-CDO-IMPORTANCE:1
END:VEVENT
BEGIN:VEVENT
UID:geckk@games.golnetwork.com
LOCATION:Align Healthcare Field (Newmarket SoccerCentre)
GEO:44.0379318;-79.4421489
CREATED:20190319T213017Z
DTSTART:20190417T020000Z
DTEND:20190417T025000Z
DTSTAMP:20260420T025828Z
SUMMARY:Purple vs. Unreal Madrid
DESCRIPTION:Unreal Madrid vs. PurplePlus d'info : #78
X-ALT-DESC;FMTTYPE=text/html:<!DOCTYPE HTML PUBLIC "-//W3C//DTD HTML 3.2//E
	N">\n<HTML>\n<HEAD>\n<TITLE></TITLE>\n</HEAD>\n<BODY>\n<h3>Unreal Madrid vs
	. Purple</h3>Plus d'info : <a href="https://www.golnetwork.com/game/v/14143
	6/">#78</a>\n\n</BODY>\n</HTML>
STATUS:CONFIRMED
CLASS:PUBLIC
URL:https://www.golnetwork.com/game/v/141436/
X-MICROSOFT-CDO-BUSYSTATUS:BUSY
X-MICROSOFT-CDO-IMPORTANCE:1
END:VEVENT
BEGIN:VEVENT
UID:geckm@games.golnetwork.com
LOCATION:Soccer Nation Field (Newmarket SoccerCentre)
GEO:44.0379318;-79.4421489
CREATED:20190319T213017Z
DTSTART:20190424T010000Z
DTEND:20190424T015000Z
DTSTAMP:20260420T025828Z
SUMMARY:Highlighters FC vs. The Dirty Dozen (Welk this Way)
DESCRIPTION:The Dirty Dozen (Welk this Way) vs. Highlighters FCPlus d'info 
	: #81
X-ALT-DESC;FMTTYPE=text/html:<!DOCTYPE HTML PUBLIC "-//W3C//DTD HTML 3.2//E
	N">\n<HTML>\n<HEAD>\n<TITLE></TITLE>\n</HEAD>\n<BODY>\n<h3>The Dirty Dozen 
	(Welk this Way) vs. Highlighters FC</h3>Plus d'info : <a href="https://www.
	golnetwork.com/game/v/141437/">#81</a>\n\n</BODY>\n</HTML>
STATUS:CONFIRMED
CLASS:PUBLIC
URL:https://www.golnetwork.com/game/v/141437/
X-MICROSOFT-CDO-BUSYSTATUS:BUSY
X-MICROSOFT-CDO-IMPORTANCE:1
END:VEVENT
BEGIN:VEVENT
UID:gecko@games.golnetwork.com
LOCATION:Align Healthcare Field (Newmarket SoccerCentre)
GEO:44.0379318;-79.4421489
CREATED:20190319T213017Z
DTSTART:20190424T010000Z
DTEND:20190424T015000Z
DTSTAMP:20260420T025828Z
SUMMARY:Unreal Madrid vs. Injured Reserves
DESCRIPTION:Injured Reserves vs. Unreal MadridPlus d'info : #82
X-ALT-DESC;FMTTYPE=text/html:<!DOCTYPE HTML PUBLIC "-//W3C//DTD HTML 3.2//E
	N">\n<HTML>\n<HEAD>\n<TITLE></TITLE>\n</HEAD>\n<BODY>\n<h3>Injured Reserves
	 vs. Unreal Madrid</h3>Plus d'info : <a href="https://www.golnetwork.com/ga
	me/v/141438/">#82</a>\n\n</BODY>\n</HTML>
STATUS:CONFIRMED
CLASS:PUBLIC
URL:https://www.golnetwork.com/game/v/141438/
X-MICROSOFT-CDO-BUSYSTATUS:BUSY
X-MICROSOFT-CDO-IMPORTANCE:1
END:VEVENT
BEGIN:VEVENT
UID:geckq@games.golnetwork.com
LOCATION:Align Healthcare Field (Newmarket SoccerCentre)
GEO:44.0379318;-79.4421489
CREATED:20190319T213017Z
DTSTART:20190424T020000Z
DTEND:20190424T025000Z
DTSTAMP:20260420T025828Z
SUMMARY:Unreal Madrid vs. Highlighters FC
DESCRIPTION:Highlighters FC vs. Unreal MadridPlus d'info : #84
X-ALT-DESC;FMTTYPE=text/html:<!DOCTYPE HTML PUBLIC "-//W3C//DTD HTML 3.2//E
	N">\n<HTML>\n<HEAD>\n<TITLE></TITLE>\n</HEAD>\n<BODY>\n<h3>Highlighters FC 
	vs. Unreal Madrid</h3>Plus d'info : <a href="https://www.golnetwork.com/gam
	e/v/141439/">#84</a>\n\n</BODY>\n</HTML>
STATUS:CONFIRMED
CLASS:PUBLIC
URL:https://www.golnetwork.com/game/v/141439/
X-MICROSOFT-CDO-BUSYSTATUS:BUSY
X-MICROSOFT-CDO-IMPORTANCE:1
END:VEVENT
END:VCALENDAR
