BEGIN:VCALENDAR
PRODID:-//gdesolutions.com//MV Framework 1.0.0.1607 Calendar//EN
VERSION:2.0
METHOD:PUBLISH
CALSCALE:GREGORIAN
BEGIN:VEVENT
UID:ge6hj@games.golnetwork.com
LOCATION:Align Healthcare Field (Newmarket SoccerCentre)
GEO:44.0379318;-79.4421489
CREATED:20190114T023044Z
DTSTART:20190116T010000Z
DTEND:20190116T015000Z
DTSTAMP:20260420T161816Z
SUMMARY:The Dirty Dozen (Welk this Way) vs. Good Times
DESCRIPTION:Good Times vs. The Dirty Dozen (Welk this Way)Plus d'info : #2
X-ALT-DESC;FMTTYPE=text/html:<!DOCTYPE HTML PUBLIC "-//W3C//DTD HTML 3.2//E
	N">\n<HTML>\n<HEAD>\n<TITLE></TITLE>\n</HEAD>\n<BODY>\n<h3>Good Times vs. T
	he Dirty Dozen (Welk this Way)</h3>Plus d'info : <a href="https://www.golne
	twork.com/game/v/139208/">#2</a>\n\n</BODY>\n</HTML>
STATUS:CONFIRMED
CLASS:PUBLIC
URL:https://www.golnetwork.com/game/v/139208/
X-MICROSOFT-CDO-BUSYSTATUS:BUSY
X-MICROSOFT-CDO-IMPORTANCE:1
END:VEVENT
BEGIN:VEVENT
UID:ge6hl@games.golnetwork.com
LOCATION:Align Healthcare Field (Newmarket SoccerCentre)
GEO:44.0379318;-79.4421489
CREATED:20190114T023044Z
DTSTART:20190116T020000Z
DTEND:20190116T025000Z
DTSTAMP:20260420T161816Z
SUMMARY:Unreal Madrid vs. Highlighters FC
DESCRIPTION:Highlighters FC vs. Unreal MadridPlus d'info : #4
X-ALT-DESC;FMTTYPE=text/html:<!DOCTYPE HTML PUBLIC "-//W3C//DTD HTML 3.2//E
	N">\n<HTML>\n<HEAD>\n<TITLE></TITLE>\n</HEAD>\n<BODY>\n<h3>Highlighters FC 
	vs. Unreal Madrid</h3>Plus d'info : <a href="https://www.golnetwork.com/gam
	e/v/139209/">#4</a>\n\n</BODY>\n</HTML>
STATUS:CONFIRMED
CLASS:PUBLIC
URL:https://www.golnetwork.com/game/v/139209/
X-MICROSOFT-CDO-BUSYSTATUS:BUSY
X-MICROSOFT-CDO-IMPORTANCE:1
END:VEVENT
BEGIN:VEVENT
UID:ge6hn@games.golnetwork.com
LOCATION:Align Healthcare Field (Newmarket SoccerCentre)
GEO:44.0379318;-79.4421489
CREATED:20190114T023044Z
DTSTART:20190116T030000Z
DTEND:20190116T035000Z
DTSTAMP:20260420T161816Z
SUMMARY:Purple vs. Injured Reserves
DESCRIPTION:Injured Reserves vs. PurplePlus d'info : #6
X-ALT-DESC;FMTTYPE=text/html:<!DOCTYPE HTML PUBLIC "-//W3C//DTD HTML 3.2//E
	N">\n<HTML>\n<HEAD>\n<TITLE></TITLE>\n</HEAD>\n<BODY>\n<h3>Injured Reserves
	 vs. Purple</h3>Plus d'info : <a href="https://www.golnetwork.com/game/v/13
	9210/">#6</a>\n\n</BODY>\n</HTML>
STATUS:CONFIRMED
CLASS:PUBLIC
URL:https://www.golnetwork.com/game/v/139210/
X-MICROSOFT-CDO-BUSYSTATUS:BUSY
X-MICROSOFT-CDO-IMPORTANCE:1
END:VEVENT
BEGIN:VEVENT
UID:ge6i2@games.golnetwork.com
LOCATION:Align Healthcare Field (Newmarket SoccerCentre)
GEO:44.0379318;-79.4421489
CREATED:20190114T023044Z
DTSTART:20190123T010000Z
DTEND:20190123T015000Z
DTSTAMP:20260420T161816Z
SUMMARY:Injured Reserves vs. Highlighters FC
DESCRIPTION:Highlighters FC vs. Injured ReservesPlus d'info : #8
X-ALT-DESC;FMTTYPE=text/html:<!DOCTYPE HTML PUBLIC "-//W3C//DTD HTML 3.2//E
	N">\n<HTML>\n<HEAD>\n<TITLE></TITLE>\n</HEAD>\n<BODY>\n<h3>Highlighters FC 
	vs. Injured Reserves</h3>Plus d'info : <a href="https://www.golnetwork.com/
	game/v/139213/">#8</a>\n\n</BODY>\n</HTML>
STATUS:CONFIRMED
CLASS:PUBLIC
URL:https://www.golnetwork.com/game/v/139213/
X-MICROSOFT-CDO-BUSYSTATUS:BUSY
X-MICROSOFT-CDO-IMPORTANCE:1
END:VEVENT
BEGIN:VEVENT
UID:ge6i0@games.golnetwork.com
LOCATION:Align Healthcare Field (Newmarket SoccerCentre)
GEO:44.0379318;-79.4421489
CREATED:20190114T023044Z
DTSTART:20190123T020000Z
DTEND:20190123T025000Z
DTSTAMP:20260420T161816Z
SUMMARY:Purple vs. Good Times
DESCRIPTION:Good Times vs. PurplePlus d'info : #10
X-ALT-DESC;FMTTYPE=text/html:<!DOCTYPE HTML PUBLIC "-//W3C//DTD HTML 3.2//E
	N">\n<HTML>\n<HEAD>\n<TITLE></TITLE>\n</HEAD>\n<BODY>\n<h3>Good Times vs. P
	urple</h3>Plus d'info : <a href="https://www.golnetwork.com/game/v/139212/"
	>#10</a>\n\n</BODY>\n</HTML>
STATUS:CONFIRMED
CLASS:PUBLIC
URL:https://www.golnetwork.com/game/v/139212/
X-MICROSOFT-CDO-BUSYSTATUS:BUSY
X-MICROSOFT-CDO-IMPORTANCE:1
END:VEVENT
BEGIN:VEVENT
UID:ge6hp@games.golnetwork.com
LOCATION:Align Healthcare Field (Newmarket SoccerCentre)
GEO:44.0379318;-79.4421489
CREATED:20190114T023044Z
DTSTART:20190123T030000Z
DTEND:20190123T035000Z
DTSTAMP:20260420T161816Z
SUMMARY:Unreal Madrid vs. The Dirty Dozen (Welk this Way)
DESCRIPTION:The Dirty Dozen (Welk this Way) vs. Unreal MadridPlus d'info : 
	#12
X-ALT-DESC;FMTTYPE=text/html:<!DOCTYPE HTML PUBLIC "-//W3C//DTD HTML 3.2//E
	N">\n<HTML>\n<HEAD>\n<TITLE></TITLE>\n</HEAD>\n<BODY>\n<h3>The Dirty Dozen 
	(Welk this Way) vs. Unreal Madrid</h3>Plus d'info : <a href="https://www.go
	lnetwork.com/game/v/139211/">#12</a>\n\n</BODY>\n</HTML>
STATUS:CONFIRMED
CLASS:PUBLIC
URL:https://www.golnetwork.com/game/v/139211/
X-MICROSOFT-CDO-BUSYSTATUS:BUSY
X-MICROSOFT-CDO-IMPORTANCE:1
END:VEVENT
BEGIN:VEVENT
UID:ge6i4@games.golnetwork.com
LOCATION:Align Healthcare Field (Newmarket SoccerCentre)
GEO:44.0379318;-79.4421489
CREATED:20190114T023044Z
DTSTART:20190130T010000Z
DTEND:20190130T015000Z
DTSTAMP:20260420T161816Z
SUMMARY:The Dirty Dozen (Welk this Way) vs. Purple
DESCRIPTION:Purple vs. The Dirty Dozen (Welk this Way)Plus d'info : #14
X-ALT-DESC;FMTTYPE=text/html:<!DOCTYPE HTML PUBLIC "-//W3C//DTD HTML 3.2//E
	N">\n<HTML>\n<HEAD>\n<TITLE></TITLE>\n</HEAD>\n<BODY>\n<h3>Purple vs. The D
	irty Dozen (Welk this Way)</h3>Plus d'info : <a href="https://www.golnetwor
	k.com/game/v/139214/">#14</a>\n\n</BODY>\n</HTML>
STATUS:CONFIRMED
CLASS:PUBLIC
URL:https://www.golnetwork.com/game/v/139214/
X-MICROSOFT-CDO-BUSYSTATUS:BUSY
X-MICROSOFT-CDO-IMPORTANCE:1
END:VEVENT
BEGIN:VEVENT
UID:ge6i6@games.golnetwork.com
LOCATION:Align Healthcare Field (Newmarket SoccerCentre)
GEO:44.0379318;-79.4421489
CREATED:20190114T023044Z
DTSTART:20190130T020000Z
DTEND:20190130T025000Z
DTSTAMP:20260420T161816Z
SUMMARY:Injured Reserves vs. Unreal Madrid
DESCRIPTION:Unreal Madrid vs. Injured ReservesPlus d'info : #16
X-ALT-DESC;FMTTYPE=text/html:<!DOCTYPE HTML PUBLIC "-//W3C//DTD HTML 3.2//E
	N">\n<HTML>\n<HEAD>\n<TITLE></TITLE>\n</HEAD>\n<BODY>\n<h3>Unreal Madrid vs
	. Injured Reserves</h3>Plus d'info : <a href="https://www.golnetwork.com/ga
	me/v/139215/">#16</a>\n\n</BODY>\n</HTML>
STATUS:CONFIRMED
CLASS:PUBLIC
URL:https://www.golnetwork.com/game/v/139215/
X-MICROSOFT-CDO-BUSYSTATUS:BUSY
X-MICROSOFT-CDO-IMPORTANCE:1
END:VEVENT
BEGIN:VEVENT
UID:ge6i8@games.golnetwork.com
LOCATION:Align Healthcare Field (Newmarket SoccerCentre)
GEO:44.0379318;-79.4421489
CREATED:20190114T023044Z
DTSTART:20190130T030000Z
DTEND:20190130T035000Z
DTSTAMP:20260420T161816Z
SUMMARY:Highlighters FC vs. Good Times
DESCRIPTION:Good Times vs. Highlighters FCPlus d'info : #18
X-ALT-DESC;FMTTYPE=text/html:<!DOCTYPE HTML PUBLIC "-//W3C//DTD HTML 3.2//E
	N">\n<HTML>\n<HEAD>\n<TITLE></TITLE>\n</HEAD>\n<BODY>\n<h3>Good Times vs. H
	ighlighters FC</h3>Plus d'info : <a href="https://www.golnetwork.com/game/v
	/139216/">#18</a>\n\n</BODY>\n</HTML>
STATUS:CONFIRMED
CLASS:PUBLIC
URL:https://www.golnetwork.com/game/v/139216/
X-MICROSOFT-CDO-BUSYSTATUS:BUSY
X-MICROSOFT-CDO-IMPORTANCE:1
END:VEVENT
BEGIN:VEVENT
UID:ge6ia@games.golnetwork.com
LOCATION:Align Healthcare Field (Newmarket SoccerCentre)
GEO:44.0379318;-79.4421489
CREATED:20190114T023044Z
DTSTART:20190206T010000Z
DTEND:20190206T015000Z
DTSTAMP:20260420T161816Z
SUMMARY:Injured Reserves vs. The Dirty Dozen (Welk this Way)
DESCRIPTION:The Dirty Dozen (Welk this Way) vs. Injured ReservesPlus d'info
	 : #20
X-ALT-DESC;FMTTYPE=text/html:<!DOCTYPE HTML PUBLIC "-//W3C//DTD HTML 3.2//E
	N">\n<HTML>\n<HEAD>\n<TITLE></TITLE>\n</HEAD>\n<BODY>\n<h3>The Dirty Dozen 
	(Welk this Way) vs. Injured Reserves</h3>Plus d'info : <a href="https://www
	.golnetwork.com/game/v/139217/">#20</a>\n\n</BODY>\n</HTML>
STATUS:CONFIRMED
CLASS:PUBLIC
URL:https://www.golnetwork.com/game/v/139217/
X-MICROSOFT-CDO-BUSYSTATUS:BUSY
X-MICROSOFT-CDO-IMPORTANCE:1
END:VEVENT
BEGIN:VEVENT
UID:ge6ic@games.golnetwork.com
LOCATION:Align Healthcare Field (Newmarket SoccerCentre)
GEO:44.0379318;-79.4421489
CREATED:20190114T023044Z
DTSTART:20190206T020000Z
DTEND:20190206T025000Z
DTSTAMP:20260420T161816Z
SUMMARY:Highlighters FC vs. Purple
DESCRIPTION:Purple vs. Highlighters FCPlus d'info : #22
X-ALT-DESC;FMTTYPE=text/html:<!DOCTYPE HTML PUBLIC "-//W3C//DTD HTML 3.2//E
	N">\n<HTML>\n<HEAD>\n<TITLE></TITLE>\n</HEAD>\n<BODY>\n<h3>Purple vs. Highl
	ighters FC</h3>Plus d'info : <a href="https://www.golnetwork.com/game/v/139
	218/">#22</a>\n\n</BODY>\n</HTML>
STATUS:CONFIRMED
CLASS:PUBLIC
URL:https://www.golnetwork.com/game/v/139218/
X-MICROSOFT-CDO-BUSYSTATUS:BUSY
X-MICROSOFT-CDO-IMPORTANCE:1
END:VEVENT
BEGIN:VEVENT
UID:ge6ie@games.golnetwork.com
LOCATION:Align Healthcare Field (Newmarket SoccerCentre)
GEO:44.0379318;-79.4421489
CREATED:20190114T023044Z
DTSTART:20190206T030000Z
DTEND:20190206T035000Z
DTSTAMP:20260420T161816Z
SUMMARY:Good Times vs. Unreal Madrid
DESCRIPTION:Unreal Madrid vs. Good TimesPlus d'info : #24
X-ALT-DESC;FMTTYPE=text/html:<!DOCTYPE HTML PUBLIC "-//W3C//DTD HTML 3.2//E
	N">\n<HTML>\n<HEAD>\n<TITLE></TITLE>\n</HEAD>\n<BODY>\n<h3>Unreal Madrid vs
	. Good Times</h3>Plus d'info : <a href="https://www.golnetwork.com/game/v/1
	39219/">#24</a>\n\n</BODY>\n</HTML>
STATUS:CONFIRMED
CLASS:PUBLIC
URL:https://www.golnetwork.com/game/v/139219/
X-MICROSOFT-CDO-BUSYSTATUS:BUSY
X-MICROSOFT-CDO-IMPORTANCE:1
END:VEVENT
BEGIN:VEVENT
UID:ge6im@games.golnetwork.com
LOCATION:Align Healthcare Field (Newmarket SoccerCentre)
GEO:44.0379318;-79.4421489
CREATED:20190114T023044Z
DTSTART:20190220T010000Z
DTEND:20190220T015000Z
DTSTAMP:20260420T161816Z
SUMMARY:The Dirty Dozen (Welk this Way) vs. Good Times
DESCRIPTION:Good Times vs. The Dirty Dozen (Welk this Way)Plus d'info : #26
X-ALT-DESC;FMTTYPE=text/html:<!DOCTYPE HTML PUBLIC "-//W3C//DTD HTML 3.2//E
	N">\n<HTML>\n<HEAD>\n<TITLE></TITLE>\n</HEAD>\n<BODY>\n<h3>Good Times vs. T
	he Dirty Dozen (Welk this Way)</h3>Plus d'info : <a href="https://www.golne
	twork.com/game/v/139223/">#26</a>\n\n</BODY>\n</HTML>
STATUS:CONFIRMED
CLASS:PUBLIC
URL:https://www.golnetwork.com/game/v/139223/
X-MICROSOFT-CDO-BUSYSTATUS:BUSY
X-MICROSOFT-CDO-IMPORTANCE:1
END:VEVENT
BEGIN:VEVENT
UID:ge6io@games.golnetwork.com
LOCATION:Align Healthcare Field (Newmarket SoccerCentre)
GEO:44.0379318;-79.4421489
CREATED:20190114T023044Z
DTSTART:20190220T020000Z
DTEND:20190220T025000Z
DTSTAMP:20260420T161816Z
SUMMARY:Unreal Madrid vs. Highlighters FC
DESCRIPTION:Highlighters FC vs. Unreal MadridPlus d'info : #28
X-ALT-DESC;FMTTYPE=text/html:<!DOCTYPE HTML PUBLIC "-//W3C//DTD HTML 3.2//E
	N">\n<HTML>\n<HEAD>\n<TITLE></TITLE>\n</HEAD>\n<BODY>\n<h3>Highlighters FC 
	vs. Unreal Madrid</h3>Plus d'info : <a href="https://www.golnetwork.com/gam
	e/v/139224/">#28</a>\n\n</BODY>\n</HTML>
STATUS:CONFIRMED
CLASS:PUBLIC
URL:https://www.golnetwork.com/game/v/139224/
X-MICROSOFT-CDO-BUSYSTATUS:BUSY
X-MICROSOFT-CDO-IMPORTANCE:1
END:VEVENT
BEGIN:VEVENT
UID:ge6iq@games.golnetwork.com
LOCATION:Align Healthcare Field (Newmarket SoccerCentre)
GEO:44.0379318;-79.4421489
CREATED:20190114T023044Z
DTSTART:20190220T030000Z
DTEND:20190220T035000Z
DTSTAMP:20260420T161816Z
SUMMARY:Purple vs. Injured Reserves
DESCRIPTION:Injured Reserves vs. PurplePlus d'info : #30
X-ALT-DESC;FMTTYPE=text/html:<!DOCTYPE HTML PUBLIC "-//W3C//DTD HTML 3.2//E
	N">\n<HTML>\n<HEAD>\n<TITLE></TITLE>\n</HEAD>\n<BODY>\n<h3>Injured Reserves
	 vs. Purple</h3>Plus d'info : <a href="https://www.golnetwork.com/game/v/13
	9225/">#30</a>\n\n</BODY>\n</HTML>
STATUS:CONFIRMED
CLASS:PUBLIC
URL:https://www.golnetwork.com/game/v/139225/
X-MICROSOFT-CDO-BUSYSTATUS:BUSY
X-MICROSOFT-CDO-IMPORTANCE:1
END:VEVENT
BEGIN:VEVENT
UID:ge6j3@games.golnetwork.com
LOCATION:Align Healthcare Field (Newmarket SoccerCentre)
GEO:44.0379318;-79.4421489
CREATED:20190114T023044Z
DTSTART:20190227T010000Z
DTEND:20190227T015000Z
DTSTAMP:20260420T161816Z
SUMMARY:Purple vs. Good Times
DESCRIPTION:Good Times vs. PurplePlus d'info : #32
X-ALT-DESC;FMTTYPE=text/html:<!DOCTYPE HTML PUBLIC "-//W3C//DTD HTML 3.2//E
	N">\n<HTML>\n<HEAD>\n<TITLE></TITLE>\n</HEAD>\n<BODY>\n<h3>Good Times vs. P
	urple</h3>Plus d'info : <a href="https://www.golnetwork.com/game/v/139227/"
	>#32</a>\n\n</BODY>\n</HTML>
STATUS:CONFIRMED
CLASS:PUBLIC
URL:https://www.golnetwork.com/game/v/139227/
X-MICROSOFT-CDO-BUSYSTATUS:BUSY
X-MICROSOFT-CDO-IMPORTANCE:1
END:VEVENT
BEGIN:VEVENT
UID:ge6j1@games.golnetwork.com
LOCATION:Align Healthcare Field (Newmarket SoccerCentre)
GEO:44.0379318;-79.4421489
CREATED:20190114T023044Z
DTSTART:20190227T020000Z
DTEND:20190227T025000Z
DTSTAMP:20260420T161816Z
SUMMARY:Unreal Madrid vs. The Dirty Dozen (Welk this Way)
DESCRIPTION:The Dirty Dozen (Welk this Way) vs. Unreal MadridPlus d'info : 
	#34
X-ALT-DESC;FMTTYPE=text/html:<!DOCTYPE HTML PUBLIC "-//W3C//DTD HTML 3.2//E
	N">\n<HTML>\n<HEAD>\n<TITLE></TITLE>\n</HEAD>\n<BODY>\n<h3>The Dirty Dozen 
	(Welk this Way) vs. Unreal Madrid</h3>Plus d'info : <a href="https://www.go
	lnetwork.com/game/v/139226/">#34</a>\n\n</BODY>\n</HTML>
STATUS:CONFIRMED
CLASS:PUBLIC
URL:https://www.golnetwork.com/game/v/139226/
X-MICROSOFT-CDO-BUSYSTATUS:BUSY
X-MICROSOFT-CDO-IMPORTANCE:1
END:VEVENT
BEGIN:VEVENT
UID:ge6j5@games.golnetwork.com
LOCATION:Align Healthcare Field (Newmarket SoccerCentre)
GEO:44.0379318;-79.4421489
CREATED:20190114T023044Z
DTSTART:20190227T030000Z
DTEND:20190227T035000Z
DTSTAMP:20260420T161816Z
SUMMARY:Injured Reserves vs. Highlighters FC
DESCRIPTION:Highlighters FC vs. Injured ReservesPlus d'info : #36
X-ALT-DESC;FMTTYPE=text/html:<!DOCTYPE HTML PUBLIC "-//W3C//DTD HTML 3.2//E
	N">\n<HTML>\n<HEAD>\n<TITLE></TITLE>\n</HEAD>\n<BODY>\n<h3>Highlighters FC 
	vs. Injured Reserves</h3>Plus d'info : <a href="https://www.golnetwork.com/
	game/v/139228/">#36</a>\n\n</BODY>\n</HTML>
STATUS:CONFIRMED
CLASS:PUBLIC
URL:https://www.golnetwork.com/game/v/139228/
X-MICROSOFT-CDO-BUSYSTATUS:BUSY
X-MICROSOFT-CDO-IMPORTANCE:1
END:VEVENT
BEGIN:VEVENT
UID:ge6j7@games.golnetwork.com
LOCATION:Align Healthcare Field (Newmarket SoccerCentre)
GEO:44.0379318;-79.4421489
CREATED:20190114T023044Z
DTSTART:20190306T010000Z
DTEND:20190306T015000Z
DTSTAMP:20260420T161816Z
SUMMARY:The Dirty Dozen (Welk this Way) vs. Purple
DESCRIPTION:Purple vs. The Dirty Dozen (Welk this Way)Plus d'info : #38
X-ALT-DESC;FMTTYPE=text/html:<!DOCTYPE HTML PUBLIC "-//W3C//DTD HTML 3.2//E
	N">\n<HTML>\n<HEAD>\n<TITLE></TITLE>\n</HEAD>\n<BODY>\n<h3>Purple vs. The D
	irty Dozen (Welk this Way)</h3>Plus d'info : <a href="https://www.golnetwor
	k.com/game/v/139229/">#38</a>\n\n</BODY>\n</HTML>
STATUS:CONFIRMED
CLASS:PUBLIC
URL:https://www.golnetwork.com/game/v/139229/
X-MICROSOFT-CDO-BUSYSTATUS:BUSY
X-MICROSOFT-CDO-IMPORTANCE:1
END:VEVENT
BEGIN:VEVENT
UID:ge6j9@games.golnetwork.com
LOCATION:Align Healthcare Field (Newmarket SoccerCentre)
GEO:44.0379318;-79.4421489
CREATED:20190114T023044Z
DTSTART:20190306T020000Z
DTEND:20190306T025000Z
DTSTAMP:20260420T161816Z
SUMMARY:Injured Reserves vs. Unreal Madrid
DESCRIPTION:Unreal Madrid vs. Injured ReservesPlus d'info : #40
X-ALT-DESC;FMTTYPE=text/html:<!DOCTYPE HTML PUBLIC "-//W3C//DTD HTML 3.2//E
	N">\n<HTML>\n<HEAD>\n<TITLE></TITLE>\n</HEAD>\n<BODY>\n<h3>Unreal Madrid vs
	. Injured Reserves</h3>Plus d'info : <a href="https://www.golnetwork.com/ga
	me/v/139230/">#40</a>\n\n</BODY>\n</HTML>
STATUS:CONFIRMED
CLASS:PUBLIC
URL:https://www.golnetwork.com/game/v/139230/
X-MICROSOFT-CDO-BUSYSTATUS:BUSY
X-MICROSOFT-CDO-IMPORTANCE:1
END:VEVENT
BEGIN:VEVENT
UID:ge6jb@games.golnetwork.com
LOCATION:Align Healthcare Field (Newmarket SoccerCentre)
GEO:44.0379318;-79.4421489
CREATED:20190114T023044Z
DTSTART:20190306T030000Z
DTEND:20190306T035000Z
DTSTAMP:20260420T161816Z
SUMMARY:Highlighters FC vs. Good Times
DESCRIPTION:Good Times vs. Highlighters FCPlus d'info : #42
X-ALT-DESC;FMTTYPE=text/html:<!DOCTYPE HTML PUBLIC "-//W3C//DTD HTML 3.2//E
	N">\n<HTML>\n<HEAD>\n<TITLE></TITLE>\n</HEAD>\n<BODY>\n<h3>Good Times vs. H
	ighlighters FC</h3>Plus d'info : <a href="https://www.golnetwork.com/game/v
	/139231/">#42</a>\n\n</BODY>\n</HTML>
STATUS:CONFIRMED
CLASS:PUBLIC
URL:https://www.golnetwork.com/game/v/139231/
X-MICROSOFT-CDO-BUSYSTATUS:BUSY
X-MICROSOFT-CDO-IMPORTANCE:1
END:VEVENT
BEGIN:VEVENT
UID:ge6ik@games.golnetwork.com
LOCATION:Align Healthcare Field (Newmarket SoccerCentre)
GEO:44.0379318;-79.4421489
CREATED:20190114T023044Z
DTSTART:20190313T000000Z
DTEND:20190313T005000Z
DTSTAMP:20260420T161816Z
SUMMARY:Unreal Madrid vs. Purple
DESCRIPTION:Purple vs. Unreal MadridPlus d'info : #44
X-ALT-DESC;FMTTYPE=text/html:<!DOCTYPE HTML PUBLIC "-//W3C//DTD HTML 3.2//E
	N">\n<HTML>\n<HEAD>\n<TITLE></TITLE>\n</HEAD>\n<BODY>\n<h3>Purple vs. Unrea
	l Madrid</h3>Plus d'info : <a href="https://www.golnetwork.com/game/v/13922
	2/">#44</a>\n\n</BODY>\n</HTML>
STATUS:CONFIRMED
CLASS:PUBLIC
URL:https://www.golnetwork.com/game/v/139222/
X-MICROSOFT-CDO-BUSYSTATUS:BUSY
X-MICROSOFT-CDO-IMPORTANCE:1
END:VEVENT
BEGIN:VEVENT
UID:ge6ii@games.golnetwork.com
LOCATION:Align Healthcare Field (Newmarket SoccerCentre)
GEO:44.0379318;-79.4421489
CREATED:20190114T023044Z
DTSTART:20190313T010000Z
DTEND:20190313T015000Z
DTSTAMP:20260420T161816Z
SUMMARY:Good Times vs. Injured Reserves
DESCRIPTION:Injured Reserves vs. Good TimesPlus d'info : #46
X-ALT-DESC;FMTTYPE=text/html:<!DOCTYPE HTML PUBLIC "-//W3C//DTD HTML 3.2//E
	N">\n<HTML>\n<HEAD>\n<TITLE></TITLE>\n</HEAD>\n<BODY>\n<h3>Injured Reserves
	 vs. Good Times</h3>Plus d'info : <a href="https://www.golnetwork.com/game/
	v/139221/">#46</a>\n\n</BODY>\n</HTML>
STATUS:CONFIRMED
CLASS:PUBLIC
URL:https://www.golnetwork.com/game/v/139221/
X-MICROSOFT-CDO-BUSYSTATUS:BUSY
X-MICROSOFT-CDO-IMPORTANCE:1
END:VEVENT
BEGIN:VEVENT
UID:ge6ig@games.golnetwork.com
LOCATION:Align Healthcare Field (Newmarket SoccerCentre)
GEO:44.0379318;-79.4421489
CREATED:20190114T023044Z
DTSTART:20190313T020000Z
DTEND:20190313T025000Z
DTSTAMP:20260420T161816Z
SUMMARY:The Dirty Dozen (Welk this Way) vs. Highlighters FC
DESCRIPTION:Highlighters FC vs. The Dirty Dozen (Welk this Way)Plus d'info 
	: #48
X-ALT-DESC;FMTTYPE=text/html:<!DOCTYPE HTML PUBLIC "-//W3C//DTD HTML 3.2//E
	N">\n<HTML>\n<HEAD>\n<TITLE></TITLE>\n</HEAD>\n<BODY>\n<h3>Highlighters FC 
	vs. The Dirty Dozen (Welk this Way)</h3>Plus d'info : <a href="https://www.
	golnetwork.com/game/v/139220/">#48</a>\n\n</BODY>\n</HTML>
STATUS:CONFIRMED
CLASS:PUBLIC
URL:https://www.golnetwork.com/game/v/139220/
X-MICROSOFT-CDO-BUSYSTATUS:BUSY
X-MICROSOFT-CDO-IMPORTANCE:1
END:VEVENT
BEGIN:VEVENT
UID:ge6jl@games.golnetwork.com
LOCATION:Soccer Nation Field (Newmarket SoccerCentre)
GEO:44.0379318;-79.4421489
CREATED:20190114T023044Z
DTSTART:20190320T000000Z
DTEND:20190320T005000Z
DTSTAMP:20260420T161816Z
SUMMARY:Good Times vs. Injured Reserves
DESCRIPTION:Injured Reserves vs. Good TimesPlus d'info : #49
X-ALT-DESC;FMTTYPE=text/html:<!DOCTYPE HTML PUBLIC "-//W3C//DTD HTML 3.2//E
	N">\n<HTML>\n<HEAD>\n<TITLE></TITLE>\n</HEAD>\n<BODY>\n<h3>Injured Reserves
	 vs. Good Times</h3>Plus d'info : <a href="https://www.golnetwork.com/game/
	v/139236/">#49</a>\n\n</BODY>\n</HTML>
STATUS:CONFIRMED
CLASS:PUBLIC
URL:https://www.golnetwork.com/game/v/139236/
X-MICROSOFT-CDO-BUSYSTATUS:BUSY
X-MICROSOFT-CDO-IMPORTANCE:1
END:VEVENT
BEGIN:VEVENT
UID:ge6jn@games.golnetwork.com
LOCATION:Align Healthcare Field (Newmarket SoccerCentre)
GEO:44.0379318;-79.4421489
CREATED:20190114T023044Z
DTSTART:20190320T000000Z
DTEND:20190320T005000Z
DTSTAMP:20260420T161816Z
SUMMARY:Unreal Madrid vs. Purple
DESCRIPTION:Purple vs. Unreal MadridPlus d'info : #50
X-ALT-DESC;FMTTYPE=text/html:<!DOCTYPE HTML PUBLIC "-//W3C//DTD HTML 3.2//E
	N">\n<HTML>\n<HEAD>\n<TITLE></TITLE>\n</HEAD>\n<BODY>\n<h3>Purple vs. Unrea
	l Madrid</h3>Plus d'info : <a href="https://www.golnetwork.com/game/v/13923
	7/">#50</a>\n\n</BODY>\n</HTML>
STATUS:CONFIRMED
CLASS:PUBLIC
URL:https://www.golnetwork.com/game/v/139237/
X-MICROSOFT-CDO-BUSYSTATUS:BUSY
X-MICROSOFT-CDO-IMPORTANCE:1
END:VEVENT
BEGIN:VEVENT
UID:ge6jj@games.golnetwork.com
LOCATION:Align Healthcare Field (Newmarket SoccerCentre)
GEO:44.0379318;-79.4421489
CREATED:20190114T023044Z
DTSTART:20190320T020000Z
DTEND:20190320T025000Z
DTSTAMP:20260420T161816Z
SUMMARY:The Dirty Dozen (Welk this Way) vs. Highlighters FC
DESCRIPTION:Highlighters FC vs. The Dirty Dozen (Welk this Way)Plus d'info 
	: #54
X-ALT-DESC;FMTTYPE=text/html:<!DOCTYPE HTML PUBLIC "-//W3C//DTD HTML 3.2//E
	N">\n<HTML>\n<HEAD>\n<TITLE></TITLE>\n</HEAD>\n<BODY>\n<h3>Highlighters FC 
	vs. The Dirty Dozen (Welk this Way)</h3>Plus d'info : <a href="https://www.
	golnetwork.com/game/v/139235/">#54</a>\n\n</BODY>\n</HTML>
STATUS:CONFIRMED
CLASS:PUBLIC
URL:https://www.golnetwork.com/game/v/139235/
X-MICROSOFT-CDO-BUSYSTATUS:BUSY
X-MICROSOFT-CDO-IMPORTANCE:1
END:VEVENT
BEGIN:VEVENT
UID:ge6k0@games.golnetwork.com
LOCATION:Align Healthcare Field (Newmarket SoccerCentre)
GEO:44.0379318;-79.4421489
CREATED:20190114T023044Z
DTSTART:20190327T000000Z
DTEND:20190327T005000Z
DTSTAMP:20260420T161816Z
SUMMARY:Unreal Madrid vs. Highlighters FC
DESCRIPTION:Highlighters FC vs. Unreal MadridPlus d'info : #56
X-ALT-DESC;FMTTYPE=text/html:<!DOCTYPE HTML PUBLIC "-//W3C//DTD HTML 3.2//E
	N">\n<HTML>\n<HEAD>\n<TITLE></TITLE>\n</HEAD>\n<BODY>\n<h3>Highlighters FC 
	vs. Unreal Madrid</h3>Plus d'info : <a href="https://www.golnetwork.com/gam
	e/v/139239/">#56</a>\n\n</BODY>\n</HTML>
STATUS:CONFIRMED
CLASS:PUBLIC
URL:https://www.golnetwork.com/game/v/139239/
X-MICROSOFT-CDO-BUSYSTATUS:BUSY
X-MICROSOFT-CDO-IMPORTANCE:1
END:VEVENT
BEGIN:VEVENT
UID:ge6jp@games.golnetwork.com
LOCATION:Align Healthcare Field (Newmarket SoccerCentre)
GEO:44.0379318;-79.4421489
CREATED:20190114T023044Z
DTSTART:20190327T010000Z
DTEND:20190327T015000Z
DTSTAMP:20260420T161816Z
SUMMARY:The Dirty Dozen (Welk this Way) vs. Good Times
DESCRIPTION:Good Times vs. The Dirty Dozen (Welk this Way)Plus d'info : #58
X-ALT-DESC;FMTTYPE=text/html:<!DOCTYPE HTML PUBLIC "-//W3C//DTD HTML 3.2//E
	N">\n<HTML>\n<HEAD>\n<TITLE></TITLE>\n</HEAD>\n<BODY>\n<h3>Good Times vs. T
	he Dirty Dozen (Welk this Way)</h3>Plus d'info : <a href="https://www.golne
	twork.com/game/v/139238/">#58</a>\n\n</BODY>\n</HTML>
STATUS:CONFIRMED
CLASS:PUBLIC
URL:https://www.golnetwork.com/game/v/139238/
X-MICROSOFT-CDO-BUSYSTATUS:BUSY
X-MICROSOFT-CDO-IMPORTANCE:1
END:VEVENT
BEGIN:VEVENT
UID:ge6k2@games.golnetwork.com
LOCATION:Align Healthcare Field (Newmarket SoccerCentre)
GEO:44.0379318;-79.4421489
CREATED:20190114T023044Z
DTSTART:20190327T020000Z
DTEND:20190327T025000Z
DTSTAMP:20260420T161816Z
SUMMARY:Purple vs. Injured Reserves
DESCRIPTION:Injured Reserves vs. PurplePlus d'info : #60
X-ALT-DESC;FMTTYPE=text/html:<!DOCTYPE HTML PUBLIC "-//W3C//DTD HTML 3.2//E
	N">\n<HTML>\n<HEAD>\n<TITLE></TITLE>\n</HEAD>\n<BODY>\n<h3>Injured Reserves
	 vs. Purple</h3>Plus d'info : <a href="https://www.golnetwork.com/game/v/13
	9240/">#60</a>\n\n</BODY>\n</HTML>
STATUS:CONFIRMED
CLASS:PUBLIC
URL:https://www.golnetwork.com/game/v/139240/
X-MICROSOFT-CDO-BUSYSTATUS:BUSY
X-MICROSOFT-CDO-IMPORTANCE:1
END:VEVENT
BEGIN:VEVENT
UID:ge6k8@games.golnetwork.com
LOCATION:Align Healthcare Field (Newmarket SoccerCentre)
GEO:44.0379318;-79.4421489
CREATED:20190114T023044Z
DTSTART:20190403T000000Z
DTEND:20190403T005000Z
DTSTAMP:20260420T161816Z
SUMMARY:Injured Reserves vs. Highlighters FC
DESCRIPTION:Highlighters FC vs. Injured ReservesPlus d'info : #62
X-ALT-DESC;FMTTYPE=text/html:<!DOCTYPE HTML PUBLIC "-//W3C//DTD HTML 3.2//E
	N">\n<HTML>\n<HEAD>\n<TITLE></TITLE>\n</HEAD>\n<BODY>\n<h3>Highlighters FC 
	vs. Injured Reserves</h3>Plus d'info : <a href="https://www.golnetwork.com/
	game/v/139243/">#62</a>\n\n</BODY>\n</HTML>
STATUS:CONFIRMED
CLASS:PUBLIC
URL:https://www.golnetwork.com/game/v/139243/
X-MICROSOFT-CDO-BUSYSTATUS:BUSY
X-MICROSOFT-CDO-IMPORTANCE:1
END:VEVENT
BEGIN:VEVENT
UID:ge6k6@games.golnetwork.com
LOCATION:Soccer Nation Field (Newmarket SoccerCentre)
GEO:44.0379318;-79.4421489
CREATED:20190114T023044Z
DTSTART:20190403T020000Z
DTEND:20190403T025000Z
DTSTAMP:20260420T161816Z
SUMMARY:Purple vs. Good Times
DESCRIPTION:Good Times vs. PurplePlus d'info : #65
X-ALT-DESC;FMTTYPE=text/html:<!DOCTYPE HTML PUBLIC "-//W3C//DTD HTML 3.2//E
	N">\n<HTML>\n<HEAD>\n<TITLE></TITLE>\n</HEAD>\n<BODY>\n<h3>Good Times vs. P
	urple</h3>Plus d'info : <a href="https://www.golnetwork.com/game/v/139242/"
	>#65</a>\n\n</BODY>\n</HTML>
STATUS:CONFIRMED
CLASS:PUBLIC
URL:https://www.golnetwork.com/game/v/139242/
X-MICROSOFT-CDO-BUSYSTATUS:BUSY
X-MICROSOFT-CDO-IMPORTANCE:1
END:VEVENT
BEGIN:VEVENT
UID:ge6k4@games.golnetwork.com
LOCATION:Align Healthcare Field (Newmarket SoccerCentre)
GEO:44.0379318;-79.4421489
CREATED:20190114T023044Z
DTSTART:20190403T020000Z
DTEND:20190403T025000Z
DTSTAMP:20260420T161816Z
SUMMARY:Unreal Madrid vs. The Dirty Dozen (Welk this Way)
DESCRIPTION:The Dirty Dozen (Welk this Way) vs. Unreal MadridPlus d'info : 
	#66
X-ALT-DESC;FMTTYPE=text/html:<!DOCTYPE HTML PUBLIC "-//W3C//DTD HTML 3.2//E
	N">\n<HTML>\n<HEAD>\n<TITLE></TITLE>\n</HEAD>\n<BODY>\n<h3>The Dirty Dozen 
	(Welk this Way) vs. Unreal Madrid</h3>Plus d'info : <a href="https://www.go
	lnetwork.com/game/v/139241/">#66</a>\n\n</BODY>\n</HTML>
STATUS:CONFIRMED
CLASS:PUBLIC
URL:https://www.golnetwork.com/game/v/139241/
X-MICROSOFT-CDO-BUSYSTATUS:BUSY
X-MICROSOFT-CDO-IMPORTANCE:1
END:VEVENT
BEGIN:VEVENT
UID:ge6jd@games.golnetwork.com
LOCATION:Align Healthcare Field (Newmarket SoccerCentre)
GEO:44.0379318;-79.4421489
CREATED:20190114T023044Z
DTSTART:20190410T000000Z
DTEND:20190410T005000Z
DTSTAMP:20260420T161816Z
SUMMARY:Injured Reserves vs. The Dirty Dozen (Welk this Way)
DESCRIPTION:The Dirty Dozen (Welk this Way) vs. Injured ReservesPlus d'info
	 : #68
X-ALT-DESC;FMTTYPE=text/html:<!DOCTYPE HTML PUBLIC "-//W3C//DTD HTML 3.2//E
	N">\n<HTML>\n<HEAD>\n<TITLE></TITLE>\n</HEAD>\n<BODY>\n<h3>The Dirty Dozen 
	(Welk this Way) vs. Injured Reserves</h3>Plus d'info : <a href="https://www
	.golnetwork.com/game/v/139232/">#68</a>\n\n</BODY>\n</HTML>
STATUS:CONFIRMED
CLASS:PUBLIC
URL:https://www.golnetwork.com/game/v/139232/
X-MICROSOFT-CDO-BUSYSTATUS:BUSY
X-MICROSOFT-CDO-IMPORTANCE:1
END:VEVENT
BEGIN:VEVENT
UID:ge6jf@games.golnetwork.com
LOCATION:Align Healthcare Field (Newmarket SoccerCentre)
GEO:44.0379318;-79.4421489
CREATED:20190114T023044Z
DTSTART:20190410T010000Z
DTEND:20190410T015000Z
DTSTAMP:20260420T161816Z
SUMMARY:Highlighters FC vs. Purple
DESCRIPTION:Purple vs. Highlighters FCPlus d'info : #70
X-ALT-DESC;FMTTYPE=text/html:<!DOCTYPE HTML PUBLIC "-//W3C//DTD HTML 3.2//E
	N">\n<HTML>\n<HEAD>\n<TITLE></TITLE>\n</HEAD>\n<BODY>\n<h3>Purple vs. Highl
	ighters FC</h3>Plus d'info : <a href="https://www.golnetwork.com/game/v/139
	233/">#70</a>\n\n</BODY>\n</HTML>
STATUS:CONFIRMED
CLASS:PUBLIC
URL:https://www.golnetwork.com/game/v/139233/
X-MICROSOFT-CDO-BUSYSTATUS:BUSY
X-MICROSOFT-CDO-IMPORTANCE:1
END:VEVENT
BEGIN:VEVENT
UID:ge6jh@games.golnetwork.com
LOCATION:Align Healthcare Field (Newmarket SoccerCentre)
GEO:44.0379318;-79.4421489
CREATED:20190114T023044Z
DTSTART:20190410T020000Z
DTEND:20190410T025000Z
DTSTAMP:20260420T161816Z
SUMMARY:Good Times vs. Unreal Madrid
DESCRIPTION:Unreal Madrid vs. Good TimesPlus d'info : #72
X-ALT-DESC;FMTTYPE=text/html:<!DOCTYPE HTML PUBLIC "-//W3C//DTD HTML 3.2//E
	N">\n<HTML>\n<HEAD>\n<TITLE></TITLE>\n</HEAD>\n<BODY>\n<h3>Unreal Madrid vs
	. Good Times</h3>Plus d'info : <a href="https://www.golnetwork.com/game/v/1
	39234/">#72</a>\n\n</BODY>\n</HTML>
STATUS:CONFIRMED
CLASS:PUBLIC
URL:https://www.golnetwork.com/game/v/139234/
X-MICROSOFT-CDO-BUSYSTATUS:BUSY
X-MICROSOFT-CDO-IMPORTANCE:1
END:VEVENT
END:VCALENDAR
