BEGIN:VCALENDAR
PRODID:-//gdesolutions.com//MV Framework 1.0.0.1607 Calendar//EN
VERSION:2.0
METHOD:PUBLISH
CALSCALE:GREGORIAN
BEGIN:VEVENT
UID:ge7kd@games.golnetwork.com
LOCATION:OZ Dome
GEO:45.2732698;-75.9592169
CREATED:20190124T045153Z
DTSTART:20190128T000000Z
DTEND:20190128T010000Z
DTSTAMP:20260421T061338Z
SUMMARY:The Straight Shooters vs. Netsix and Chill
DESCRIPTION:Netsix and Chill vs. The Straight ShootersPlus d'info : #66
X-ALT-DESC;FMTTYPE=text/html:<!DOCTYPE HTML PUBLIC "-//W3C//DTD HTML 3.2//E
	N">\n<HTML>\n<HEAD>\n<TITLE></TITLE>\n</HEAD>\n<BODY>\n<h3>Netsix and Chill
	 vs. The Straight Shooters</h3>Plus d'info : <a href="https://www.golnetwor
	k.com/game/v/139610/">#66</a>\n\n</BODY>\n</HTML>
STATUS:CONFIRMED
CLASS:PUBLIC
URL:https://www.golnetwork.com/game/v/139610/
X-MICROSOFT-CDO-BUSYSTATUS:BUSY
X-MICROSOFT-CDO-IMPORTANCE:1
END:VEVENT
BEGIN:VEVENT
UID:ge7kb@games.golnetwork.com
LOCATION:Bell Sensplex
GEO:45.2969975;-75.9090323
CREATED:20190124T045131Z
DTSTART:20190128T010000Z
DTEND:20190128T020000Z
DTSTAMP:20260421T061338Z
SUMMARY:Hairy Arsenal vs. Cugi FC
DESCRIPTION:Cugi FC vs. Hairy ArsenalPlus d'info : #67
X-ALT-DESC;FMTTYPE=text/html:<!DOCTYPE HTML PUBLIC "-//W3C//DTD HTML 3.2//E
	N">\n<HTML>\n<HEAD>\n<TITLE></TITLE>\n</HEAD>\n<BODY>\n<h3>Cugi FC vs. Hair
	y Arsenal</h3>Plus d'info : <a href="https://www.golnetwork.com/game/v/1396
	09/">#67</a>\n\n</BODY>\n</HTML>
STATUS:CONFIRMED
CLASS:PUBLIC
URL:https://www.golnetwork.com/game/v/139609/
X-MICROSOFT-CDO-BUSYSTATUS:BUSY
X-MICROSOFT-CDO-IMPORTANCE:1
END:VEVENT
BEGIN:VEVENT
UID:ge9ih@games.golnetwork.com
LOCATION:Bell Sensplex
GEO:45.2969975;-75.9090323
CREATED:20190206T204419Z
DTSTART:20190211T010000Z
DTEND:20190211T020000Z
DTSTAMP:20260421T061338Z
SUMMARY:The Straight Shooters vs. Cugi FC
DESCRIPTION:Cugi FC vs. The Straight ShootersPlus d'info : #75
X-ALT-DESC;FMTTYPE=text/html:<!DOCTYPE HTML PUBLIC "-//W3C//DTD HTML 3.2//E
	N">\n<HTML>\n<HEAD>\n<TITLE></TITLE>\n</HEAD>\n<BODY>\n<h3>Cugi FC vs. The 
	Straight Shooters</h3>Plus d'info : <a href="https://www.golnetwork.com/gam
	e/v/140314/">#75</a>\n\n</BODY>\n</HTML>
STATUS:CONFIRMED
CLASS:PUBLIC
URL:https://www.golnetwork.com/game/v/140314/
X-MICROSOFT-CDO-BUSYSTATUS:BUSY
X-MICROSOFT-CDO-IMPORTANCE:1
END:VEVENT
BEGIN:VEVENT
UID:ge9if@games.golnetwork.com
LOCATION:OZ Dome
GEO:45.2732698;-75.9592169
CREATED:20190206T204401Z
DTSTART:20190211T010000Z
DTEND:20190211T020000Z
DTSTAMP:20260421T061338Z
SUMMARY:Hairy Arsenal vs. Netsix and Chill
DESCRIPTION:Netsix and Chill vs. Hairy ArsenalPlus d'info : #76
X-ALT-DESC;FMTTYPE=text/html:<!DOCTYPE HTML PUBLIC "-//W3C//DTD HTML 3.2//E
	N">\n<HTML>\n<HEAD>\n<TITLE></TITLE>\n</HEAD>\n<BODY>\n<h3>Netsix and Chill
	 vs. Hairy Arsenal</h3>Plus d'info : <a href="https://www.golnetwork.com/ga
	me/v/140313/">#76</a>\n\n</BODY>\n</HTML>
STATUS:CONFIRMED
CLASS:PUBLIC
URL:https://www.golnetwork.com/game/v/140313/
X-MICROSOFT-CDO-BUSYSTATUS:BUSY
X-MICROSOFT-CDO-IMPORTANCE:1
END:VEVENT
END:VCALENDAR
