BEGIN:VCALENDAR
PRODID:-//gdesolutions.com//MV Framework 1.0.0.1607 Calendar//EN
VERSION:2.0
METHOD:PUBLISH
CALSCALE:GREGORIAN
BEGIN:VEVENT
UID:ged4h@games.golnetwork.com
LOCATION:St Patrick - Field 4
CREATED:20190325T155522Z
DTSTART:20190506T230000Z
DTEND:20190507T000000Z
DTSTAMP:20260420T113119Z
SUMMARY:Brick Squad vs. Net Six and Chill
DESCRIPTION:Net Six and Chill vs. Brick SquadPlus d'info : #452
X-ALT-DESC;FMTTYPE=text/html:<!DOCTYPE HTML PUBLIC "-//W3C//DTD HTML 3.2//E
	N">\n<HTML>\n<HEAD>\n<TITLE></TITLE>\n</HEAD>\n<BODY>\n<h3>Net Six and Chil
	l vs. Brick Squad</h3>Plus d'info : <a href="https://www.golnetwork.com/gam
	e/v/141583/">#452</a>\n\n</BODY>\n</HTML>
STATUS:CONFIRMED
CLASS:PUBLIC
URL:https://www.golnetwork.com/game/v/141583/
X-MICROSOFT-CDO-BUSYSTATUS:BUSY
X-MICROSOFT-CDO-IMPORTANCE:1
END:VEVENT
BEGIN:VEVENT
UID:ged4j@games.golnetwork.com
LOCATION:St Patrick - Field 4
CREATED:20190325T155522Z
DTSTART:20190507T000000Z
DTEND:20190507T010000Z
DTSTAMP:20260420T113119Z
SUMMARY:Relax Max vs. The Business
DESCRIPTION:The Business vs. Relax MaxPlus d'info : #453
X-ALT-DESC;FMTTYPE=text/html:<!DOCTYPE HTML PUBLIC "-//W3C//DTD HTML 3.2//E
	N">\n<HTML>\n<HEAD>\n<TITLE></TITLE>\n</HEAD>\n<BODY>\n<h3>The Business vs.
	 Relax Max</h3>Plus d'info : <a href="https://www.golnetwork.com/game/v/141
	584/">#453</a>\n\n</BODY>\n</HTML>
STATUS:CONFIRMED
CLASS:PUBLIC
URL:https://www.golnetwork.com/game/v/141584/
X-MICROSOFT-CDO-BUSYSTATUS:BUSY
X-MICROSOFT-CDO-IMPORTANCE:1
END:VEVENT
BEGIN:VEVENT
UID:ged4l@games.golnetwork.com
LOCATION:St Patrick - Field 4
CREATED:20190325T155522Z
DTSTART:20190514T000000Z
DTEND:20190514T010000Z
DTSTAMP:20260420T113119Z
SUMMARY:The Business vs. Net Six and Chill
DESCRIPTION:Net Six and Chill vs. The BusinessPlus d'info : #499
X-ALT-DESC;FMTTYPE=text/html:<!DOCTYPE HTML PUBLIC "-//W3C//DTD HTML 3.2//E
	N">\n<HTML>\n<HEAD>\n<TITLE></TITLE>\n</HEAD>\n<BODY>\n<h3>Net Six and Chil
	l vs. The Business</h3>Plus d'info : <a href="https://www.golnetwork.com/ga
	me/v/141585/">#499</a>\n\n</BODY>\n</HTML>
STATUS:CONFIRMED
CLASS:PUBLIC
URL:https://www.golnetwork.com/game/v/141585/
X-MICROSOFT-CDO-BUSYSTATUS:BUSY
X-MICROSOFT-CDO-IMPORTANCE:1
END:VEVENT
END:VCALENDAR
