BEGIN:VCALENDAR
PRODID:-//gdesolutions.com//MV Framework 1.0.0.1607 Calendar//EN
VERSION:2.0
METHOD:PUBLISH
CALSCALE:GREGORIAN
BEGIN:VEVENT
UID:gebn6@games.golnetwork.com
LOCATION:Central Tech - Field 2
GEO:43.6637272;-79.4087613
CREATED:20190312T164753Z
DTSTART:20190512T230000Z
DTEND:20190513T000000Z
DTSTAMP:20260420T112142Z
SUMMARY:Katie & Co vs. The Ball Kickers
DESCRIPTION:The Ball Kickers vs. Katie & CoPlus d'info : #478
X-ALT-DESC;FMTTYPE=text/html:<!DOCTYPE HTML PUBLIC "-//W3C//DTD HTML 3.2//E
	N">\n<HTML>\n<HEAD>\n<TITLE></TITLE>\n</HEAD>\n<BODY>\n<h3>The Ball Kickers
	 vs. Katie & Co</h3>Plus d'info : <a href="https://www.golnetwork.com/game/
	v/141105/">#478</a>\n\n</BODY>\n</HTML>
STATUS:CONFIRMED
CLASS:PUBLIC
URL:https://www.golnetwork.com/game/v/141105/
X-MICROSOFT-CDO-BUSYSTATUS:BUSY
X-MICROSOFT-CDO-IMPORTANCE:1
END:VEVENT
BEGIN:VEVENT
UID:gebn8@games.golnetwork.com
LOCATION:Central Tech - Field 2
GEO:43.6637272;-79.4087613
CREATED:20190312T164753Z
DTSTART:20190513T000000Z
DTEND:20190513T010000Z
DTSTAMP:20260420T112142Z
SUMMARY:Team Nice Friends vs. Mangoes FC
DESCRIPTION:Mangoes FC vs. Team Nice FriendsPlus d'info : #483
X-ALT-DESC;FMTTYPE=text/html:<!DOCTYPE HTML PUBLIC "-//W3C//DTD HTML 3.2//E
	N">\n<HTML>\n<HEAD>\n<TITLE></TITLE>\n</HEAD>\n<BODY>\n<h3>Mangoes FC vs. T
	eam Nice Friends</h3>Plus d'info : <a href="https://www.golnetwork.com/game
	/v/141106/">#483</a>\n\n</BODY>\n</HTML>
STATUS:CONFIRMED
CLASS:PUBLIC
URL:https://www.golnetwork.com/game/v/141106/
X-MICROSOFT-CDO-BUSYSTATUS:BUSY
X-MICROSOFT-CDO-IMPORTANCE:1
END:VEVENT
BEGIN:VEVENT
UID:gebna@games.golnetwork.com
LOCATION:Central Tech - Field 2
GEO:43.6637272;-79.4087613
CREATED:20190312T164753Z
DTSTART:20190526T230000Z
DTEND:20190527T000000Z
DTSTAMP:20260420T112142Z
SUMMARY:Mangoes FC vs. The Ball Kickers
DESCRIPTION:The Ball Kickers vs. Mangoes FCPlus d'info : #551
X-ALT-DESC;FMTTYPE=text/html:<!DOCTYPE HTML PUBLIC "-//W3C//DTD HTML 3.2//E
	N">\n<HTML>\n<HEAD>\n<TITLE></TITLE>\n</HEAD>\n<BODY>\n<h3>The Ball Kickers
	 vs. Mangoes FC</h3>Plus d'info : <a href="https://www.golnetwork.com/game/
	v/141107/">#551</a>\n\n</BODY>\n</HTML>
STATUS:CONFIRMED
CLASS:PUBLIC
URL:https://www.golnetwork.com/game/v/141107/
X-MICROSOFT-CDO-BUSYSTATUS:BUSY
X-MICROSOFT-CDO-IMPORTANCE:1
END:VEVENT
END:VCALENDAR
