BEGIN:VCALENDAR
PRODID:-//gdesolutions.com//MV Framework 1.0.0.1607 Calendar//EN
VERSION:2.0
METHOD:PUBLISH
CALSCALE:GREGORIAN
BEGIN:VEVENT
UID:gecoi@games.golnetwork.com
LOCATION:Central Tech - Field 2
GEO:43.6637272;-79.4087613
CREATED:20190320T180757Z
DTSTART:20190327T010000Z
DTEND:20190327T020000Z
DTSTAMP:20260420T145433Z
SUMMARY:Past my Bedtime FC vs. Smurfs
DESCRIPTION:Smurfs vs. Past my Bedtime FCPlus d'info : #109
X-ALT-DESC;FMTTYPE=text/html:<!DOCTYPE HTML PUBLIC "-//W3C//DTD HTML 3.2//E
	N">\n<HTML>\n<HEAD>\n<TITLE></TITLE>\n</HEAD>\n<BODY>\n<h3>Smurfs vs. Past 
	my Bedtime FC</h3>Plus d'info : <a href="https://www.golnetwork.com/game/v/
	141489/">#109</a>\n\n</BODY>\n</HTML>
STATUS:CONFIRMED
CLASS:PUBLIC
URL:https://www.golnetwork.com/game/v/141489/
X-MICROSOFT-CDO-BUSYSTATUS:BUSY
X-MICROSOFT-CDO-IMPORTANCE:1
END:VEVENT
BEGIN:VEVENT
UID:gecok@games.golnetwork.com
LOCATION:Central Tech - Field 2
GEO:43.6637272;-79.4087613
CREATED:20190320T180803Z
DTSTART:20190327T020000Z
DTEND:20190327T030000Z
DTSTAMP:20260420T145433Z
SUMMARY:Hooligans vs. Drinkalots FC
DESCRIPTION:Drinkalots FC vs. HooligansPlus d'info : #112
X-ALT-DESC;FMTTYPE=text/html:<!DOCTYPE HTML PUBLIC "-//W3C//DTD HTML 3.2//E
	N">\n<HTML>\n<HEAD>\n<TITLE></TITLE>\n</HEAD>\n<BODY>\n<h3>Drinkalots FC vs
	. Hooligans</h3>Plus d'info : <a href="https://www.golnetwork.com/game/v/14
	1490/">#112</a>\n\n</BODY>\n</HTML>
STATUS:CONFIRMED
CLASS:PUBLIC
URL:https://www.golnetwork.com/game/v/141490/
X-MICROSOFT-CDO-BUSYSTATUS:BUSY
X-MICROSOFT-CDO-IMPORTANCE:1
END:VEVENT
BEGIN:VEVENT
UID:gecom@games.golnetwork.com
LOCATION:Central Tech - Field 2
GEO:43.6637272;-79.4087613
CREATED:20190320T180811Z
DTSTART:20190327T030000Z
DTEND:20190327T040000Z
DTSTAMP:20260420T145433Z
SUMMARY:FC Picklebacks vs. Agave FC
DESCRIPTION:Agave FC vs. FC PicklebacksPlus d'info : #116
X-ALT-DESC;FMTTYPE=text/html:<!DOCTYPE HTML PUBLIC "-//W3C//DTD HTML 3.2//E
	N">\n<HTML>\n<HEAD>\n<TITLE></TITLE>\n</HEAD>\n<BODY>\n<h3>Agave FC vs. FC 
	Picklebacks</h3>Plus d'info : <a href="https://www.golnetwork.com/game/v/14
	1491/">#116</a>\n\n</BODY>\n</HTML>
STATUS:CONFIRMED
CLASS:PUBLIC
URL:https://www.golnetwork.com/game/v/141491/
X-MICROSOFT-CDO-BUSYSTATUS:BUSY
X-MICROSOFT-CDO-IMPORTANCE:1
END:VEVENT
BEGIN:VEVENT
UID:gecoo@games.golnetwork.com
LOCATION:Central Tech - Field 3
CREATED:20190320T180824Z
DTSTART:20190403T010000Z
DTEND:20190403T020000Z
DTSTAMP:20260420T145433Z
SUMMARY:Hooligans vs. FC Picklebacks
DESCRIPTION:FC Picklebacks vs. HooligansPlus d'info : #175
X-ALT-DESC;FMTTYPE=text/html:<!DOCTYPE HTML PUBLIC "-//W3C//DTD HTML 3.2//E
	N">\n<HTML>\n<HEAD>\n<TITLE></TITLE>\n</HEAD>\n<BODY>\n<h3>FC Picklebacks v
	s. Hooligans</h3>Plus d'info : <a href="https://www.golnetwork.com/game/v/1
	41492/">#175</a>\n\n</BODY>\n</HTML>
STATUS:CONFIRMED
CLASS:PUBLIC
URL:https://www.golnetwork.com/game/v/141492/
X-MICROSOFT-CDO-BUSYSTATUS:BUSY
X-MICROSOFT-CDO-IMPORTANCE:1
END:VEVENT
BEGIN:VEVENT
UID:gecoq@games.golnetwork.com
LOCATION:Central Tech - Field 3
CREATED:20190320T180832Z
DTSTART:20190403T020000Z
DTEND:20190403T030000Z
DTSTAMP:20260420T145433Z
SUMMARY:Past my Bedtime FC vs. Agave FC
DESCRIPTION:Agave FC vs. Past my Bedtime FCPlus d'info : #179
X-ALT-DESC;FMTTYPE=text/html:<!DOCTYPE HTML PUBLIC "-//W3C//DTD HTML 3.2//E
	N">\n<HTML>\n<HEAD>\n<TITLE></TITLE>\n</HEAD>\n<BODY>\n<h3>Agave FC vs. Pas
	t my Bedtime FC</h3>Plus d'info : <a href="https://www.golnetwork.com/game/
	v/141493/">#179</a>\n\n</BODY>\n</HTML>
STATUS:CONFIRMED
CLASS:PUBLIC
URL:https://www.golnetwork.com/game/v/141493/
X-MICROSOFT-CDO-BUSYSTATUS:BUSY
X-MICROSOFT-CDO-IMPORTANCE:1
END:VEVENT
BEGIN:VEVENT
UID:gecp1@games.golnetwork.com
LOCATION:Central Tech - Field 3
CREATED:20190320T180840Z
DTSTART:20190403T030000Z
DTEND:20190403T040000Z
DTSTAMP:20260420T145433Z
SUMMARY:Drinkalots FC vs. Smurfs
DESCRIPTION:Smurfs vs. Drinkalots FCPlus d'info : #181
X-ALT-DESC;FMTTYPE=text/html:<!DOCTYPE HTML PUBLIC "-//W3C//DTD HTML 3.2//E
	N">\n<HTML>\n<HEAD>\n<TITLE></TITLE>\n</HEAD>\n<BODY>\n<h3>Smurfs vs. Drink
	alots FC</h3>Plus d'info : <a href="https://www.golnetwork.com/game/v/14149
	4/">#181</a>\n\n</BODY>\n</HTML>
STATUS:CONFIRMED
CLASS:PUBLIC
URL:https://www.golnetwork.com/game/v/141494/
X-MICROSOFT-CDO-BUSYSTATUS:BUSY
X-MICROSOFT-CDO-IMPORTANCE:1
END:VEVENT
BEGIN:VEVENT
UID:gecp3@games.golnetwork.com
LOCATION:Central Tech - Field 2
GEO:43.6637272;-79.4087613
CREATED:20190320T180852Z
DTSTART:20190410T010000Z
DTEND:20190410T020000Z
DTSTAMP:20260420T145433Z
SUMMARY:Drinkalots FC vs. FC Picklebacks
DESCRIPTION:FC Picklebacks vs. Drinkalots FCPlus d'info : #232
X-ALT-DESC;FMTTYPE=text/html:<!DOCTYPE HTML PUBLIC "-//W3C//DTD HTML 3.2//E
	N">\n<HTML>\n<HEAD>\n<TITLE></TITLE>\n</HEAD>\n<BODY>\n<h3>FC Picklebacks v
	s. Drinkalots FC</h3>Plus d'info : <a href="https://www.golnetwork.com/game
	/v/141495/">#232</a>\n\n</BODY>\n</HTML>
STATUS:CONFIRMED
CLASS:PUBLIC
URL:https://www.golnetwork.com/game/v/141495/
X-MICROSOFT-CDO-BUSYSTATUS:BUSY
X-MICROSOFT-CDO-IMPORTANCE:1
END:VEVENT
BEGIN:VEVENT
UID:gecp5@games.golnetwork.com
LOCATION:Central Tech - Field 2
GEO:43.6637272;-79.4087613
CREATED:20190320T180900Z
DTSTART:20190410T020000Z
DTEND:20190410T030000Z
DTSTAMP:20260420T145433Z
SUMMARY:Agave FC vs. Smurfs
DESCRIPTION:Smurfs vs. Agave FCPlus d'info : #234
X-ALT-DESC;FMTTYPE=text/html:<!DOCTYPE HTML PUBLIC "-//W3C//DTD HTML 3.2//E
	N">\n<HTML>\n<HEAD>\n<TITLE></TITLE>\n</HEAD>\n<BODY>\n<h3>Smurfs vs. Agave
	 FC</h3>Plus d'info : <a href="https://www.golnetwork.com/game/v/141496/">#
	234</a>\n\n</BODY>\n</HTML>
STATUS:CONFIRMED
CLASS:PUBLIC
URL:https://www.golnetwork.com/game/v/141496/
X-MICROSOFT-CDO-BUSYSTATUS:BUSY
X-MICROSOFT-CDO-IMPORTANCE:1
END:VEVENT
BEGIN:VEVENT
UID:gecp7@games.golnetwork.com
LOCATION:Central Tech - Field 2
GEO:43.6637272;-79.4087613
CREATED:20190320T180908Z
DTSTART:20190410T030000Z
DTEND:20190410T040000Z
DTSTAMP:20260420T145433Z
SUMMARY:Hooligans vs. Past my Bedtime FC
DESCRIPTION:Past my Bedtime FC vs. HooligansPlus d'info : #238
X-ALT-DESC;FMTTYPE=text/html:<!DOCTYPE HTML PUBLIC "-//W3C//DTD HTML 3.2//E
	N">\n<HTML>\n<HEAD>\n<TITLE></TITLE>\n</HEAD>\n<BODY>\n<h3>Past my Bedtime 
	FC vs. Hooligans</h3>Plus d'info : <a href="https://www.golnetwork.com/game
	/v/141497/">#238</a>\n\n</BODY>\n</HTML>
STATUS:CONFIRMED
CLASS:PUBLIC
URL:https://www.golnetwork.com/game/v/141497/
X-MICROSOFT-CDO-BUSYSTATUS:BUSY
X-MICROSOFT-CDO-IMPORTANCE:1
END:VEVENT
BEGIN:VEVENT
UID:gecp9@games.golnetwork.com
LOCATION:Central Tech - Field 3
CREATED:20190320T180920Z
DTSTART:20190417T010000Z
DTEND:20190417T020000Z
DTSTAMP:20260420T145433Z
SUMMARY:Smurfs vs. Past my Bedtime FC
DESCRIPTION:Past my Bedtime FC vs. SmurfsPlus d'info : #298
X-ALT-DESC;FMTTYPE=text/html:<!DOCTYPE HTML PUBLIC "-//W3C//DTD HTML 3.2//E
	N">\n<HTML>\n<HEAD>\n<TITLE></TITLE>\n</HEAD>\n<BODY>\n<h3>Past my Bedtime 
	FC vs. Smurfs</h3>Plus d'info : <a href="https://www.golnetwork.com/game/v/
	141498/">#298</a>\n\n</BODY>\n</HTML>
STATUS:CONFIRMED
CLASS:PUBLIC
URL:https://www.golnetwork.com/game/v/141498/
X-MICROSOFT-CDO-BUSYSTATUS:BUSY
X-MICROSOFT-CDO-IMPORTANCE:1
END:VEVENT
BEGIN:VEVENT
UID:gecpb@games.golnetwork.com
LOCATION:Central Tech - Field 3
CREATED:20190320T180928Z
DTSTART:20190417T020000Z
DTEND:20190417T030000Z
DTSTAMP:20260420T145433Z
SUMMARY:Hooligans vs. Drinkalots FC
DESCRIPTION:Drinkalots FC vs. HooligansPlus d'info : #302
X-ALT-DESC;FMTTYPE=text/html:<!DOCTYPE HTML PUBLIC "-//W3C//DTD HTML 3.2//E
	N">\n<HTML>\n<HEAD>\n<TITLE></TITLE>\n</HEAD>\n<BODY>\n<h3>Drinkalots FC vs
	. Hooligans</h3>Plus d'info : <a href="https://www.golnetwork.com/game/v/14
	1499/">#302</a>\n\n</BODY>\n</HTML>
STATUS:CONFIRMED
CLASS:PUBLIC
URL:https://www.golnetwork.com/game/v/141499/
X-MICROSOFT-CDO-BUSYSTATUS:BUSY
X-MICROSOFT-CDO-IMPORTANCE:1
END:VEVENT
BEGIN:VEVENT
UID:gecpd@games.golnetwork.com
LOCATION:Central Tech - Field 3
CREATED:20190320T180935Z
DTSTART:20190417T030000Z
DTEND:20190417T040000Z
DTSTAMP:20260420T145433Z
SUMMARY:FC Picklebacks vs. Agave FC
DESCRIPTION:Agave FC vs. FC PicklebacksPlus d'info : #304
X-ALT-DESC;FMTTYPE=text/html:<!DOCTYPE HTML PUBLIC "-//W3C//DTD HTML 3.2//E
	N">\n<HTML>\n<HEAD>\n<TITLE></TITLE>\n</HEAD>\n<BODY>\n<h3>Agave FC vs. FC 
	Picklebacks</h3>Plus d'info : <a href="https://www.golnetwork.com/game/v/14
	1500/">#304</a>\n\n</BODY>\n</HTML>
STATUS:CONFIRMED
CLASS:PUBLIC
URL:https://www.golnetwork.com/game/v/141500/
X-MICROSOFT-CDO-BUSYSTATUS:BUSY
X-MICROSOFT-CDO-IMPORTANCE:1
END:VEVENT
BEGIN:VEVENT
UID:gecpf@games.golnetwork.com
LOCATION:Central Tech - Field 2
GEO:43.6637272;-79.4087613
CREATED:20190320T180944Z
DTSTART:20190424T010000Z
DTEND:20190424T020000Z
DTSTAMP:20260420T145433Z
SUMMARY:Agave FC vs. Drinkalots FC
DESCRIPTION:Drinkalots FC vs. Agave FCPlus d'info : #337
X-ALT-DESC;FMTTYPE=text/html:<!DOCTYPE HTML PUBLIC "-//W3C//DTD HTML 3.2//E
	N">\n<HTML>\n<HEAD>\n<TITLE></TITLE>\n</HEAD>\n<BODY>\n<h3>Drinkalots FC vs
	. Agave FC</h3>Plus d'info : <a href="https://www.golnetwork.com/game/v/141
	501/">#337</a>\n\n</BODY>\n</HTML>
STATUS:CONFIRMED
CLASS:PUBLIC
URL:https://www.golnetwork.com/game/v/141501/
X-MICROSOFT-CDO-BUSYSTATUS:BUSY
X-MICROSOFT-CDO-IMPORTANCE:1
END:VEVENT
BEGIN:VEVENT
UID:gecph@games.golnetwork.com
LOCATION:Central Tech - Field 2
GEO:43.6637272;-79.4087613
CREATED:20190320T180957Z
DTSTART:20190424T020000Z
DTEND:20190424T030000Z
DTSTAMP:20260420T145433Z
SUMMARY:FC Picklebacks vs. Past my Bedtime FC
DESCRIPTION:Past my Bedtime FC vs. FC PicklebacksPlus d'info : #340
X-ALT-DESC;FMTTYPE=text/html:<!DOCTYPE HTML PUBLIC "-//W3C//DTD HTML 3.2//E
	N">\n<HTML>\n<HEAD>\n<TITLE></TITLE>\n</HEAD>\n<BODY>\n<h3>Past my Bedtime 
	FC vs. FC Picklebacks</h3>Plus d'info : <a href="https://www.golnetwork.com
	/game/v/141502/">#340</a>\n\n</BODY>\n</HTML>
STATUS:CONFIRMED
CLASS:PUBLIC
URL:https://www.golnetwork.com/game/v/141502/
X-MICROSOFT-CDO-BUSYSTATUS:BUSY
X-MICROSOFT-CDO-IMPORTANCE:1
END:VEVENT
BEGIN:VEVENT
UID:gecpj@games.golnetwork.com
LOCATION:Central Tech - Field 2
GEO:43.6637272;-79.4087613
CREATED:20190320T181004Z
DTSTART:20190424T030000Z
DTEND:20190424T040000Z
DTSTAMP:20260420T145433Z
SUMMARY:Hooligans vs. Smurfs
DESCRIPTION:Smurfs vs. HooligansPlus d'info : #343
X-ALT-DESC;FMTTYPE=text/html:<!DOCTYPE HTML PUBLIC "-//W3C//DTD HTML 3.2//E
	N">\n<HTML>\n<HEAD>\n<TITLE></TITLE>\n</HEAD>\n<BODY>\n<h3>Smurfs vs. Hooli
	gans</h3>Plus d'info : <a href="https://www.golnetwork.com/game/v/141503/">
	#343</a>\n\n</BODY>\n</HTML>
STATUS:CONFIRMED
CLASS:PUBLIC
URL:https://www.golnetwork.com/game/v/141503/
X-MICROSOFT-CDO-BUSYSTATUS:BUSY
X-MICROSOFT-CDO-IMPORTANCE:1
END:VEVENT
BEGIN:VEVENT
UID:gecpl@games.golnetwork.com
LOCATION:Central Tech - Field 3
CREATED:20190320T181015Z
DTSTART:20190501T010000Z
DTEND:20190501T020000Z
DTSTAMP:20260420T145433Z
SUMMARY:Agave FC vs. Hooligans
DESCRIPTION:Hooligans vs. Agave FCPlus d'info : #398
X-ALT-DESC;FMTTYPE=text/html:<!DOCTYPE HTML PUBLIC "-//W3C//DTD HTML 3.2//E
	N">\n<HTML>\n<HEAD>\n<TITLE></TITLE>\n</HEAD>\n<BODY>\n<h3>Hooligans vs. Ag
	ave FC</h3>Plus d'info : <a href="https://www.golnetwork.com/game/v/141504/
	">#398</a>\n\n</BODY>\n</HTML>
STATUS:CONFIRMED
CLASS:PUBLIC
URL:https://www.golnetwork.com/game/v/141504/
X-MICROSOFT-CDO-BUSYSTATUS:BUSY
X-MICROSOFT-CDO-IMPORTANCE:1
END:VEVENT
BEGIN:VEVENT
UID:gecpn@games.golnetwork.com
LOCATION:Central Tech - Field 3
CREATED:20190320T181022Z
DTSTART:20190501T020000Z
DTEND:20190501T030000Z
DTSTAMP:20260420T145433Z
SUMMARY:Smurfs vs. FC Picklebacks
DESCRIPTION:FC Picklebacks vs. SmurfsPlus d'info : #401
X-ALT-DESC;FMTTYPE=text/html:<!DOCTYPE HTML PUBLIC "-//W3C//DTD HTML 3.2//E
	N">\n<HTML>\n<HEAD>\n<TITLE></TITLE>\n</HEAD>\n<BODY>\n<h3>FC Picklebacks v
	s. Smurfs</h3>Plus d'info : <a href="https://www.golnetwork.com/game/v/1415
	05/">#401</a>\n\n</BODY>\n</HTML>
STATUS:CONFIRMED
CLASS:PUBLIC
URL:https://www.golnetwork.com/game/v/141505/
X-MICROSOFT-CDO-BUSYSTATUS:BUSY
X-MICROSOFT-CDO-IMPORTANCE:1
END:VEVENT
BEGIN:VEVENT
UID:gecpp@games.golnetwork.com
LOCATION:Central Tech - Field 3
CREATED:20190320T181030Z
DTSTART:20190501T030000Z
DTEND:20190501T040000Z
DTSTAMP:20260420T145433Z
SUMMARY:Drinkalots FC vs. Past my Bedtime FC
DESCRIPTION:Past my Bedtime FC vs. Drinkalots FCPlus d'info : #404
X-ALT-DESC;FMTTYPE=text/html:<!DOCTYPE HTML PUBLIC "-//W3C//DTD HTML 3.2//E
	N">\n<HTML>\n<HEAD>\n<TITLE></TITLE>\n</HEAD>\n<BODY>\n<h3>Past my Bedtime 
	FC vs. Drinkalots FC</h3>Plus d'info : <a href="https://www.golnetwork.com/
	game/v/141506/">#404</a>\n\n</BODY>\n</HTML>
STATUS:CONFIRMED
CLASS:PUBLIC
URL:https://www.golnetwork.com/game/v/141506/
X-MICROSOFT-CDO-BUSYSTATUS:BUSY
X-MICROSOFT-CDO-IMPORTANCE:1
END:VEVENT
BEGIN:VEVENT
UID:gecq0@games.golnetwork.com
LOCATION:Central Tech - Field 3
CREATED:20190320T181051Z
DTSTART:20190515T000000Z
DTEND:20190515T010000Z
DTSTAMP:20260420T145433Z
SUMMARY:Hooligans vs. FC Picklebacks
DESCRIPTION:FC Picklebacks vs. HooligansPlus d'info : #509
X-ALT-DESC;FMTTYPE=text/html:<!DOCTYPE HTML PUBLIC "-//W3C//DTD HTML 3.2//E
	N">\n<HTML>\n<HEAD>\n<TITLE></TITLE>\n</HEAD>\n<BODY>\n<h3>FC Picklebacks v
	s. Hooligans</h3>Plus d'info : <a href="https://www.golnetwork.com/game/v/1
	41507/">#509</a>\n\n</BODY>\n</HTML>
STATUS:CONFIRMED
CLASS:PUBLIC
URL:https://www.golnetwork.com/game/v/141507/
X-MICROSOFT-CDO-BUSYSTATUS:BUSY
X-MICROSOFT-CDO-IMPORTANCE:1
END:VEVENT
BEGIN:VEVENT
UID:gecq2@games.golnetwork.com
LOCATION:Central Tech - Field 3
CREATED:20190320T181102Z
DTSTART:20190515T010000Z
DTEND:20190515T020000Z
DTSTAMP:20260420T145433Z
SUMMARY:Past my Bedtime FC vs. Agave FC
DESCRIPTION:Agave FC vs. Past my Bedtime FCPlus d'info : #511
X-ALT-DESC;FMTTYPE=text/html:<!DOCTYPE HTML PUBLIC "-//W3C//DTD HTML 3.2//E
	N">\n<HTML>\n<HEAD>\n<TITLE></TITLE>\n</HEAD>\n<BODY>\n<h3>Agave FC vs. Pas
	t my Bedtime FC</h3>Plus d'info : <a href="https://www.golnetwork.com/game/
	v/141508/">#511</a>\n\n</BODY>\n</HTML>
STATUS:CONFIRMED
CLASS:PUBLIC
URL:https://www.golnetwork.com/game/v/141508/
X-MICROSOFT-CDO-BUSYSTATUS:BUSY
X-MICROSOFT-CDO-IMPORTANCE:1
END:VEVENT
BEGIN:VEVENT
UID:gecq4@games.golnetwork.com
LOCATION:Central Tech - Field 3
CREATED:20190320T181116Z
DTSTART:20190515T020000Z
DTEND:20190515T030000Z
DTSTAMP:20260420T145433Z
SUMMARY:Smurfs vs. Drinkalots FC
DESCRIPTION:Drinkalots FC vs. SmurfsPlus d'info : #513
X-ALT-DESC;FMTTYPE=text/html:<!DOCTYPE HTML PUBLIC "-//W3C//DTD HTML 3.2//E
	N">\n<HTML>\n<HEAD>\n<TITLE></TITLE>\n</HEAD>\n<BODY>\n<h3>Drinkalots FC vs
	. Smurfs</h3>Plus d'info : <a href="https://www.golnetwork.com/game/v/14150
	9/">#513</a>\n\n</BODY>\n</HTML>
STATUS:CONFIRMED
CLASS:PUBLIC
URL:https://www.golnetwork.com/game/v/141509/
X-MICROSOFT-CDO-BUSYSTATUS:BUSY
X-MICROSOFT-CDO-IMPORTANCE:1
END:VEVENT
BEGIN:VEVENT
UID:gecq6@games.golnetwork.com
LOCATION:Central Tech - Field 3
CREATED:20190320T181126Z
DTSTART:20190522T020000Z
DTEND:20190522T030000Z
DTSTAMP:20260420T145433Z
SUMMARY:Smurfs vs. Hooligans
DESCRIPTION:Hooligans vs. SmurfsPlus d'info : #539
X-ALT-DESC;FMTTYPE=text/html:<!DOCTYPE HTML PUBLIC "-//W3C//DTD HTML 3.2//E
	N">\n<HTML>\n<HEAD>\n<TITLE></TITLE>\n</HEAD>\n<BODY>\n<h3>Hooligans vs. Sm
	urfs</h3>Plus d'info : <a href="https://www.golnetwork.com/game/v/141510/">
	#539</a>\n\n</BODY>\n</HTML>
STATUS:CONFIRMED
CLASS:PUBLIC
URL:https://www.golnetwork.com/game/v/141510/
X-MICROSOFT-CDO-BUSYSTATUS:BUSY
X-MICROSOFT-CDO-IMPORTANCE:1
END:VEVENT
BEGIN:VEVENT
UID:gecq8@games.golnetwork.com
LOCATION:Central Tech - Field 3
CREATED:20190320T181130Z
DTSTART:20190529T020000Z
DTEND:20190529T030000Z
DTSTAMP:20260420T145433Z
SUMMARY:Hooligans vs. Drinkalots FC
DESCRIPTION:Drinkalots FC vs. HooligansPlus d'info : #575
X-ALT-DESC;FMTTYPE=text/html:<!DOCTYPE HTML PUBLIC "-//W3C//DTD HTML 3.2//E
	N">\n<HTML>\n<HEAD>\n<TITLE></TITLE>\n</HEAD>\n<BODY>\n<h3>Drinkalots FC vs
	. Hooligans</h3>Plus d'info : <a href="https://www.golnetwork.com/game/v/14
	1511/">#575</a>\n\n</BODY>\n</HTML>
STATUS:CONFIRMED
CLASS:PUBLIC
URL:https://www.golnetwork.com/game/v/141511/
X-MICROSOFT-CDO-BUSYSTATUS:BUSY
X-MICROSOFT-CDO-IMPORTANCE:1
END:VEVENT
BEGIN:VEVENT
UID:gecqa@games.golnetwork.com
LOCATION:Central Tech - Field 4
CREATED:20190320T181134Z
DTSTART:20190529T020000Z
DTEND:20190529T030000Z
DTSTAMP:20260420T145433Z
SUMMARY:Smurfs vs. Past my Bedtime FC
DESCRIPTION:Past my Bedtime FC vs. SmurfsPlus d'info : #576
X-ALT-DESC;FMTTYPE=text/html:<!DOCTYPE HTML PUBLIC "-//W3C//DTD HTML 3.2//E
	N">\n<HTML>\n<HEAD>\n<TITLE></TITLE>\n</HEAD>\n<BODY>\n<h3>Past my Bedtime 
	FC vs. Smurfs</h3>Plus d'info : <a href="https://www.golnetwork.com/game/v/
	141512/">#576</a>\n\n</BODY>\n</HTML>
STATUS:CONFIRMED
CLASS:PUBLIC
URL:https://www.golnetwork.com/game/v/141512/
X-MICROSOFT-CDO-BUSYSTATUS:BUSY
X-MICROSOFT-CDO-IMPORTANCE:1
END:VEVENT
END:VCALENDAR
