BEGIN:VCALENDAR
PRODID:-//gdesolutions.com//MV Framework 1.0.0.1607 Calendar//EN
VERSION:2.0
METHOD:PUBLISH
CALSCALE:GREGORIAN
BEGIN:VEVENT
UID:gejje@games.golnetwork.com
LOCATION:Central Tech - Field 3
CREATED:20190520T134824Z
DTSTART:20190525T000000Z
DTEND:20190525T005000Z
DTSTAMP:20260420T151744Z
SUMMARY:CITY FC vs. Bakasi FC
DESCRIPTION:Bakasi FC vs. CITY FCPlus d'info : #84
X-ALT-DESC;FMTTYPE=text/html:<!DOCTYPE HTML PUBLIC "-//W3C//DTD HTML 3.2//E
	N">\n<HTML>\n<HEAD>\n<TITLE></TITLE>\n</HEAD>\n<BODY>\n<h3>Bakasi FC vs. CI
	TY FC</h3>Plus d'info : <a href="https://www.golnetwork.com/game/v/143971/"
	>#84</a>\n\n</BODY>\n</HTML>
STATUS:CONFIRMED
CLASS:PUBLIC
URL:https://www.golnetwork.com/game/v/143971/
X-MICROSOFT-CDO-BUSYSTATUS:BUSY
X-MICROSOFT-CDO-IMPORTANCE:1
END:VEVENT
BEGIN:VEVENT
UID:gejjg@games.golnetwork.com
LOCATION:Central Tech - Field 3
CREATED:20190520T134841Z
DTSTART:20190525T010000Z
DTEND:20190525T015000Z
DTSTAMP:20260420T151744Z
SUMMARY:atletic tuga vs. Gooner Squad
DESCRIPTION:Gooner Squad vs. atletic tugaPlus d'info : #86
X-ALT-DESC;FMTTYPE=text/html:<!DOCTYPE HTML PUBLIC "-//W3C//DTD HTML 3.2//E
	N">\n<HTML>\n<HEAD>\n<TITLE></TITLE>\n</HEAD>\n<BODY>\n<h3>Gooner Squad vs.
	 atletic tuga</h3>Plus d'info : <a href="https://www.golnetwork.com/game/v/
	143972/">#86</a>\n\n</BODY>\n</HTML>
STATUS:CONFIRMED
CLASS:PUBLIC
URL:https://www.golnetwork.com/game/v/143972/
X-MICROSOFT-CDO-BUSYSTATUS:BUSY
X-MICROSOFT-CDO-IMPORTANCE:1
END:VEVENT
BEGIN:VEVENT
UID:gejji@games.golnetwork.com
LOCATION:Central Tech - Field 3
CREATED:20190520T134850Z
DTSTART:20190525T020000Z
DTEND:20190525T025000Z
DTSTAMP:20260420T151744Z
SUMMARY:We'll Get Em Next Week vs. Reis Arriaga
DESCRIPTION:Reis Arriaga vs. We'll Get Em Next WeekPlus d'info : #89
X-ALT-DESC;FMTTYPE=text/html:<!DOCTYPE HTML PUBLIC "-//W3C//DTD HTML 3.2//E
	N">\n<HTML>\n<HEAD>\n<TITLE></TITLE>\n</HEAD>\n<BODY>\n<h3>Reis Arriaga vs.
	 We'll Get Em Next Week</h3>Plus d'info : <a href="https://www.golnetwork.c
	om/game/v/143973/">#89</a>\n\n</BODY>\n</HTML>
STATUS:CONFIRMED
CLASS:PUBLIC
URL:https://www.golnetwork.com/game/v/143973/
X-MICROSOFT-CDO-BUSYSTATUS:BUSY
X-MICROSOFT-CDO-IMPORTANCE:1
END:VEVENT
BEGIN:VEVENT
UID:gejjk@games.golnetwork.com
LOCATION:Central Tech - Field 3
CREATED:20190520T134859Z
DTSTART:20190601T000000Z
DTEND:20190601T005000Z
DTSTAMP:20260420T151744Z
SUMMARY:atletic tuga vs. We'll Get Em Next Week
DESCRIPTION:We'll Get Em Next Week vs. atletic tugaPlus d'info : #138
X-ALT-DESC;FMTTYPE=text/html:<!DOCTYPE HTML PUBLIC "-//W3C//DTD HTML 3.2//E
	N">\n<HTML>\n<HEAD>\n<TITLE></TITLE>\n</HEAD>\n<BODY>\n<h3>We'll Get Em Nex
	t Week vs. atletic tuga</h3>Plus d'info : <a href="https://www.golnetwork.c
	om/game/v/143974/">#138</a>\n\n</BODY>\n</HTML>
STATUS:CONFIRMED
CLASS:PUBLIC
URL:https://www.golnetwork.com/game/v/143974/
X-MICROSOFT-CDO-BUSYSTATUS:BUSY
X-MICROSOFT-CDO-IMPORTANCE:1
END:VEVENT
BEGIN:VEVENT
UID:gejjm@games.golnetwork.com
LOCATION:Central Tech - Field 3
CREATED:20190520T134906Z
DTSTART:20190601T010000Z
DTEND:20190601T015000Z
DTSTAMP:20260420T151744Z
SUMMARY:CITY FC vs. Reis Arriaga
DESCRIPTION:Reis Arriaga vs. CITY FCPlus d'info : #141
X-ALT-DESC;FMTTYPE=text/html:<!DOCTYPE HTML PUBLIC "-//W3C//DTD HTML 3.2//E
	N">\n<HTML>\n<HEAD>\n<TITLE></TITLE>\n</HEAD>\n<BODY>\n<h3>Reis Arriaga vs.
	 CITY FC</h3>Plus d'info : <a href="https://www.golnetwork.com/game/v/14397
	5/">#141</a>\n\n</BODY>\n</HTML>
STATUS:CONFIRMED
CLASS:PUBLIC
URL:https://www.golnetwork.com/game/v/143975/
X-MICROSOFT-CDO-BUSYSTATUS:BUSY
X-MICROSOFT-CDO-IMPORTANCE:1
END:VEVENT
BEGIN:VEVENT
UID:gejjo@games.golnetwork.com
LOCATION:Central Tech - Field 3
CREATED:20190520T134918Z
DTSTART:20190601T020000Z
DTEND:20190601T025000Z
DTSTAMP:20260420T151744Z
SUMMARY:Gooner Squad vs. Bakasi FC
DESCRIPTION:Bakasi FC vs. Gooner SquadPlus d'info : #144
X-ALT-DESC;FMTTYPE=text/html:<!DOCTYPE HTML PUBLIC "-//W3C//DTD HTML 3.2//E
	N">\n<HTML>\n<HEAD>\n<TITLE></TITLE>\n</HEAD>\n<BODY>\n<h3>Bakasi FC vs. Go
	oner Squad</h3>Plus d'info : <a href="https://www.golnetwork.com/game/v/143
	976/">#144</a>\n\n</BODY>\n</HTML>
STATUS:CONFIRMED
CLASS:PUBLIC
URL:https://www.golnetwork.com/game/v/143976/
X-MICROSOFT-CDO-BUSYSTATUS:BUSY
X-MICROSOFT-CDO-IMPORTANCE:1
END:VEVENT
BEGIN:VEVENT
UID:gejjq@games.golnetwork.com
LOCATION:Central Tech - Field 3
CREATED:20190520T135202Z
DTSTART:20190608T000000Z
DTEND:20190608T005000Z
DTSTAMP:20260420T151744Z
SUMMARY:Gooner Squad vs. We'll Get Em Next Week
DESCRIPTION:We'll Get Em Next Week vs. Gooner SquadPlus d'info : #197
X-ALT-DESC;FMTTYPE=text/html:<!DOCTYPE HTML PUBLIC "-//W3C//DTD HTML 3.2//E
	N">\n<HTML>\n<HEAD>\n<TITLE></TITLE>\n</HEAD>\n<BODY>\n<h3>We'll Get Em Nex
	t Week vs. Gooner Squad</h3>Plus d'info : <a href="https://www.golnetwork.c
	om/game/v/143977/">#197</a>\n\n</BODY>\n</HTML>
STATUS:CONFIRMED
CLASS:PUBLIC
URL:https://www.golnetwork.com/game/v/143977/
X-MICROSOFT-CDO-BUSYSTATUS:BUSY
X-MICROSOFT-CDO-IMPORTANCE:1
END:VEVENT
BEGIN:VEVENT
UID:gejk1@games.golnetwork.com
LOCATION:Central Tech - Field 3
CREATED:20190520T135209Z
DTSTART:20190608T010000Z
DTEND:20190608T015000Z
DTSTAMP:20260420T151744Z
SUMMARY:Reis Arriaga vs. Bakasi FC
DESCRIPTION:Bakasi FC vs. Reis ArriagaPlus d'info : #201
X-ALT-DESC;FMTTYPE=text/html:<!DOCTYPE HTML PUBLIC "-//W3C//DTD HTML 3.2//E
	N">\n<HTML>\n<HEAD>\n<TITLE></TITLE>\n</HEAD>\n<BODY>\n<h3>Bakasi FC vs. Re
	is Arriaga</h3>Plus d'info : <a href="https://www.golnetwork.com/game/v/143
	978/">#201</a>\n\n</BODY>\n</HTML>
STATUS:CONFIRMED
CLASS:PUBLIC
URL:https://www.golnetwork.com/game/v/143978/
X-MICROSOFT-CDO-BUSYSTATUS:BUSY
X-MICROSOFT-CDO-IMPORTANCE:1
END:VEVENT
BEGIN:VEVENT
UID:gejk3@games.golnetwork.com
LOCATION:Central Tech - Field 3
CREATED:20190520T135217Z
DTSTART:20190608T020000Z
DTEND:20190608T025000Z
DTSTAMP:20260420T151744Z
SUMMARY:CITY FC vs. atletic tuga
DESCRIPTION:atletic tuga vs. CITY FCPlus d'info : #204
X-ALT-DESC;FMTTYPE=text/html:<!DOCTYPE HTML PUBLIC "-//W3C//DTD HTML 3.2//E
	N">\n<HTML>\n<HEAD>\n<TITLE></TITLE>\n</HEAD>\n<BODY>\n<h3>atletic tuga vs.
	 CITY FC</h3>Plus d'info : <a href="https://www.golnetwork.com/game/v/14397
	9/">#204</a>\n\n</BODY>\n</HTML>
STATUS:CONFIRMED
CLASS:PUBLIC
URL:https://www.golnetwork.com/game/v/143979/
X-MICROSOFT-CDO-BUSYSTATUS:BUSY
X-MICROSOFT-CDO-IMPORTANCE:1
END:VEVENT
BEGIN:VEVENT
UID:gejk5@games.golnetwork.com
LOCATION:Central Tech - Field 2
GEO:43.6637272;-79.4087613
CREATED:20190520T135226Z
DTSTART:20190615T000000Z
DTEND:20190615T005000Z
DTSTAMP:20260420T151744Z
SUMMARY:Reis Arriaga vs. atletic tuga
DESCRIPTION:atletic tuga vs. Reis ArriagaPlus d'info : #259
X-ALT-DESC;FMTTYPE=text/html:<!DOCTYPE HTML PUBLIC "-//W3C//DTD HTML 3.2//E
	N">\n<HTML>\n<HEAD>\n<TITLE></TITLE>\n</HEAD>\n<BODY>\n<h3>atletic tuga vs.
	 Reis Arriaga</h3>Plus d'info : <a href="https://www.golnetwork.com/game/v/
	143980/">#259</a>\n\n</BODY>\n</HTML>
STATUS:CONFIRMED
CLASS:PUBLIC
URL:https://www.golnetwork.com/game/v/143980/
X-MICROSOFT-CDO-BUSYSTATUS:BUSY
X-MICROSOFT-CDO-IMPORTANCE:1
END:VEVENT
BEGIN:VEVENT
UID:gejk7@games.golnetwork.com
LOCATION:Central Tech - Field 2
GEO:43.6637272;-79.4087613
CREATED:20190520T135233Z
DTSTART:20190615T010000Z
DTEND:20190615T015000Z
DTSTAMP:20260420T151744Z
SUMMARY:Bakasi FC vs. We'll Get Em Next Week
DESCRIPTION:We'll Get Em Next Week vs. Bakasi FCPlus d'info : #262
X-ALT-DESC;FMTTYPE=text/html:<!DOCTYPE HTML PUBLIC "-//W3C//DTD HTML 3.2//E
	N">\n<HTML>\n<HEAD>\n<TITLE></TITLE>\n</HEAD>\n<BODY>\n<h3>We'll Get Em Nex
	t Week vs. Bakasi FC</h3>Plus d'info : <a href="https://www.golnetwork.com/
	game/v/143981/">#262</a>\n\n</BODY>\n</HTML>
STATUS:CONFIRMED
CLASS:PUBLIC
URL:https://www.golnetwork.com/game/v/143981/
X-MICROSOFT-CDO-BUSYSTATUS:BUSY
X-MICROSOFT-CDO-IMPORTANCE:1
END:VEVENT
BEGIN:VEVENT
UID:gejk9@games.golnetwork.com
LOCATION:Central Tech - Field 2
GEO:43.6637272;-79.4087613
CREATED:20190520T135240Z
DTSTART:20190615T020000Z
DTEND:20190615T025000Z
DTSTAMP:20260420T151744Z
SUMMARY:Gooner Squad vs. CITY FC
DESCRIPTION:CITY FC vs. Gooner SquadPlus d'info : #265
X-ALT-DESC;FMTTYPE=text/html:<!DOCTYPE HTML PUBLIC "-//W3C//DTD HTML 3.2//E
	N">\n<HTML>\n<HEAD>\n<TITLE></TITLE>\n</HEAD>\n<BODY>\n<h3>CITY FC vs. Goon
	er Squad</h3>Plus d'info : <a href="https://www.golnetwork.com/game/v/14398
	2/">#265</a>\n\n</BODY>\n</HTML>
STATUS:CONFIRMED
CLASS:PUBLIC
URL:https://www.golnetwork.com/game/v/143982/
X-MICROSOFT-CDO-BUSYSTATUS:BUSY
X-MICROSOFT-CDO-IMPORTANCE:1
END:VEVENT
BEGIN:VEVENT
UID:gejkb@games.golnetwork.com
LOCATION:Central Tech - Field 2
GEO:43.6637272;-79.4087613
CREATED:20190520T135249Z
DTSTART:20190622T000000Z
DTEND:20190622T005000Z
DTSTAMP:20260420T151744Z
SUMMARY:Reis Arriaga vs. Gooner Squad
DESCRIPTION:Gooner Squad vs. Reis ArriagaPlus d'info : #320
X-ALT-DESC;FMTTYPE=text/html:<!DOCTYPE HTML PUBLIC "-//W3C//DTD HTML 3.2//E
	N">\n<HTML>\n<HEAD>\n<TITLE></TITLE>\n</HEAD>\n<BODY>\n<h3>Gooner Squad vs.
	 Reis Arriaga</h3>Plus d'info : <a href="https://www.golnetwork.com/game/v/
	143983/">#320</a>\n\n</BODY>\n</HTML>
STATUS:CONFIRMED
CLASS:PUBLIC
URL:https://www.golnetwork.com/game/v/143983/
X-MICROSOFT-CDO-BUSYSTATUS:BUSY
X-MICROSOFT-CDO-IMPORTANCE:1
END:VEVENT
BEGIN:VEVENT
UID:gejkd@games.golnetwork.com
LOCATION:Central Tech - Field 2
GEO:43.6637272;-79.4087613
CREATED:20190520T135255Z
DTSTART:20190622T010000Z
DTEND:20190622T015000Z
DTSTAMP:20260420T151744Z
SUMMARY:We'll Get Em Next Week vs. CITY FC
DESCRIPTION:CITY FC vs. We'll Get Em Next WeekPlus d'info : #322
X-ALT-DESC;FMTTYPE=text/html:<!DOCTYPE HTML PUBLIC "-//W3C//DTD HTML 3.2//E
	N">\n<HTML>\n<HEAD>\n<TITLE></TITLE>\n</HEAD>\n<BODY>\n<h3>CITY FC vs. We'l
	l Get Em Next Week</h3>Plus d'info : <a href="https://www.golnetwork.com/ga
	me/v/143984/">#322</a>\n\n</BODY>\n</HTML>
STATUS:CONFIRMED
CLASS:PUBLIC
URL:https://www.golnetwork.com/game/v/143984/
X-MICROSOFT-CDO-BUSYSTATUS:BUSY
X-MICROSOFT-CDO-IMPORTANCE:1
END:VEVENT
BEGIN:VEVENT
UID:gejkf@games.golnetwork.com
LOCATION:Central Tech - Field 2
GEO:43.6637272;-79.4087613
CREATED:20190520T135300Z
DTSTART:20190622T020000Z
DTEND:20190622T025000Z
DTSTAMP:20260420T151744Z
SUMMARY:atletic tuga vs. Bakasi FC
DESCRIPTION:Bakasi FC vs. atletic tugaPlus d'info : #324
X-ALT-DESC;FMTTYPE=text/html:<!DOCTYPE HTML PUBLIC "-//W3C//DTD HTML 3.2//E
	N">\n<HTML>\n<HEAD>\n<TITLE></TITLE>\n</HEAD>\n<BODY>\n<h3>Bakasi FC vs. at
	letic tuga</h3>Plus d'info : <a href="https://www.golnetwork.com/game/v/143
	985/">#324</a>\n\n</BODY>\n</HTML>
STATUS:CONFIRMED
CLASS:PUBLIC
URL:https://www.golnetwork.com/game/v/143985/
X-MICROSOFT-CDO-BUSYSTATUS:BUSY
X-MICROSOFT-CDO-IMPORTANCE:1
END:VEVENT
BEGIN:VEVENT
UID:gejkj@games.golnetwork.com
LOCATION:Central Tech - Field 2
GEO:43.6637272;-79.4087613
CREATED:20190520T135317Z
DTSTART:20190629T000000Z
DTEND:20190629T005000Z
DTSTAMP:20260420T151744Z
SUMMARY:atletic tuga vs. Gooner Squad
DESCRIPTION:Gooner Squad vs. atletic tugaPlus d'info : #371
X-ALT-DESC;FMTTYPE=text/html:<!DOCTYPE HTML PUBLIC "-//W3C//DTD HTML 3.2//E
	N">\n<HTML>\n<HEAD>\n<TITLE></TITLE>\n</HEAD>\n<BODY>\n<h3>Gooner Squad vs.
	 atletic tuga</h3>Plus d'info : <a href="https://www.golnetwork.com/game/v/
	143987/">#371</a>\n\n</BODY>\n</HTML>
STATUS:CONFIRMED
CLASS:PUBLIC
URL:https://www.golnetwork.com/game/v/143987/
X-MICROSOFT-CDO-BUSYSTATUS:BUSY
X-MICROSOFT-CDO-IMPORTANCE:1
END:VEVENT
BEGIN:VEVENT
UID:gejkh@games.golnetwork.com
LOCATION:Central Tech - Field 2
GEO:43.6637272;-79.4087613
CREATED:20190520T135308Z
DTSTART:20190629T010000Z
DTEND:20190629T015000Z
DTSTAMP:20260420T151744Z
SUMMARY:CITY FC vs. Bakasi FC
DESCRIPTION:Bakasi FC vs. CITY FCPlus d'info : #373
X-ALT-DESC;FMTTYPE=text/html:<!DOCTYPE HTML PUBLIC "-//W3C//DTD HTML 3.2//E
	N">\n<HTML>\n<HEAD>\n<TITLE></TITLE>\n</HEAD>\n<BODY>\n<h3>Bakasi FC vs. CI
	TY FC</h3>Plus d'info : <a href="https://www.golnetwork.com/game/v/143986/"
	>#373</a>\n\n</BODY>\n</HTML>
STATUS:CONFIRMED
CLASS:PUBLIC
URL:https://www.golnetwork.com/game/v/143986/
X-MICROSOFT-CDO-BUSYSTATUS:BUSY
X-MICROSOFT-CDO-IMPORTANCE:1
END:VEVENT
BEGIN:VEVENT
UID:gejkl@games.golnetwork.com
LOCATION:Central Tech - Field 2
GEO:43.6637272;-79.4087613
CREATED:20190520T135324Z
DTSTART:20190629T020000Z
DTEND:20190629T025000Z
DTSTAMP:20260420T151744Z
SUMMARY:We'll Get Em Next Week vs. Reis Arriaga
DESCRIPTION:Reis Arriaga vs. We'll Get Em Next WeekPlus d'info : #375
X-ALT-DESC;FMTTYPE=text/html:<!DOCTYPE HTML PUBLIC "-//W3C//DTD HTML 3.2//E
	N">\n<HTML>\n<HEAD>\n<TITLE></TITLE>\n</HEAD>\n<BODY>\n<h3>Reis Arriaga vs.
	 We'll Get Em Next Week</h3>Plus d'info : <a href="https://www.golnetwork.c
	om/game/v/143988/">#375</a>\n\n</BODY>\n</HTML>
STATUS:CONFIRMED
CLASS:PUBLIC
URL:https://www.golnetwork.com/game/v/143988/
X-MICROSOFT-CDO-BUSYSTATUS:BUSY
X-MICROSOFT-CDO-IMPORTANCE:1
END:VEVENT
BEGIN:VEVENT
UID:gejkn@games.golnetwork.com
LOCATION:Central Tech - Field 2
GEO:43.6637272;-79.4087613
CREATED:20190520T135334Z
DTSTART:20190706T000000Z
DTEND:20190706T005000Z
DTSTAMP:20260420T151744Z
SUMMARY:atletic tuga vs. We'll Get Em Next Week
DESCRIPTION:We'll Get Em Next Week vs. atletic tugaPlus d'info : #392
X-ALT-DESC;FMTTYPE=text/html:<!DOCTYPE HTML PUBLIC "-//W3C//DTD HTML 3.2//E
	N">\n<HTML>\n<HEAD>\n<TITLE></TITLE>\n</HEAD>\n<BODY>\n<h3>We'll Get Em Nex
	t Week vs. atletic tuga</h3>Plus d'info : <a href="https://www.golnetwork.c
	om/game/v/143989/">#392</a>\n\n</BODY>\n</HTML>
STATUS:CONFIRMED
CLASS:PUBLIC
URL:https://www.golnetwork.com/game/v/143989/
X-MICROSOFT-CDO-BUSYSTATUS:BUSY
X-MICROSOFT-CDO-IMPORTANCE:1
END:VEVENT
BEGIN:VEVENT
UID:gejkp@games.golnetwork.com
LOCATION:Central Tech - Field 2
GEO:43.6637272;-79.4087613
CREATED:20190520T135345Z
DTSTART:20190706T010000Z
DTEND:20190706T015000Z
DTSTAMP:20260420T151744Z
SUMMARY:CITY FC vs. Reis Arriaga
DESCRIPTION:Reis Arriaga vs. CITY FCPlus d'info : #395
X-ALT-DESC;FMTTYPE=text/html:<!DOCTYPE HTML PUBLIC "-//W3C//DTD HTML 3.2//E
	N">\n<HTML>\n<HEAD>\n<TITLE></TITLE>\n</HEAD>\n<BODY>\n<h3>Reis Arriaga vs.
	 CITY FC</h3>Plus d'info : <a href="https://www.golnetwork.com/game/v/14399
	0/">#395</a>\n\n</BODY>\n</HTML>
STATUS:CONFIRMED
CLASS:PUBLIC
URL:https://www.golnetwork.com/game/v/143990/
X-MICROSOFT-CDO-BUSYSTATUS:BUSY
X-MICROSOFT-CDO-IMPORTANCE:1
END:VEVENT
BEGIN:VEVENT
UID:gejl0@games.golnetwork.com
LOCATION:Central Tech - Field 2
GEO:43.6637272;-79.4087613
CREATED:20190520T135351Z
DTSTART:20190706T020000Z
DTEND:20190706T025000Z
DTSTAMP:20260420T151744Z
SUMMARY:Gooner Squad vs. Bakasi FC
DESCRIPTION:Bakasi FC vs. Gooner SquadPlus d'info : #399
X-ALT-DESC;FMTTYPE=text/html:<!DOCTYPE HTML PUBLIC "-//W3C//DTD HTML 3.2//E
	N">\n<HTML>\n<HEAD>\n<TITLE></TITLE>\n</HEAD>\n<BODY>\n<h3>Bakasi FC vs. Go
	oner Squad</h3>Plus d'info : <a href="https://www.golnetwork.com/game/v/143
	991/">#399</a>\n\n</BODY>\n</HTML>
STATUS:CONFIRMED
CLASS:PUBLIC
URL:https://www.golnetwork.com/game/v/143991/
X-MICROSOFT-CDO-BUSYSTATUS:BUSY
X-MICROSOFT-CDO-IMPORTANCE:1
END:VEVENT
BEGIN:VEVENT
UID:gejl2@games.golnetwork.com
LOCATION:Central Tech - Field 2
GEO:43.6637272;-79.4087613
CREATED:20190520T135356Z
DTSTART:20190713T020000Z
DTEND:20190713T025000Z
DTSTAMP:20260420T151744Z
SUMMARY:Bakasi FC vs. Reis Arriaga
DESCRIPTION:Reis Arriaga vs. Bakasi FCPlus d'info : #442
X-ALT-DESC;FMTTYPE=text/html:<!DOCTYPE HTML PUBLIC "-//W3C//DTD HTML 3.2//E
	N">\n<HTML>\n<HEAD>\n<TITLE></TITLE>\n</HEAD>\n<BODY>\n<h3>Reis Arriaga vs.
	 Bakasi FC</h3>Plus d'info : <a href="https://www.golnetwork.com/game/v/143
	992/">#442</a>\n\n</BODY>\n</HTML>
STATUS:CONFIRMED
CLASS:PUBLIC
URL:https://www.golnetwork.com/game/v/143992/
X-MICROSOFT-CDO-BUSYSTATUS:BUSY
X-MICROSOFT-CDO-IMPORTANCE:1
END:VEVENT
BEGIN:VEVENT
UID:gejl6@games.golnetwork.com
LOCATION:Central Tech - Field 2
GEO:43.6637272;-79.4087613
CREATED:20190520T135401Z
DTSTART:20190720T010000Z
DTEND:20190720T015000Z
DTSTAMP:20260420T151744Z
SUMMARY:CITY FC vs. Reis Arriaga
DESCRIPTION:Reis Arriaga vs. CITY FCPlus d'info : #475
X-ALT-DESC;FMTTYPE=text/html:<!DOCTYPE HTML PUBLIC "-//W3C//DTD HTML 3.2//E
	N">\n<HTML>\n<HEAD>\n<TITLE></TITLE>\n</HEAD>\n<BODY>\n<h3>Reis Arriaga vs.
	 CITY FC</h3>Plus d'info : <a href="https://www.golnetwork.com/game/v/14399
	4/">#475</a>\n\n</BODY>\n</HTML>
STATUS:CONFIRMED
CLASS:PUBLIC
URL:https://www.golnetwork.com/game/v/143994/
X-MICROSOFT-CDO-BUSYSTATUS:BUSY
X-MICROSOFT-CDO-IMPORTANCE:1
END:VEVENT
BEGIN:VEVENT
UID:gejl4@games.golnetwork.com
LOCATION:Central Tech - Field 2
GEO:43.6637272;-79.4087613
CREATED:20190520T135359Z
DTSTART:20190720T020000Z
DTEND:20190720T025000Z
DTSTAMP:20260420T151744Z
SUMMARY:We'll Get Em Next Week vs. Reis Arriaga
DESCRIPTION:Reis Arriaga vs. We'll Get Em Next WeekPlus d'info : #478
X-ALT-DESC;FMTTYPE=text/html:<!DOCTYPE HTML PUBLIC "-//W3C//DTD HTML 3.2//E
	N">\n<HTML>\n<HEAD>\n<TITLE></TITLE>\n</HEAD>\n<BODY>\n<h3>Reis Arriaga vs.
	 We'll Get Em Next Week</h3>Plus d'info : <a href="https://www.golnetwork.c
	om/game/v/143993/">#478</a>\n\n</BODY>\n</HTML>
STATUS:CONFIRMED
CLASS:PUBLIC
URL:https://www.golnetwork.com/game/v/143993/
X-MICROSOFT-CDO-BUSYSTATUS:BUSY
X-MICROSOFT-CDO-IMPORTANCE:1
END:VEVENT
END:VCALENDAR
