BEGIN:VCALENDAR
PRODID:-//gdesolutions.com//MV Framework 1.0.0.1607 Calendar//EN
VERSION:2.0
METHOD:PUBLISH
CALSCALE:GREGORIAN
BEGIN:VEVENT
UID:gf0mf@games.golnetwork.com
LOCATION:North Toronto - Field 4
GEO:43.7098022;-79.3963055
CREATED:20190628T172559Z
DTSTART:20190819T231500Z
DTEND:20190820T001500Z
DTSTAMP:20260422T000114Z
SUMMARY:Xellions FC vs. The OG Squad
DESCRIPTION:The OG Squad vs. Xellions FCPlus d'info : #358
X-ALT-DESC;FMTTYPE=text/html:<!DOCTYPE HTML PUBLIC "-//W3C//DTD HTML 3.2//E
	N">\n<HTML>\n<HEAD>\n<TITLE></TITLE>\n</HEAD>\n<BODY>\n<h3>The OG Squad vs.
	 Xellions FC</h3>Plus d'info : <a href="https://www.golnetwork.com/game/v/1
	46928/">#358</a>\n\n</BODY>\n</HTML>
STATUS:CONFIRMED
CLASS:PUBLIC
URL:https://www.golnetwork.com/game/v/146928/
X-MICROSOFT-CDO-BUSYSTATUS:BUSY
X-MICROSOFT-CDO-IMPORTANCE:1
END:VEVENT
BEGIN:VEVENT
UID:gf0md@games.golnetwork.com
LOCATION:North Toronto CI - Field 1
CREATED:20190628T172559Z
DTSTART:20190819T231500Z
DTEND:20190820T001500Z
DTSTAMP:20260422T000114Z
SUMMARY:XTSC Yonge & Eligible vs. FC BONIFAÇIO
DESCRIPTION:FC BONIFAÇIO vs. XTSC Yonge & EligiblePlus d'info : #361
X-ALT-DESC;FMTTYPE=text/html:<!DOCTYPE HTML PUBLIC "-//W3C//DTD HTML 3.2//E
	N">\n<HTML>\n<HEAD>\n<TITLE></TITLE>\n</HEAD>\n<BODY>\n<h3>FC BONIFAÇIO vs
	. XTSC Yonge & Eligible</h3>Plus d'info : <a href="https://www.golnetwork.c
	om/game/v/146927/">#361</a>\n\n</BODY>\n</HTML>
STATUS:CONFIRMED
CLASS:PUBLIC
URL:https://www.golnetwork.com/game/v/146927/
X-MICROSOFT-CDO-BUSYSTATUS:BUSY
X-MICROSOFT-CDO-IMPORTANCE:1
END:VEVENT
BEGIN:VEVENT
UID:gf0mh@games.golnetwork.com
LOCATION:North Toronto CI - Field 1
CREATED:20190628T172559Z
DTSTART:20190826T231500Z
DTEND:20190827T001500Z
DTSTAMP:20260422T000114Z
SUMMARY:Xellions FC vs. XTSC Yonge & Eligible
DESCRIPTION:XTSC Yonge & Eligible vs. Xellions FCPlus d'info : #407
X-ALT-DESC;FMTTYPE=text/html:<!DOCTYPE HTML PUBLIC "-//W3C//DTD HTML 3.2//E
	N">\n<HTML>\n<HEAD>\n<TITLE></TITLE>\n</HEAD>\n<BODY>\n<h3>XTSC Yonge & Eli
	gible vs. Xellions FC</h3>Plus d'info : <a href="https://www.golnetwork.com
	/game/v/146929/">#407</a>\n\n</BODY>\n</HTML>
STATUS:CONFIRMED
CLASS:PUBLIC
URL:https://www.golnetwork.com/game/v/146929/
X-MICROSOFT-CDO-BUSYSTATUS:BUSY
X-MICROSOFT-CDO-IMPORTANCE:1
END:VEVENT
END:VCALENDAR
