BEGIN:VCALENDAR
PRODID:-//gdesolutions.com//MV Framework 1.0.0.1607 Calendar//EN
VERSION:2.0
METHOD:PUBLISH
CALSCALE:GREGORIAN
BEGIN:VEVENT
UID:gf04p@games.golnetwork.com
LOCATION:North Toronto - Field 4
GEO:43.7098022;-79.3963055
CREATED:20190619T142558Z
DTSTART:20190701T220000Z
DTEND:20190701T230000Z
DTSTAMP:20260420T051257Z
SUMMARY:XTSC Yonge & Eligible vs. XTSC Yonge Gunners
DESCRIPTION:XTSC Yonge Gunners vs. XTSC Yonge & EligiblePlus d'info : #28
X-ALT-DESC;FMTTYPE=text/html:<!DOCTYPE HTML PUBLIC "-//W3C//DTD HTML 3.2//E
	N">\n<HTML>\n<HEAD>\n<TITLE></TITLE>\n</HEAD>\n<BODY>\n<h3>XTSC Yonge Gunne
	rs vs. XTSC Yonge & Eligible</h3>Plus d'info : <a href="https://www.golnetw
	ork.com/game/v/146690/">#28</a>\n\n</BODY>\n</HTML>
STATUS:CONFIRMED
CLASS:PUBLIC
URL:https://www.golnetwork.com/game/v/146690/
X-MICROSOFT-CDO-BUSYSTATUS:BUSY
X-MICROSOFT-CDO-IMPORTANCE:1
END:VEVENT
BEGIN:VEVENT
UID:gf050@games.golnetwork.com
LOCATION:North Toronto - Field 4
GEO:43.7098022;-79.3963055
CREATED:20190619T142606Z
DTSTART:20190701T230000Z
DTEND:20190702T000000Z
DTSTAMP:20260420T051257Z
SUMMARY:AlayaCare FC vs. Xellions FC
DESCRIPTION:Xellions FC vs. AlayaCare FCPlus d'info : #31
X-ALT-DESC;FMTTYPE=text/html:<!DOCTYPE HTML PUBLIC "-//W3C//DTD HTML 3.2//E
	N">\n<HTML>\n<HEAD>\n<TITLE></TITLE>\n</HEAD>\n<BODY>\n<h3>Xellions FC vs. 
	AlayaCare FC</h3>Plus d'info : <a href="https://www.golnetwork.com/game/v/1
	46691/">#31</a>\n\n</BODY>\n</HTML>
STATUS:CONFIRMED
CLASS:PUBLIC
URL:https://www.golnetwork.com/game/v/146691/
X-MICROSOFT-CDO-BUSYSTATUS:BUSY
X-MICROSOFT-CDO-IMPORTANCE:1
END:VEVENT
BEGIN:VEVENT
UID:gf052@games.golnetwork.com
LOCATION:North Toronto - Field 4
GEO:43.7098022;-79.3963055
CREATED:20190619T142619Z
DTSTART:20190702T000000Z
DTEND:20190702T010000Z
DTSTAMP:20260420T051257Z
SUMMARY:Smashers FC vs. The OG Squad
DESCRIPTION:The OG Squad vs. Smashers FCPlus d'info : #37
X-ALT-DESC;FMTTYPE=text/html:<!DOCTYPE HTML PUBLIC "-//W3C//DTD HTML 3.2//E
	N">\n<HTML>\n<HEAD>\n<TITLE></TITLE>\n</HEAD>\n<BODY>\n<h3>The OG Squad vs.
	 Smashers FC</h3>Plus d'info : <a href="https://www.golnetwork.com/game/v/1
	46692/">#37</a>\n\n</BODY>\n</HTML>
STATUS:CONFIRMED
CLASS:PUBLIC
URL:https://www.golnetwork.com/game/v/146692/
X-MICROSOFT-CDO-BUSYSTATUS:BUSY
X-MICROSOFT-CDO-IMPORTANCE:1
END:VEVENT
BEGIN:VEVENT
UID:gf0il@games.golnetwork.com
LOCATION:North Toronto CI - Field 1
CREATED:20190625T170545Z
DTSTART:20190702T000000Z
DTEND:20190702T010000Z
DTSTAMP:20260420T051257Z
SUMMARY:Dribblersss vs. FC BONIFAÇIO
DESCRIPTION:FC BONIFAÇIO vs. DribblersssPlus d'info : #39
X-ALT-DESC;FMTTYPE=text/html:<!DOCTYPE HTML PUBLIC "-//W3C//DTD HTML 3.2//E
	N">\n<HTML>\n<HEAD>\n<TITLE></TITLE>\n</HEAD>\n<BODY>\n<h3>FC BONIFAÇIO vs
	. Dribblersss</h3>Plus d'info : <a href="https://www.golnetwork.com/game/v/
	146877/">#39</a>\n\n</BODY>\n</HTML>
STATUS:CONFIRMED
CLASS:PUBLIC
URL:https://www.golnetwork.com/game/v/146877/
X-MICROSOFT-CDO-BUSYSTATUS:BUSY
X-MICROSOFT-CDO-IMPORTANCE:1
END:VEVENT
BEGIN:VEVENT
UID:gf0k9@games.golnetwork.com
LOCATION:North Toronto CI - Field 1
CREATED:20190628T172059Z
DTSTART:20190708T220000Z
DTEND:20190708T230000Z
DTSTAMP:20260420T051257Z
SUMMARY:XTSC Yonge & Eligible vs. Dribblersss
DESCRIPTION:Dribblersss vs. XTSC Yonge & EligiblePlus d'info : #52
X-ALT-DESC;FMTTYPE=text/html:<!DOCTYPE HTML PUBLIC "-//W3C//DTD HTML 3.2//E
	N">\n<HTML>\n<HEAD>\n<TITLE></TITLE>\n</HEAD>\n<BODY>\n<h3>Dribblersss vs. 
	XTSC Yonge & Eligible</h3>Plus d'info : <a href="https://www.golnetwork.com
	/game/v/146898/">#52</a>\n\n</BODY>\n</HTML>
STATUS:CONFIRMED
CLASS:PUBLIC
URL:https://www.golnetwork.com/game/v/146898/
X-MICROSOFT-CDO-BUSYSTATUS:BUSY
X-MICROSOFT-CDO-IMPORTANCE:1
END:VEVENT
BEGIN:VEVENT
UID:gf0kb@games.golnetwork.com
LOCATION:North Toronto CI - Field 1
CREATED:20190628T172106Z
DTSTART:20190708T230000Z
DTEND:20190709T000000Z
DTSTAMP:20260420T051257Z
SUMMARY:Smashers FC vs. AlayaCare FC
DESCRIPTION:AlayaCare FC vs. Smashers FCPlus d'info : #58
X-ALT-DESC;FMTTYPE=text/html:<!DOCTYPE HTML PUBLIC "-//W3C//DTD HTML 3.2//E
	N">\n<HTML>\n<HEAD>\n<TITLE></TITLE>\n</HEAD>\n<BODY>\n<h3>AlayaCare FC vs.
	 Smashers FC</h3>Plus d'info : <a href="https://www.golnetwork.com/game/v/1
	46899/">#58</a>\n\n</BODY>\n</HTML>
STATUS:CONFIRMED
CLASS:PUBLIC
URL:https://www.golnetwork.com/game/v/146899/
X-MICROSOFT-CDO-BUSYSTATUS:BUSY
X-MICROSOFT-CDO-IMPORTANCE:1
END:VEVENT
BEGIN:VEVENT
UID:gf0kf@games.golnetwork.com
LOCATION:North Toronto - Field 4
GEO:43.7098022;-79.3963055
CREATED:20190628T172123Z
DTSTART:20190709T000000Z
DTEND:20190709T010000Z
DTSTAMP:20260420T051257Z
SUMMARY:Xellions FC vs. FC BONIFAÇIO
DESCRIPTION:FC BONIFAÇIO vs. Xellions FCPlus d'info : #61
X-ALT-DESC;FMTTYPE=text/html:<!DOCTYPE HTML PUBLIC "-//W3C//DTD HTML 3.2//E
	N">\n<HTML>\n<HEAD>\n<TITLE></TITLE>\n</HEAD>\n<BODY>\n<h3>FC BONIFAÇIO vs
	. Xellions FC</h3>Plus d'info : <a href="https://www.golnetwork.com/game/v/
	146901/">#61</a>\n\n</BODY>\n</HTML>
STATUS:CONFIRMED
CLASS:PUBLIC
URL:https://www.golnetwork.com/game/v/146901/
X-MICROSOFT-CDO-BUSYSTATUS:BUSY
X-MICROSOFT-CDO-IMPORTANCE:1
END:VEVENT
BEGIN:VEVENT
UID:gf0kd@games.golnetwork.com
LOCATION:North Toronto CI - Field 1
CREATED:20190628T172113Z
DTSTART:20190709T000000Z
DTEND:20190709T010000Z
DTSTAMP:20260420T051257Z
SUMMARY:The OG Squad vs. XTSC Yonge Gunners
DESCRIPTION:XTSC Yonge Gunners vs. The OG SquadPlus d'info : #64
X-ALT-DESC;FMTTYPE=text/html:<!DOCTYPE HTML PUBLIC "-//W3C//DTD HTML 3.2//E
	N">\n<HTML>\n<HEAD>\n<TITLE></TITLE>\n</HEAD>\n<BODY>\n<h3>XTSC Yonge Gunne
	rs vs. The OG Squad</h3>Plus d'info : <a href="https://www.golnetwork.com/g
	ame/v/146900/">#64</a>\n\n</BODY>\n</HTML>
STATUS:CONFIRMED
CLASS:PUBLIC
URL:https://www.golnetwork.com/game/v/146900/
X-MICROSOFT-CDO-BUSYSTATUS:BUSY
X-MICROSOFT-CDO-IMPORTANCE:1
END:VEVENT
BEGIN:VEVENT
UID:gf0kh@games.golnetwork.com
LOCATION:North Toronto CI - Field 1
CREATED:20190628T172133Z
DTSTART:20190715T220000Z
DTEND:20190715T230000Z
DTSTAMP:20260420T051257Z
SUMMARY:Smashers FC vs. Dribblersss
DESCRIPTION:Dribblersss vs. Smashers FCPlus d'info : #76
X-ALT-DESC;FMTTYPE=text/html:<!DOCTYPE HTML PUBLIC "-//W3C//DTD HTML 3.2//E
	N">\n<HTML>\n<HEAD>\n<TITLE></TITLE>\n</HEAD>\n<BODY>\n<h3>Dribblersss vs. 
	Smashers FC</h3>Plus d'info : <a href="https://www.golnetwork.com/game/v/14
	6902/">#76</a>\n\n</BODY>\n</HTML>
STATUS:CONFIRMED
CLASS:PUBLIC
URL:https://www.golnetwork.com/game/v/146902/
X-MICROSOFT-CDO-BUSYSTATUS:BUSY
X-MICROSOFT-CDO-IMPORTANCE:1
END:VEVENT
BEGIN:VEVENT
UID:gf0kj@games.golnetwork.com
LOCATION:North Toronto CI - Field 1
CREATED:20190628T172141Z
DTSTART:20190715T230000Z
DTEND:20190716T000000Z
DTSTAMP:20260420T051257Z
SUMMARY:The OG Squad vs. FC BONIFAÇIO
DESCRIPTION:FC BONIFAÇIO vs. The OG SquadPlus d'info : #82
X-ALT-DESC;FMTTYPE=text/html:<!DOCTYPE HTML PUBLIC "-//W3C//DTD HTML 3.2//E
	N">\n<HTML>\n<HEAD>\n<TITLE></TITLE>\n</HEAD>\n<BODY>\n<h3>FC BONIFAÇIO vs
	. The OG Squad</h3>Plus d'info : <a href="https://www.golnetwork.com/game/v
	/146903/">#82</a>\n\n</BODY>\n</HTML>
STATUS:CONFIRMED
CLASS:PUBLIC
URL:https://www.golnetwork.com/game/v/146903/
X-MICROSOFT-CDO-BUSYSTATUS:BUSY
X-MICROSOFT-CDO-IMPORTANCE:1
END:VEVENT
BEGIN:VEVENT
UID:gf0kn@games.golnetwork.com
LOCATION:North Toronto - Field 4
GEO:43.7098022;-79.3963055
CREATED:20190628T172157Z
DTSTART:20190716T000000Z
DTEND:20190716T010000Z
DTSTAMP:20260420T051257Z
SUMMARY:XTSC Yonge Gunners vs. AlayaCare FC
DESCRIPTION:AlayaCare FC vs. XTSC Yonge GunnersPlus d'info : #85
X-ALT-DESC;FMTTYPE=text/html:<!DOCTYPE HTML PUBLIC "-//W3C//DTD HTML 3.2//E
	N">\n<HTML>\n<HEAD>\n<TITLE></TITLE>\n</HEAD>\n<BODY>\n<h3>AlayaCare FC vs.
	 XTSC Yonge Gunners</h3>Plus d'info : <a href="https://www.golnetwork.com/g
	ame/v/146905/">#85</a>\n\n</BODY>\n</HTML>
STATUS:CONFIRMED
CLASS:PUBLIC
URL:https://www.golnetwork.com/game/v/146905/
X-MICROSOFT-CDO-BUSYSTATUS:BUSY
X-MICROSOFT-CDO-IMPORTANCE:1
END:VEVENT
BEGIN:VEVENT
UID:gf0kl@games.golnetwork.com
LOCATION:North Toronto CI - Field 1
CREATED:20190628T172150Z
DTSTART:20190716T000000Z
DTEND:20190716T010000Z
DTSTAMP:20260420T051257Z
SUMMARY:XTSC Yonge & Eligible vs. Xellions FC
DESCRIPTION:Xellions FC vs. XTSC Yonge & EligiblePlus d'info : #88
X-ALT-DESC;FMTTYPE=text/html:<!DOCTYPE HTML PUBLIC "-//W3C//DTD HTML 3.2//E
	N">\n<HTML>\n<HEAD>\n<TITLE></TITLE>\n</HEAD>\n<BODY>\n<h3>Xellions FC vs. 
	XTSC Yonge & Eligible</h3>Plus d'info : <a href="https://www.golnetwork.com
	/game/v/146904/">#88</a>\n\n</BODY>\n</HTML>
STATUS:CONFIRMED
CLASS:PUBLIC
URL:https://www.golnetwork.com/game/v/146904/
X-MICROSOFT-CDO-BUSYSTATUS:BUSY
X-MICROSOFT-CDO-IMPORTANCE:1
END:VEVENT
BEGIN:VEVENT
UID:gf0l0@games.golnetwork.com
LOCATION:North Toronto - Field 4
GEO:43.7098022;-79.3963055
CREATED:20190628T172221Z
DTSTART:20190722T220000Z
DTEND:20190722T230000Z
DTSTAMP:20260420T051257Z
SUMMARY:Smashers FC vs. FC BONIFAÇIO
DESCRIPTION:FC BONIFAÇIO vs. Smashers FCPlus d'info : #120
X-ALT-DESC;FMTTYPE=text/html:<!DOCTYPE HTML PUBLIC "-//W3C//DTD HTML 3.2//E
	N">\n<HTML>\n<HEAD>\n<TITLE></TITLE>\n</HEAD>\n<BODY>\n<h3>FC BONIFAÇIO vs
	. Smashers FC</h3>Plus d'info : <a href="https://www.golnetwork.com/game/v/
	146907/">#120</a>\n\n</BODY>\n</HTML>
STATUS:CONFIRMED
CLASS:PUBLIC
URL:https://www.golnetwork.com/game/v/146907/
X-MICROSOFT-CDO-BUSYSTATUS:BUSY
X-MICROSOFT-CDO-IMPORTANCE:1
END:VEVENT
BEGIN:VEVENT
UID:gf0kp@games.golnetwork.com
LOCATION:North Toronto CI - Field 1
CREATED:20190628T172210Z
DTSTART:20190722T220000Z
DTEND:20190722T230000Z
DTSTAMP:20260420T051257Z
SUMMARY:XTSC Yonge Gunners vs. Xellions FC
DESCRIPTION:Xellions FC vs. XTSC Yonge GunnersPlus d'info : #123
X-ALT-DESC;FMTTYPE=text/html:<!DOCTYPE HTML PUBLIC "-//W3C//DTD HTML 3.2//E
	N">\n<HTML>\n<HEAD>\n<TITLE></TITLE>\n</HEAD>\n<BODY>\n<h3>Xellions FC vs. 
	XTSC Yonge Gunners</h3>Plus d'info : <a href="https://www.golnetwork.com/ga
	me/v/146906/">#123</a>\n\n</BODY>\n</HTML>
STATUS:CONFIRMED
CLASS:PUBLIC
URL:https://www.golnetwork.com/game/v/146906/
X-MICROSOFT-CDO-BUSYSTATUS:BUSY
X-MICROSOFT-CDO-IMPORTANCE:1
END:VEVENT
BEGIN:VEVENT
UID:gf0l8@games.golnetwork.com
LOCATION:North Toronto - Field 4
GEO:43.7098022;-79.3963055
CREATED:20190628T172258Z
DTSTART:20190723T000000Z
DTEND:20190723T010000Z
DTSTAMP:20260420T051257Z
SUMMARY:XTSC Yonge & Eligible vs. The OG Squad
DESCRIPTION:The OG Squad vs. XTSC Yonge & EligiblePlus d'info : #136
X-ALT-DESC;FMTTYPE=text/html:<!DOCTYPE HTML PUBLIC "-//W3C//DTD HTML 3.2//E
	N">\n<HTML>\n<HEAD>\n<TITLE></TITLE>\n</HEAD>\n<BODY>\n<h3>The OG Squad vs.
	 XTSC Yonge & Eligible</h3>Plus d'info : <a href="https://www.golnetwork.co
	m/game/v/146911/">#136</a>\n\n</BODY>\n</HTML>
STATUS:CONFIRMED
CLASS:PUBLIC
URL:https://www.golnetwork.com/game/v/146911/
X-MICROSOFT-CDO-BUSYSTATUS:BUSY
X-MICROSOFT-CDO-IMPORTANCE:1
END:VEVENT
BEGIN:VEVENT
UID:gf0l6@games.golnetwork.com
LOCATION:North Toronto CI - Field 1
CREATED:20190628T172251Z
DTSTART:20190723T000000Z
DTEND:20190723T010000Z
DTSTAMP:20260420T051257Z
SUMMARY:Dribblersss vs. AlayaCare FC
DESCRIPTION:AlayaCare FC vs. DribblersssPlus d'info : #139
X-ALT-DESC;FMTTYPE=text/html:<!DOCTYPE HTML PUBLIC "-//W3C//DTD HTML 3.2//E
	N">\n<HTML>\n<HEAD>\n<TITLE></TITLE>\n</HEAD>\n<BODY>\n<h3>AlayaCare FC vs.
	 Dribblersss</h3>Plus d'info : <a href="https://www.golnetwork.com/game/v/1
	46910/">#139</a>\n\n</BODY>\n</HTML>
STATUS:CONFIRMED
CLASS:PUBLIC
URL:https://www.golnetwork.com/game/v/146910/
X-MICROSOFT-CDO-BUSYSTATUS:BUSY
X-MICROSOFT-CDO-IMPORTANCE:1
END:VEVENT
BEGIN:VEVENT
UID:gf0lc@games.golnetwork.com
LOCATION:North Toronto - Field 4
GEO:43.7098022;-79.3963055
CREATED:20190628T172316Z
DTSTART:20190729T220000Z
DTEND:20190729T230000Z
DTSTAMP:20260420T051257Z
SUMMARY:The OG Squad vs. Xellions FC
DESCRIPTION:Xellions FC vs. The OG SquadPlus d'info : #180
X-ALT-DESC;FMTTYPE=text/html:<!DOCTYPE HTML PUBLIC "-//W3C//DTD HTML 3.2//E
	N">\n<HTML>\n<HEAD>\n<TITLE></TITLE>\n</HEAD>\n<BODY>\n<h3>Xellions FC vs. 
	The OG Squad</h3>Plus d'info : <a href="https://www.golnetwork.com/game/v/1
	46913/">#180</a>\n\n</BODY>\n</HTML>
STATUS:CONFIRMED
CLASS:PUBLIC
URL:https://www.golnetwork.com/game/v/146913/
X-MICROSOFT-CDO-BUSYSTATUS:BUSY
X-MICROSOFT-CDO-IMPORTANCE:1
END:VEVENT
BEGIN:VEVENT
UID:gf0la@games.golnetwork.com
LOCATION:North Toronto CI - Field 1
CREATED:20190628T172309Z
DTSTART:20190729T220000Z
DTEND:20190729T230000Z
DTSTAMP:20260420T051257Z
SUMMARY:AlayaCare FC vs. FC BONIFAÇIO
DESCRIPTION:FC BONIFAÇIO vs. AlayaCare FCPlus d'info : #183
X-ALT-DESC;FMTTYPE=text/html:<!DOCTYPE HTML PUBLIC "-//W3C//DTD HTML 3.2//E
	N">\n<HTML>\n<HEAD>\n<TITLE></TITLE>\n</HEAD>\n<BODY>\n<h3>FC BONIFAÇIO vs
	. AlayaCare FC</h3>Plus d'info : <a href="https://www.golnetwork.com/game/v
	/146912/">#183</a>\n\n</BODY>\n</HTML>
STATUS:CONFIRMED
CLASS:PUBLIC
URL:https://www.golnetwork.com/game/v/146912/
X-MICROSOFT-CDO-BUSYSTATUS:BUSY
X-MICROSOFT-CDO-IMPORTANCE:1
END:VEVENT
BEGIN:VEVENT
UID:gf0lk@games.golnetwork.com
LOCATION:North Toronto - Field 4
GEO:43.7098022;-79.3963055
CREATED:20190628T172350Z
DTSTART:20190730T000000Z
DTEND:20190730T010000Z
DTSTAMP:20260420T051257Z
SUMMARY:Smashers FC vs. XTSC Yonge & Eligible
DESCRIPTION:XTSC Yonge & Eligible vs. Smashers FCPlus d'info : #198
X-ALT-DESC;FMTTYPE=text/html:<!DOCTYPE HTML PUBLIC "-//W3C//DTD HTML 3.2//E
	N">\n<HTML>\n<HEAD>\n<TITLE></TITLE>\n</HEAD>\n<BODY>\n<h3>XTSC Yonge & Eli
	gible vs. Smashers FC</h3>Plus d'info : <a href="https://www.golnetwork.com
	/game/v/146917/">#198</a>\n\n</BODY>\n</HTML>
STATUS:CONFIRMED
CLASS:PUBLIC
URL:https://www.golnetwork.com/game/v/146917/
X-MICROSOFT-CDO-BUSYSTATUS:BUSY
X-MICROSOFT-CDO-IMPORTANCE:1
END:VEVENT
BEGIN:VEVENT
UID:gf0li@games.golnetwork.com
LOCATION:North Toronto CI - Field 1
CREATED:20190628T172343Z
DTSTART:20190730T000000Z
DTEND:20190730T010000Z
DTSTAMP:20260420T051257Z
SUMMARY:XTSC Yonge Gunners vs. Dribblersss
DESCRIPTION:Dribblersss vs. XTSC Yonge GunnersPlus d'info : #201
X-ALT-DESC;FMTTYPE=text/html:<!DOCTYPE HTML PUBLIC "-//W3C//DTD HTML 3.2//E
	N">\n<HTML>\n<HEAD>\n<TITLE></TITLE>\n</HEAD>\n<BODY>\n<h3>Dribblersss vs. 
	XTSC Yonge Gunners</h3>Plus d'info : <a href="https://www.golnetwork.com/ga
	me/v/146916/">#201</a>\n\n</BODY>\n</HTML>
STATUS:CONFIRMED
CLASS:PUBLIC
URL:https://www.golnetwork.com/game/v/146916/
X-MICROSOFT-CDO-BUSYSTATUS:BUSY
X-MICROSOFT-CDO-IMPORTANCE:1
END:VEVENT
BEGIN:VEVENT
UID:gf0lm@games.golnetwork.com
LOCATION:North Toronto CI - Field 1
CREATED:20190628T172402Z
DTSTART:20190805T220000Z
DTEND:20190805T230000Z
DTSTAMP:20260420T051257Z
SUMMARY:The OG Squad vs. AlayaCare FC
DESCRIPTION:AlayaCare FC vs. The OG SquadPlus d'info : #238
X-ALT-DESC;FMTTYPE=text/html:<!DOCTYPE HTML PUBLIC "-//W3C//DTD HTML 3.2//E
	N">\n<HTML>\n<HEAD>\n<TITLE></TITLE>\n</HEAD>\n<BODY>\n<h3>AlayaCare FC vs.
	 The OG Squad</h3>Plus d'info : <a href="https://www.golnetwork.com/game/v/
	146918/">#238</a>\n\n</BODY>\n</HTML>
STATUS:CONFIRMED
CLASS:PUBLIC
URL:https://www.golnetwork.com/game/v/146918/
X-MICROSOFT-CDO-BUSYSTATUS:BUSY
X-MICROSOFT-CDO-IMPORTANCE:1
END:VEVENT
BEGIN:VEVENT
UID:gf0lq@games.golnetwork.com
LOCATION:North Toronto - Field 4
GEO:43.7098022;-79.3963055
CREATED:20190628T172424Z
DTSTART:20190805T230000Z
DTEND:20190806T000000Z
DTSTAMP:20260420T051257Z
SUMMARY:Xellions FC vs. Dribblersss
DESCRIPTION:Dribblersss vs. Xellions FCPlus d'info : #243
X-ALT-DESC;FMTTYPE=text/html:<!DOCTYPE HTML PUBLIC "-//W3C//DTD HTML 3.2//E
	N">\n<HTML>\n<HEAD>\n<TITLE></TITLE>\n</HEAD>\n<BODY>\n<h3>Dribblersss vs. 
	Xellions FC</h3>Plus d'info : <a href="https://www.golnetwork.com/game/v/14
	6920/">#243</a>\n\n</BODY>\n</HTML>
STATUS:CONFIRMED
CLASS:PUBLIC
URL:https://www.golnetwork.com/game/v/146920/
X-MICROSOFT-CDO-BUSYSTATUS:BUSY
X-MICROSOFT-CDO-IMPORTANCE:1
END:VEVENT
BEGIN:VEVENT
UID:gf0lo@games.golnetwork.com
LOCATION:North Toronto CI - Field 1
CREATED:20190628T172415Z
DTSTART:20190805T230000Z
DTEND:20190806T000000Z
DTSTAMP:20260420T051257Z
SUMMARY:XTSC Yonge & Eligible vs. FC BONIFAÇIO
DESCRIPTION:FC BONIFAÇIO vs. XTSC Yonge & EligiblePlus d'info : #246
X-ALT-DESC;FMTTYPE=text/html:<!DOCTYPE HTML PUBLIC "-//W3C//DTD HTML 3.2//E
	N">\n<HTML>\n<HEAD>\n<TITLE></TITLE>\n</HEAD>\n<BODY>\n<h3>FC BONIFAÇIO vs
	. XTSC Yonge & Eligible</h3>Plus d'info : <a href="https://www.golnetwork.c
	om/game/v/146919/">#246</a>\n\n</BODY>\n</HTML>
STATUS:CONFIRMED
CLASS:PUBLIC
URL:https://www.golnetwork.com/game/v/146919/
X-MICROSOFT-CDO-BUSYSTATUS:BUSY
X-MICROSOFT-CDO-IMPORTANCE:1
END:VEVENT
BEGIN:VEVENT
UID:gf0m1@games.golnetwork.com
LOCATION:North Toronto CI - Field 1
CREATED:20190628T172435Z
DTSTART:20190806T000000Z
DTEND:20190806T010000Z
DTSTAMP:20260420T051257Z
SUMMARY:XTSC Yonge Gunners vs. Smashers FC
DESCRIPTION:Smashers FC vs. XTSC Yonge GunnersPlus d'info : #254
X-ALT-DESC;FMTTYPE=text/html:<!DOCTYPE HTML PUBLIC "-//W3C//DTD HTML 3.2//E
	N">\n<HTML>\n<HEAD>\n<TITLE></TITLE>\n</HEAD>\n<BODY>\n<h3>Smashers FC vs. 
	XTSC Yonge Gunners</h3>Plus d'info : <a href="https://www.golnetwork.com/ga
	me/v/146921/">#254</a>\n\n</BODY>\n</HTML>
STATUS:CONFIRMED
CLASS:PUBLIC
URL:https://www.golnetwork.com/game/v/146921/
X-MICROSOFT-CDO-BUSYSTATUS:BUSY
X-MICROSOFT-CDO-IMPORTANCE:1
END:VEVENT
BEGIN:VEVENT
UID:gf0l4@games.golnetwork.com
LOCATION:North Toronto - Field 4
GEO:43.7098022;-79.3963055
CREATED:20190628T172238Z
DTSTART:20190812T223000Z
DTEND:20190812T233000Z
DTSTAMP:20260420T051257Z
SUMMARY:Dribblersss vs. The OG Squad
DESCRIPTION:The OG Squad vs. DribblersssPlus d'info : #296
X-ALT-DESC;FMTTYPE=text/html:<!DOCTYPE HTML PUBLIC "-//W3C//DTD HTML 3.2//E
	N">\n<HTML>\n<HEAD>\n<TITLE></TITLE>\n</HEAD>\n<BODY>\n<h3>The OG Squad vs.
	 Dribblersss</h3>Plus d'info : <a href="https://www.golnetwork.com/game/v/1
	46909/">#296</a>\n\n</BODY>\n</HTML>
STATUS:CONFIRMED
CLASS:PUBLIC
URL:https://www.golnetwork.com/game/v/146909/
X-MICROSOFT-CDO-BUSYSTATUS:BUSY
X-MICROSOFT-CDO-IMPORTANCE:1
END:VEVENT
BEGIN:VEVENT
UID:gf0l2@games.golnetwork.com
LOCATION:North Toronto CI - Field 1
CREATED:20190628T172231Z
DTSTART:20190812T223000Z
DTEND:20190812T233000Z
DTSTAMP:20260420T051257Z
SUMMARY:XTSC Yonge & Eligible vs. AlayaCare FC
DESCRIPTION:AlayaCare FC vs. XTSC Yonge & EligiblePlus d'info : #299
X-ALT-DESC;FMTTYPE=text/html:<!DOCTYPE HTML PUBLIC "-//W3C//DTD HTML 3.2//E
	N">\n<HTML>\n<HEAD>\n<TITLE></TITLE>\n</HEAD>\n<BODY>\n<h3>AlayaCare FC vs.
	 XTSC Yonge & Eligible</h3>Plus d'info : <a href="https://www.golnetwork.co
	m/game/v/146908/">#299</a>\n\n</BODY>\n</HTML>
STATUS:CONFIRMED
CLASS:PUBLIC
URL:https://www.golnetwork.com/game/v/146908/
X-MICROSOFT-CDO-BUSYSTATUS:BUSY
X-MICROSOFT-CDO-IMPORTANCE:1
END:VEVENT
BEGIN:VEVENT
UID:gf0lg@games.golnetwork.com
LOCATION:North Toronto - Field 4
GEO:43.7098022;-79.3963055
CREATED:20190628T172334Z
DTSTART:20190812T233000Z
DTEND:20190813T003000Z
DTSTAMP:20260420T051257Z
SUMMARY:XTSC Yonge Gunners vs. FC BONIFAÇIO
DESCRIPTION:FC BONIFAÇIO vs. XTSC Yonge GunnersPlus d'info : #303
X-ALT-DESC;FMTTYPE=text/html:<!DOCTYPE HTML PUBLIC "-//W3C//DTD HTML 3.2//E
	N">\n<HTML>\n<HEAD>\n<TITLE></TITLE>\n</HEAD>\n<BODY>\n<h3>FC BONIFAÇIO vs
	. XTSC Yonge Gunners</h3>Plus d'info : <a href="https://www.golnetwork.com/
	game/v/146915/">#303</a>\n\n</BODY>\n</HTML>
STATUS:CONFIRMED
CLASS:PUBLIC
URL:https://www.golnetwork.com/game/v/146915/
X-MICROSOFT-CDO-BUSYSTATUS:BUSY
X-MICROSOFT-CDO-IMPORTANCE:1
END:VEVENT
BEGIN:VEVENT
UID:gf0le@games.golnetwork.com
LOCATION:North Toronto CI - Field 1
CREATED:20190628T172325Z
DTSTART:20190812T233000Z
DTEND:20190813T003000Z
DTSTAMP:20260420T051257Z
SUMMARY:Smashers FC vs. Xellions FC
DESCRIPTION:Xellions FC vs. Smashers FCPlus d'info : #306
X-ALT-DESC;FMTTYPE=text/html:<!DOCTYPE HTML PUBLIC "-//W3C//DTD HTML 3.2//E
	N">\n<HTML>\n<HEAD>\n<TITLE></TITLE>\n</HEAD>\n<BODY>\n<h3>Xellions FC vs. 
	Smashers FC</h3>Plus d'info : <a href="https://www.golnetwork.com/game/v/14
	6914/">#306</a>\n\n</BODY>\n</HTML>
STATUS:CONFIRMED
CLASS:PUBLIC
URL:https://www.golnetwork.com/game/v/146914/
X-MICROSOFT-CDO-BUSYSTATUS:BUSY
X-MICROSOFT-CDO-IMPORTANCE:1
END:VEVENT
BEGIN:VEVENT
UID:gf0m5@games.golnetwork.com
LOCATION:North Toronto - Field 4
GEO:43.7098022;-79.3963055
CREATED:20190628T172447Z
DTSTART:20190819T221500Z
DTEND:20190819T231500Z
DTSTAMP:20260420T051257Z
SUMMARY:Smashers FC vs. Dribblersss
DESCRIPTION:Dribblersss vs. Smashers FCPlus d'info : #351
X-ALT-DESC;FMTTYPE=text/html:<!DOCTYPE HTML PUBLIC "-//W3C//DTD HTML 3.2//E
	N">\n<HTML>\n<HEAD>\n<TITLE></TITLE>\n</HEAD>\n<BODY>\n<h3>Dribblersss vs. 
	Smashers FC</h3>Plus d'info : <a href="https://www.golnetwork.com/game/v/14
	6923/">#351</a>\n\n</BODY>\n</HTML>
STATUS:CONFIRMED
CLASS:PUBLIC
URL:https://www.golnetwork.com/game/v/146923/
X-MICROSOFT-CDO-BUSYSTATUS:BUSY
X-MICROSOFT-CDO-IMPORTANCE:1
END:VEVENT
BEGIN:VEVENT
UID:gf0m3@games.golnetwork.com
LOCATION:North Toronto CI - Field 1
CREATED:20190628T172442Z
DTSTART:20190819T221500Z
DTEND:20190819T231500Z
DTSTAMP:20260420T051257Z
SUMMARY:XTSC Yonge Gunners vs. Smashing Pumpkins
DESCRIPTION:Smashing Pumpkins vs. XTSC Yonge GunnersPlus d'info : #354
X-ALT-DESC;FMTTYPE=text/html:<!DOCTYPE HTML PUBLIC "-//W3C//DTD HTML 3.2//E
	N">\n<HTML>\n<HEAD>\n<TITLE></TITLE>\n</HEAD>\n<BODY>\n<h3>Smashing Pumpkin
	s vs. XTSC Yonge Gunners</h3>Plus d'info : <a href="https://www.golnetwork.
	com/game/v/146922/">#354</a>\n\n</BODY>\n</HTML>
STATUS:CONFIRMED
CLASS:PUBLIC
URL:https://www.golnetwork.com/game/v/146922/
X-MICROSOFT-CDO-BUSYSTATUS:BUSY
X-MICROSOFT-CDO-IMPORTANCE:1
END:VEVENT
BEGIN:VEVENT
UID:gf0m9@games.golnetwork.com
LOCATION:North Toronto - Field 4
GEO:43.7098022;-79.3963055
CREATED:20190628T172507Z
DTSTART:20190826T221500Z
DTEND:20190826T231500Z
DTSTAMP:20260420T051257Z
SUMMARY:AlayaCare FC vs. Dribblersss
DESCRIPTION:Dribblersss vs. AlayaCare FCPlus d'info : #398
X-ALT-DESC;FMTTYPE=text/html:<!DOCTYPE HTML PUBLIC "-//W3C//DTD HTML 3.2//E
	N">\n<HTML>\n<HEAD>\n<TITLE></TITLE>\n</HEAD>\n<BODY>\n<h3>Dribblersss vs. 
	AlayaCare FC</h3>Plus d'info : <a href="https://www.golnetwork.com/game/v/1
	46925/">#398</a>\n\n</BODY>\n</HTML>
STATUS:CONFIRMED
CLASS:PUBLIC
URL:https://www.golnetwork.com/game/v/146925/
X-MICROSOFT-CDO-BUSYSTATUS:BUSY
X-MICROSOFT-CDO-IMPORTANCE:1
END:VEVENT
BEGIN:VEVENT
UID:gf0m7@games.golnetwork.com
LOCATION:North Toronto CI - Field 1
CREATED:20190628T172503Z
DTSTART:20190826T221500Z
DTEND:20190826T231500Z
DTSTAMP:20260420T051257Z
SUMMARY:The OG Squad vs. FC BONIFAÇIO
DESCRIPTION:FC BONIFAÇIO vs. The OG SquadPlus d'info : #401
X-ALT-DESC;FMTTYPE=text/html:<!DOCTYPE HTML PUBLIC "-//W3C//DTD HTML 3.2//E
	N">\n<HTML>\n<HEAD>\n<TITLE></TITLE>\n</HEAD>\n<BODY>\n<h3>FC BONIFAÇIO vs
	. The OG Squad</h3>Plus d'info : <a href="https://www.golnetwork.com/game/v
	/146924/">#401</a>\n\n</BODY>\n</HTML>
STATUS:CONFIRMED
CLASS:PUBLIC
URL:https://www.golnetwork.com/game/v/146924/
X-MICROSOFT-CDO-BUSYSTATUS:BUSY
X-MICROSOFT-CDO-IMPORTANCE:1
END:VEVENT
BEGIN:VEVENT
UID:gf0mb@games.golnetwork.com
LOCATION:North Toronto - Field 4
GEO:43.7098022;-79.3963055
CREATED:20190628T172515Z
DTSTART:20190826T231500Z
DTEND:20190827T001500Z
DTSTAMP:20260420T051257Z
SUMMARY:XTSC Yonge Gunners vs. Smashers FC
DESCRIPTION:Smashers FC vs. XTSC Yonge GunnersPlus d'info : #404
X-ALT-DESC;FMTTYPE=text/html:<!DOCTYPE HTML PUBLIC "-//W3C//DTD HTML 3.2//E
	N">\n<HTML>\n<HEAD>\n<TITLE></TITLE>\n</HEAD>\n<BODY>\n<h3>Smashers FC vs. 
	XTSC Yonge Gunners</h3>Plus d'info : <a href="https://www.golnetwork.com/ga
	me/v/146926/">#404</a>\n\n</BODY>\n</HTML>
STATUS:CONFIRMED
CLASS:PUBLIC
URL:https://www.golnetwork.com/game/v/146926/
X-MICROSOFT-CDO-BUSYSTATUS:BUSY
X-MICROSOFT-CDO-IMPORTANCE:1
END:VEVENT
END:VCALENDAR
