BEGIN:VCALENDAR
PRODID:-//gdesolutions.com//MV Framework 1.0.0.1607 Calendar//EN
VERSION:2.0
METHOD:PUBLISH
CALSCALE:GREGORIAN
BEGIN:VEVENT
UID:gf1kg@games.golnetwork.com
LOCATION:Canoe Landing  - Field 3
CREATED:20190711T145815Z
DTSTART:20190904T233000Z
DTEND:20190905T003000Z
DTSTAMP:20260422T211808Z
SUMMARY:Brown Bag FC vs. RSA FC
DESCRIPTION:RSA FC vs. Brown Bag FCPlus d'info : #448
X-ALT-DESC;FMTTYPE=text/html:<!DOCTYPE HTML PUBLIC "-//W3C//DTD HTML 3.2//E
	N">\n<HTML>\n<HEAD>\n<TITLE></TITLE>\n</HEAD>\n<BODY>\n<h3>RSA FC vs. Brown
	 Bag FC</h3>Plus d'info : <a href="https://www.golnetwork.com/game/v/147266
	/">#448</a>\n\n</BODY>\n</HTML>
STATUS:CONFIRMED
CLASS:PUBLIC
URL:https://www.golnetwork.com/game/v/147266/
X-MICROSOFT-CDO-BUSYSTATUS:BUSY
X-MICROSOFT-CDO-IMPORTANCE:1
END:VEVENT
BEGIN:VEVENT
UID:gf1ki@games.golnetwork.com
LOCATION:Canoe Landing  - Field 3
CREATED:20190711T145815Z
DTSTART:20190905T003000Z
DTEND:20190905T013000Z
DTSTAMP:20260422T211808Z
SUMMARY:vodaQUAD vs. XTSC Landers
DESCRIPTION:XTSC Landers vs. vodaQUADPlus d'info : #451
X-ALT-DESC;FMTTYPE=text/html:<!DOCTYPE HTML PUBLIC "-//W3C//DTD HTML 3.2//E
	N">\n<HTML>\n<HEAD>\n<TITLE></TITLE>\n</HEAD>\n<BODY>\n<h3>XTSC Landers vs.
	 vodaQUAD</h3>Plus d'info : <a href="https://www.golnetwork.com/game/v/1472
	67/">#451</a>\n\n</BODY>\n</HTML>
STATUS:CONFIRMED
CLASS:PUBLIC
URL:https://www.golnetwork.com/game/v/147267/
X-MICROSOFT-CDO-BUSYSTATUS:BUSY
X-MICROSOFT-CDO-IMPORTANCE:1
END:VEVENT
BEGIN:VEVENT
UID:gf1kk@games.golnetwork.com
LOCATION:Canoe Landing  - Field 3
CREATED:20190711T145815Z
DTSTART:20190911T233000Z
DTEND:20190912T003000Z
DTSTAMP:20260422T211808Z
SUMMARY:XTSC Landers vs. RSA FC
DESCRIPTION:RSA FC vs. XTSC LandersPlus d'info : #472
X-ALT-DESC;FMTTYPE=text/html:<!DOCTYPE HTML PUBLIC "-//W3C//DTD HTML 3.2//E
	N">\n<HTML>\n<HEAD>\n<TITLE></TITLE>\n</HEAD>\n<BODY>\n<h3>RSA FC vs. XTSC 
	Landers</h3>Plus d'info : <a href="https://www.golnetwork.com/game/v/147268
	/">#472</a>\n\n</BODY>\n</HTML>
STATUS:CONFIRMED
CLASS:PUBLIC
URL:https://www.golnetwork.com/game/v/147268/
X-MICROSOFT-CDO-BUSYSTATUS:BUSY
X-MICROSOFT-CDO-IMPORTANCE:1
END:VEVENT
END:VCALENDAR
