BEGIN:VCALENDAR
PRODID:-//gdesolutions.com//MV Framework 1.0.0.1607 Calendar//EN
VERSION:2.0
METHOD:PUBLISH
CALSCALE:GREGORIAN
BEGIN:VEVENT
UID:gf82p@games.golnetwork.com
LOCATION:Soccer Nation Field (Newmarket SoccerCentre)
GEO:44.0379318;-79.4421489
CREATED:20190909T213604Z
DTSTART:20190910T230000Z
DTEND:20190910T235000Z
DTSTAMP:20260422T065518Z
SUMMARY:Highlighters FC vs. GTFC
DESCRIPTION:GTFC vs. Highlighters FCPlus d'info : #1
X-ALT-DESC;FMTTYPE=text/html:<!DOCTYPE HTML PUBLIC "-//W3C//DTD HTML 3.2//E
	N">\n<HTML>\n<HEAD>\n<TITLE></TITLE>\n</HEAD>\n<BODY>\n<h3>GTFC vs. Highlig
	hters FC</h3>Plus d'info : <a href="https://www.golnetwork.com/game/v/14957
	9/">#1</a>\n\n</BODY>\n</HTML>
STATUS:CONFIRMED
CLASS:PUBLIC
URL:https://www.golnetwork.com/game/v/149579/
X-MICROSOFT-CDO-BUSYSTATUS:BUSY
X-MICROSOFT-CDO-IMPORTANCE:1
END:VEVENT
BEGIN:VEVENT
UID:gf82l@games.golnetwork.com
LOCATION:Align Healthcare Field (Newmarket SoccerCentre)
GEO:44.0379318;-79.4421489
CREATED:20190909T213604Z
DTSTART:20190910T230000Z
DTEND:20190910T235000Z
DTSTAMP:20260422T065518Z
SUMMARY:Re FC vs. 2 Goals 1 Cup
DESCRIPTION:2 Goals 1 Cup vs. Re FCPlus d'info : #2
X-ALT-DESC;FMTTYPE=text/html:<!DOCTYPE HTML PUBLIC "-//W3C//DTD HTML 3.2//E
	N">\n<HTML>\n<HEAD>\n<TITLE></TITLE>\n</HEAD>\n<BODY>\n<h3>2 Goals 1 Cup vs
	. Re FC</h3>Plus d'info : <a href="https://www.golnetwork.com/game/v/149577
	/">#2</a>\n\n</BODY>\n</HTML>
STATUS:CONFIRMED
CLASS:PUBLIC
URL:https://www.golnetwork.com/game/v/149577/
X-MICROSOFT-CDO-BUSYSTATUS:BUSY
X-MICROSOFT-CDO-IMPORTANCE:1
END:VEVENT
BEGIN:VEVENT
UID:gf82n@games.golnetwork.com
LOCATION:Align Healthcare Field (Newmarket SoccerCentre)
GEO:44.0379318;-79.4421489
CREATED:20190909T213604Z
DTSTART:20190911T010000Z
DTEND:20190911T015000Z
DTSTAMP:20260422T065518Z
SUMMARY:KFC vs. Danger Zone FC
DESCRIPTION:Danger Zone FC vs. KFCPlus d'info : #6
X-ALT-DESC;FMTTYPE=text/html:<!DOCTYPE HTML PUBLIC "-//W3C//DTD HTML 3.2//E
	N">\n<HTML>\n<HEAD>\n<TITLE></TITLE>\n</HEAD>\n<BODY>\n<h3>Danger Zone FC v
	s. KFC</h3>Plus d'info : <a href="https://www.golnetwork.com/game/v/149578/
	">#6</a>\n\n</BODY>\n</HTML>
STATUS:CONFIRMED
CLASS:PUBLIC
URL:https://www.golnetwork.com/game/v/149578/
X-MICROSOFT-CDO-BUSYSTATUS:BUSY
X-MICROSOFT-CDO-IMPORTANCE:1
END:VEVENT
BEGIN:VEVENT
UID:gf832@games.golnetwork.com
LOCATION:Align Healthcare Field (Newmarket SoccerCentre)
GEO:44.0379318;-79.4421489
CREATED:20190909T213604Z
DTSTART:20190918T010000Z
DTEND:20190918T015000Z
DTSTAMP:20260422T065518Z
SUMMARY:Highlighters FC vs. 2 Goals 1 Cup
DESCRIPTION:2 Goals 1 Cup vs. Highlighters FCPlus d'info : #14
X-ALT-DESC;FMTTYPE=text/html:<!DOCTYPE HTML PUBLIC "-//W3C//DTD HTML 3.2//E
	N">\n<HTML>\n<HEAD>\n<TITLE></TITLE>\n</HEAD>\n<BODY>\n<h3>2 Goals 1 Cup vs
	. Highlighters FC</h3>Plus d'info : <a href="https://www.golnetwork.com/gam
	e/v/149581/">#14</a>\n\n</BODY>\n</HTML>
STATUS:CONFIRMED
CLASS:PUBLIC
URL:https://www.golnetwork.com/game/v/149581/
X-MICROSOFT-CDO-BUSYSTATUS:BUSY
X-MICROSOFT-CDO-IMPORTANCE:1
END:VEVENT
BEGIN:VEVENT
UID:gf830@games.golnetwork.com
LOCATION:Soccer Nation Field (Newmarket SoccerCentre)
GEO:44.0379318;-79.4421489
CREATED:20190909T213604Z
DTSTART:20190918T020000Z
DTEND:20190918T025000Z
DTSTAMP:20260422T065518Z
SUMMARY:KFC vs. Re FC
DESCRIPTION:Re FC vs. KFCPlus d'info : #15
X-ALT-DESC;FMTTYPE=text/html:<!DOCTYPE HTML PUBLIC "-//W3C//DTD HTML 3.2//E
	N">\n<HTML>\n<HEAD>\n<TITLE></TITLE>\n</HEAD>\n<BODY>\n<h3>Re FC vs. KFC</h
	3>Plus d'info : <a href="https://www.golnetwork.com/game/v/149580/">#15</a>
	\n\n</BODY>\n</HTML>
STATUS:CONFIRMED
CLASS:PUBLIC
URL:https://www.golnetwork.com/game/v/149580/
X-MICROSOFT-CDO-BUSYSTATUS:BUSY
X-MICROSOFT-CDO-IMPORTANCE:1
END:VEVENT
BEGIN:VEVENT
UID:gf834@games.golnetwork.com
LOCATION:Align Healthcare Field (Newmarket SoccerCentre)
GEO:44.0379318;-79.4421489
CREATED:20190909T213604Z
DTSTART:20190918T020000Z
DTEND:20190918T025000Z
DTSTAMP:20260422T065518Z
SUMMARY:GTFC vs. Danger Zone FC
DESCRIPTION:Danger Zone FC vs. GTFCPlus d'info : #16
X-ALT-DESC;FMTTYPE=text/html:<!DOCTYPE HTML PUBLIC "-//W3C//DTD HTML 3.2//E
	N">\n<HTML>\n<HEAD>\n<TITLE></TITLE>\n</HEAD>\n<BODY>\n<h3>Danger Zone FC v
	s. GTFC</h3>Plus d'info : <a href="https://www.golnetwork.com/game/v/149582
	/">#16</a>\n\n</BODY>\n</HTML>
STATUS:CONFIRMED
CLASS:PUBLIC
URL:https://www.golnetwork.com/game/v/149582/
X-MICROSOFT-CDO-BUSYSTATUS:BUSY
X-MICROSOFT-CDO-IMPORTANCE:1
END:VEVENT
BEGIN:VEVENT
UID:gf836@games.golnetwork.com
LOCATION:Soccer Nation Field (Newmarket SoccerCentre)
GEO:44.0379318;-79.4421489
CREATED:20190909T213604Z
DTSTART:20190925T011500Z
DTEND:20190925T020500Z
DTSTAMP:20260422T065518Z
SUMMARY:Re FC vs. Highlighters FC
DESCRIPTION:Highlighters FC vs. Re FCPlus d'info : #21
X-ALT-DESC;FMTTYPE=text/html:<!DOCTYPE HTML PUBLIC "-//W3C//DTD HTML 3.2//E
	N">\n<HTML>\n<HEAD>\n<TITLE></TITLE>\n</HEAD>\n<BODY>\n<h3>Highlighters FC 
	vs. Re FC</h3>Plus d'info : <a href="https://www.golnetwork.com/game/v/1495
	83/">#21</a>\n\n</BODY>\n</HTML>
STATUS:CONFIRMED
CLASS:PUBLIC
URL:https://www.golnetwork.com/game/v/149583/
X-MICROSOFT-CDO-BUSYSTATUS:BUSY
X-MICROSOFT-CDO-IMPORTANCE:1
END:VEVENT
BEGIN:VEVENT
UID:gf838@games.golnetwork.com
LOCATION:Align Healthcare Field (Newmarket SoccerCentre)
GEO:44.0379318;-79.4421489
CREATED:20190909T213604Z
DTSTART:20190925T011500Z
DTEND:20190925T020500Z
DTSTAMP:20260422T065518Z
SUMMARY:GTFC vs. KFC
DESCRIPTION:KFC vs. GTFCPlus d'info : #22
X-ALT-DESC;FMTTYPE=text/html:<!DOCTYPE HTML PUBLIC "-//W3C//DTD HTML 3.2//E
	N">\n<HTML>\n<HEAD>\n<TITLE></TITLE>\n</HEAD>\n<BODY>\n<h3>KFC vs. GTFC</h3
	>Plus d'info : <a href="https://www.golnetwork.com/game/v/149584/">#22</a>\
	n\n</BODY>\n</HTML>
STATUS:CONFIRMED
CLASS:PUBLIC
URL:https://www.golnetwork.com/game/v/149584/
X-MICROSOFT-CDO-BUSYSTATUS:BUSY
X-MICROSOFT-CDO-IMPORTANCE:1
END:VEVENT
BEGIN:VEVENT
UID:gf83a@games.golnetwork.com
LOCATION:Align Healthcare Field (Newmarket SoccerCentre)
GEO:44.0379318;-79.4421489
CREATED:20190909T213604Z
DTSTART:20190925T021500Z
DTEND:20190925T030500Z
DTSTAMP:20260422T065518Z
SUMMARY:Danger Zone FC vs. 2 Goals 1 Cup
DESCRIPTION:2 Goals 1 Cup vs. Danger Zone FCPlus d'info : #24
X-ALT-DESC;FMTTYPE=text/html:<!DOCTYPE HTML PUBLIC "-//W3C//DTD HTML 3.2//E
	N">\n<HTML>\n<HEAD>\n<TITLE></TITLE>\n</HEAD>\n<BODY>\n<h3>2 Goals 1 Cup vs
	. Danger Zone FC</h3>Plus d'info : <a href="https://www.golnetwork.com/game
	/v/149585/">#24</a>\n\n</BODY>\n</HTML>
STATUS:CONFIRMED
CLASS:PUBLIC
URL:https://www.golnetwork.com/game/v/149585/
X-MICROSOFT-CDO-BUSYSTATUS:BUSY
X-MICROSOFT-CDO-IMPORTANCE:1
END:VEVENT
BEGIN:VEVENT
UID:gf83c@games.golnetwork.com
LOCATION:Align Healthcare Field (Newmarket SoccerCentre)
GEO:44.0379318;-79.4421489
CREATED:20190909T213604Z
DTSTART:20191002T000000Z
DTEND:20191002T005000Z
DTSTAMP:20260422T065518Z
SUMMARY:GTFC vs. Re FC
DESCRIPTION:Re FC vs. GTFCPlus d'info : #26
X-ALT-DESC;FMTTYPE=text/html:<!DOCTYPE HTML PUBLIC "-//W3C//DTD HTML 3.2//E
	N">\n<HTML>\n<HEAD>\n<TITLE></TITLE>\n</HEAD>\n<BODY>\n<h3>Re FC vs. GTFC</
	h3>Plus d'info : <a href="https://www.golnetwork.com/game/v/149586/">#26</a
	>\n\n</BODY>\n</HTML>
STATUS:CONFIRMED
CLASS:PUBLIC
URL:https://www.golnetwork.com/game/v/149586/
X-MICROSOFT-CDO-BUSYSTATUS:BUSY
X-MICROSOFT-CDO-IMPORTANCE:1
END:VEVENT
BEGIN:VEVENT
UID:gf83e@games.golnetwork.com
LOCATION:Align Healthcare Field (Newmarket SoccerCentre)
GEO:44.0379318;-79.4421489
CREATED:20190909T213604Z
DTSTART:20191002T010000Z
DTEND:20191002T015000Z
DTSTAMP:20260422T065518Z
SUMMARY:Danger Zone FC vs. Highlighters FC
DESCRIPTION:Highlighters FC vs. Danger Zone FCPlus d'info : #28
X-ALT-DESC;FMTTYPE=text/html:<!DOCTYPE HTML PUBLIC "-//W3C//DTD HTML 3.2//E
	N">\n<HTML>\n<HEAD>\n<TITLE></TITLE>\n</HEAD>\n<BODY>\n<h3>Highlighters FC 
	vs. Danger Zone FC</h3>Plus d'info : <a href="https://www.golnetwork.com/ga
	me/v/149587/">#28</a>\n\n</BODY>\n</HTML>
STATUS:CONFIRMED
CLASS:PUBLIC
URL:https://www.golnetwork.com/game/v/149587/
X-MICROSOFT-CDO-BUSYSTATUS:BUSY
X-MICROSOFT-CDO-IMPORTANCE:1
END:VEVENT
BEGIN:VEVENT
UID:gf83g@games.golnetwork.com
LOCATION:Align Healthcare Field (Newmarket SoccerCentre)
GEO:44.0379318;-79.4421489
CREATED:20190909T213604Z
DTSTART:20191002T020000Z
DTEND:20191002T025000Z
DTSTAMP:20260422T065518Z
SUMMARY:2 Goals 1 Cup vs. KFC
DESCRIPTION:KFC vs. 2 Goals 1 CupPlus d'info : #30
X-ALT-DESC;FMTTYPE=text/html:<!DOCTYPE HTML PUBLIC "-//W3C//DTD HTML 3.2//E
	N">\n<HTML>\n<HEAD>\n<TITLE></TITLE>\n</HEAD>\n<BODY>\n<h3>KFC vs. 2 Goals 
	1 Cup</h3>Plus d'info : <a href="https://www.golnetwork.com/game/v/149588/"
	>#30</a>\n\n</BODY>\n</HTML>
STATUS:CONFIRMED
CLASS:PUBLIC
URL:https://www.golnetwork.com/game/v/149588/
X-MICROSOFT-CDO-BUSYSTATUS:BUSY
X-MICROSOFT-CDO-IMPORTANCE:1
END:VEVENT
BEGIN:VEVENT
UID:gf83i@games.golnetwork.com
LOCATION:Align Healthcare Field (Newmarket SoccerCentre)
GEO:44.0379318;-79.4421489
CREATED:20190909T213604Z
DTSTART:20191009T000000Z
DTEND:20191009T005000Z
DTSTAMP:20260422T065518Z
SUMMARY:Re FC vs. Danger Zone FC
DESCRIPTION:Danger Zone FC vs. Re FCPlus d'info : #32
X-ALT-DESC;FMTTYPE=text/html:<!DOCTYPE HTML PUBLIC "-//W3C//DTD HTML 3.2//E
	N">\n<HTML>\n<HEAD>\n<TITLE></TITLE>\n</HEAD>\n<BODY>\n<h3>Danger Zone FC v
	s. Re FC</h3>Plus d'info : <a href="https://www.golnetwork.com/game/v/14958
	9/">#32</a>\n\n</BODY>\n</HTML>
STATUS:CONFIRMED
CLASS:PUBLIC
URL:https://www.golnetwork.com/game/v/149589/
X-MICROSOFT-CDO-BUSYSTATUS:BUSY
X-MICROSOFT-CDO-IMPORTANCE:1
END:VEVENT
BEGIN:VEVENT
UID:gf83k@games.golnetwork.com
LOCATION:Align Healthcare Field (Newmarket SoccerCentre)
GEO:44.0379318;-79.4421489
CREATED:20190909T213604Z
DTSTART:20191009T010000Z
DTEND:20191009T015000Z
DTSTAMP:20260422T065518Z
SUMMARY:2 Goals 1 Cup vs. GTFC
DESCRIPTION:GTFC vs. 2 Goals 1 CupPlus d'info : #34
X-ALT-DESC;FMTTYPE=text/html:<!DOCTYPE HTML PUBLIC "-//W3C//DTD HTML 3.2//E
	N">\n<HTML>\n<HEAD>\n<TITLE></TITLE>\n</HEAD>\n<BODY>\n<h3>GTFC vs. 2 Goals
	 1 Cup</h3>Plus d'info : <a href="https://www.golnetwork.com/game/v/149590/
	">#34</a>\n\n</BODY>\n</HTML>
STATUS:CONFIRMED
CLASS:PUBLIC
URL:https://www.golnetwork.com/game/v/149590/
X-MICROSOFT-CDO-BUSYSTATUS:BUSY
X-MICROSOFT-CDO-IMPORTANCE:1
END:VEVENT
BEGIN:VEVENT
UID:gf83m@games.golnetwork.com
LOCATION:Align Healthcare Field (Newmarket SoccerCentre)
GEO:44.0379318;-79.4421489
CREATED:20190909T213604Z
DTSTART:20191009T020000Z
DTEND:20191009T025000Z
DTSTAMP:20260422T065518Z
SUMMARY:KFC vs. Highlighters FC
DESCRIPTION:Highlighters FC vs. KFCPlus d'info : #36
X-ALT-DESC;FMTTYPE=text/html:<!DOCTYPE HTML PUBLIC "-//W3C//DTD HTML 3.2//E
	N">\n<HTML>\n<HEAD>\n<TITLE></TITLE>\n</HEAD>\n<BODY>\n<h3>Highlighters FC 
	vs. KFC</h3>Plus d'info : <a href="https://www.golnetwork.com/game/v/149591
	/">#36</a>\n\n</BODY>\n</HTML>
STATUS:CONFIRMED
CLASS:PUBLIC
URL:https://www.golnetwork.com/game/v/149591/
X-MICROSOFT-CDO-BUSYSTATUS:BUSY
X-MICROSOFT-CDO-IMPORTANCE:1
END:VEVENT
BEGIN:VEVENT
UID:gf83q@games.golnetwork.com
LOCATION:Align Healthcare Field (Newmarket SoccerCentre)
GEO:44.0379318;-79.4421489
CREATED:20190909T213604Z
DTSTART:20191016T000000Z
DTEND:20191016T005000Z
DTSTAMP:20260422T065518Z
SUMMARY:KFC vs. Danger Zone FC
DESCRIPTION:Danger Zone FC vs. KFCPlus d'info : #38
X-ALT-DESC;FMTTYPE=text/html:<!DOCTYPE HTML PUBLIC "-//W3C//DTD HTML 3.2//E
	N">\n<HTML>\n<HEAD>\n<TITLE></TITLE>\n</HEAD>\n<BODY>\n<h3>Danger Zone FC v
	s. KFC</h3>Plus d'info : <a href="https://www.golnetwork.com/game/v/149593/
	">#38</a>\n\n</BODY>\n</HTML>
STATUS:CONFIRMED
CLASS:PUBLIC
URL:https://www.golnetwork.com/game/v/149593/
X-MICROSOFT-CDO-BUSYSTATUS:BUSY
X-MICROSOFT-CDO-IMPORTANCE:1
END:VEVENT
BEGIN:VEVENT
UID:gf83o@games.golnetwork.com
LOCATION:Align Healthcare Field (Newmarket SoccerCentre)
GEO:44.0379318;-79.4421489
CREATED:20190909T213604Z
DTSTART:20191016T010000Z
DTEND:20191016T015000Z
DTSTAMP:20260422T065518Z
SUMMARY:Re FC vs. 2 Goals 1 Cup
DESCRIPTION:2 Goals 1 Cup vs. Re FCPlus d'info : #40
X-ALT-DESC;FMTTYPE=text/html:<!DOCTYPE HTML PUBLIC "-//W3C//DTD HTML 3.2//E
	N">\n<HTML>\n<HEAD>\n<TITLE></TITLE>\n</HEAD>\n<BODY>\n<h3>2 Goals 1 Cup vs
	. Re FC</h3>Plus d'info : <a href="https://www.golnetwork.com/game/v/149592
	/">#40</a>\n\n</BODY>\n</HTML>
STATUS:CONFIRMED
CLASS:PUBLIC
URL:https://www.golnetwork.com/game/v/149592/
X-MICROSOFT-CDO-BUSYSTATUS:BUSY
X-MICROSOFT-CDO-IMPORTANCE:1
END:VEVENT
BEGIN:VEVENT
UID:gf841@games.golnetwork.com
LOCATION:Align Healthcare Field (Newmarket SoccerCentre)
GEO:44.0379318;-79.4421489
CREATED:20190909T213604Z
DTSTART:20191016T020000Z
DTEND:20191016T025000Z
DTSTAMP:20260422T065518Z
SUMMARY:Highlighters FC vs. GTFC
DESCRIPTION:GTFC vs. Highlighters FCPlus d'info : #42
X-ALT-DESC;FMTTYPE=text/html:<!DOCTYPE HTML PUBLIC "-//W3C//DTD HTML 3.2//E
	N">\n<HTML>\n<HEAD>\n<TITLE></TITLE>\n</HEAD>\n<BODY>\n<h3>GTFC vs. Highlig
	hters FC</h3>Plus d'info : <a href="https://www.golnetwork.com/game/v/14959
	4/">#42</a>\n\n</BODY>\n</HTML>
STATUS:CONFIRMED
CLASS:PUBLIC
URL:https://www.golnetwork.com/game/v/149594/
X-MICROSOFT-CDO-BUSYSTATUS:BUSY
X-MICROSOFT-CDO-IMPORTANCE:1
END:VEVENT
BEGIN:VEVENT
UID:gf847@games.golnetwork.com
LOCATION:Align Healthcare Field (Newmarket SoccerCentre)
GEO:44.0379318;-79.4421489
CREATED:20190909T213604Z
DTSTART:20191023T000000Z
DTEND:20191023T005000Z
DTSTAMP:20260422T065518Z
SUMMARY:GTFC vs. Danger Zone FC
DESCRIPTION:Danger Zone FC vs. GTFCPlus d'info : #44
X-ALT-DESC;FMTTYPE=text/html:<!DOCTYPE HTML PUBLIC "-//W3C//DTD HTML 3.2//E
	N">\n<HTML>\n<HEAD>\n<TITLE></TITLE>\n</HEAD>\n<BODY>\n<h3>Danger Zone FC v
	s. GTFC</h3>Plus d'info : <a href="https://www.golnetwork.com/game/v/149597
	/">#44</a>\n\n</BODY>\n</HTML>
STATUS:CONFIRMED
CLASS:PUBLIC
URL:https://www.golnetwork.com/game/v/149597/
X-MICROSOFT-CDO-BUSYSTATUS:BUSY
X-MICROSOFT-CDO-IMPORTANCE:1
END:VEVENT
BEGIN:VEVENT
UID:gf843@games.golnetwork.com
LOCATION:Align Healthcare Field (Newmarket SoccerCentre)
GEO:44.0379318;-79.4421489
CREATED:20190909T213604Z
DTSTART:20191023T010000Z
DTEND:20191023T015000Z
DTSTAMP:20260422T065518Z
SUMMARY:KFC vs. Re FC
DESCRIPTION:Re FC vs. KFCPlus d'info : #46
X-ALT-DESC;FMTTYPE=text/html:<!DOCTYPE HTML PUBLIC "-//W3C//DTD HTML 3.2//E
	N">\n<HTML>\n<HEAD>\n<TITLE></TITLE>\n</HEAD>\n<BODY>\n<h3>Re FC vs. KFC</h
	3>Plus d'info : <a href="https://www.golnetwork.com/game/v/149595/">#46</a>
	\n\n</BODY>\n</HTML>
STATUS:CONFIRMED
CLASS:PUBLIC
URL:https://www.golnetwork.com/game/v/149595/
X-MICROSOFT-CDO-BUSYSTATUS:BUSY
X-MICROSOFT-CDO-IMPORTANCE:1
END:VEVENT
BEGIN:VEVENT
UID:gf845@games.golnetwork.com
LOCATION:Align Healthcare Field (Newmarket SoccerCentre)
GEO:44.0379318;-79.4421489
CREATED:20190909T213604Z
DTSTART:20191023T020000Z
DTEND:20191023T025000Z
DTSTAMP:20260422T065518Z
SUMMARY:Highlighters FC vs. 2 Goals 1 Cup
DESCRIPTION:2 Goals 1 Cup vs. Highlighters FCPlus d'info : #48
X-ALT-DESC;FMTTYPE=text/html:<!DOCTYPE HTML PUBLIC "-//W3C//DTD HTML 3.2//E
	N">\n<HTML>\n<HEAD>\n<TITLE></TITLE>\n</HEAD>\n<BODY>\n<h3>2 Goals 1 Cup vs
	. Highlighters FC</h3>Plus d'info : <a href="https://www.golnetwork.com/gam
	e/v/149596/">#48</a>\n\n</BODY>\n</HTML>
STATUS:CONFIRMED
CLASS:PUBLIC
URL:https://www.golnetwork.com/game/v/149596/
X-MICROSOFT-CDO-BUSYSTATUS:BUSY
X-MICROSOFT-CDO-IMPORTANCE:1
END:VEVENT
BEGIN:VEVENT
UID:gf849@games.golnetwork.com
LOCATION:Align Healthcare Field (Newmarket SoccerCentre)
GEO:44.0379318;-79.4421489
CREATED:20190909T213604Z
DTSTART:20191030T000000Z
DTEND:20191030T005000Z
DTSTAMP:20260422T065518Z
SUMMARY:Re FC vs. Highlighters FC
DESCRIPTION:Highlighters FC vs. Re FCPlus d'info : #50
X-ALT-DESC;FMTTYPE=text/html:<!DOCTYPE HTML PUBLIC "-//W3C//DTD HTML 3.2//E
	N">\n<HTML>\n<HEAD>\n<TITLE></TITLE>\n</HEAD>\n<BODY>\n<h3>Highlighters FC 
	vs. Re FC</h3>Plus d'info : <a href="https://www.golnetwork.com/game/v/1495
	98/">#50</a>\n\n</BODY>\n</HTML>
STATUS:CONFIRMED
CLASS:PUBLIC
URL:https://www.golnetwork.com/game/v/149598/
X-MICROSOFT-CDO-BUSYSTATUS:BUSY
X-MICROSOFT-CDO-IMPORTANCE:1
END:VEVENT
BEGIN:VEVENT
UID:gf84b@games.golnetwork.com
LOCATION:Align Healthcare Field (Newmarket SoccerCentre)
GEO:44.0379318;-79.4421489
CREATED:20190909T213604Z
DTSTART:20191030T010000Z
DTEND:20191030T015000Z
DTSTAMP:20260422T065518Z
SUMMARY:GTFC vs. KFC
DESCRIPTION:KFC vs. GTFCPlus d'info : #52
X-ALT-DESC;FMTTYPE=text/html:<!DOCTYPE HTML PUBLIC "-//W3C//DTD HTML 3.2//E
	N">\n<HTML>\n<HEAD>\n<TITLE></TITLE>\n</HEAD>\n<BODY>\n<h3>KFC vs. GTFC</h3
	>Plus d'info : <a href="https://www.golnetwork.com/game/v/149599/">#52</a>\
	n\n</BODY>\n</HTML>
STATUS:CONFIRMED
CLASS:PUBLIC
URL:https://www.golnetwork.com/game/v/149599/
X-MICROSOFT-CDO-BUSYSTATUS:BUSY
X-MICROSOFT-CDO-IMPORTANCE:1
END:VEVENT
BEGIN:VEVENT
UID:gf84d@games.golnetwork.com
LOCATION:Align Healthcare Field (Newmarket SoccerCentre)
GEO:44.0379318;-79.4421489
CREATED:20190909T213604Z
DTSTART:20191030T020000Z
DTEND:20191030T025000Z
DTSTAMP:20260422T065518Z
SUMMARY:Danger Zone FC vs. 2 Goals 1 Cup
DESCRIPTION:2 Goals 1 Cup vs. Danger Zone FCPlus d'info : #54
X-ALT-DESC;FMTTYPE=text/html:<!DOCTYPE HTML PUBLIC "-//W3C//DTD HTML 3.2//E
	N">\n<HTML>\n<HEAD>\n<TITLE></TITLE>\n</HEAD>\n<BODY>\n<h3>2 Goals 1 Cup vs
	. Danger Zone FC</h3>Plus d'info : <a href="https://www.golnetwork.com/game
	/v/149600/">#54</a>\n\n</BODY>\n</HTML>
STATUS:CONFIRMED
CLASS:PUBLIC
URL:https://www.golnetwork.com/game/v/149600/
X-MICROSOFT-CDO-BUSYSTATUS:BUSY
X-MICROSOFT-CDO-IMPORTANCE:1
END:VEVENT
BEGIN:VEVENT
UID:gf84j@games.golnetwork.com
LOCATION:Align Healthcare Field (Newmarket SoccerCentre)
GEO:44.0379318;-79.4421489
CREATED:20190909T213604Z
DTSTART:20191106T010000Z
DTEND:20191106T015000Z
DTSTAMP:20260422T065518Z
SUMMARY:2 Goals 1 Cup vs. KFC
DESCRIPTION:KFC vs. 2 Goals 1 CupPlus d'info : #56
X-ALT-DESC;FMTTYPE=text/html:<!DOCTYPE HTML PUBLIC "-//W3C//DTD HTML 3.2//E
	N">\n<HTML>\n<HEAD>\n<TITLE></TITLE>\n</HEAD>\n<BODY>\n<h3>KFC vs. 2 Goals 
	1 Cup</h3>Plus d'info : <a href="https://www.golnetwork.com/game/v/149603/"
	>#56</a>\n\n</BODY>\n</HTML>
STATUS:CONFIRMED
CLASS:PUBLIC
URL:https://www.golnetwork.com/game/v/149603/
X-MICROSOFT-CDO-BUSYSTATUS:BUSY
X-MICROSOFT-CDO-IMPORTANCE:1
END:VEVENT
BEGIN:VEVENT
UID:gf84h@games.golnetwork.com
LOCATION:Align Healthcare Field (Newmarket SoccerCentre)
GEO:44.0379318;-79.4421489
CREATED:20190909T213604Z
DTSTART:20191106T020000Z
DTEND:20191106T025000Z
DTSTAMP:20260422T065518Z
SUMMARY:Danger Zone FC vs. Highlighters FC
DESCRIPTION:Highlighters FC vs. Danger Zone FCPlus d'info : #58
X-ALT-DESC;FMTTYPE=text/html:<!DOCTYPE HTML PUBLIC "-//W3C//DTD HTML 3.2//E
	N">\n<HTML>\n<HEAD>\n<TITLE></TITLE>\n</HEAD>\n<BODY>\n<h3>Highlighters FC 
	vs. Danger Zone FC</h3>Plus d'info : <a href="https://www.golnetwork.com/ga
	me/v/149602/">#58</a>\n\n</BODY>\n</HTML>
STATUS:CONFIRMED
CLASS:PUBLIC
URL:https://www.golnetwork.com/game/v/149602/
X-MICROSOFT-CDO-BUSYSTATUS:BUSY
X-MICROSOFT-CDO-IMPORTANCE:1
END:VEVENT
BEGIN:VEVENT
UID:gf84f@games.golnetwork.com
LOCATION:Align Healthcare Field (Newmarket SoccerCentre)
GEO:44.0379318;-79.4421489
CREATED:20190909T213604Z
DTSTART:20191106T030000Z
DTEND:20191106T035000Z
DTSTAMP:20260422T065518Z
SUMMARY:GTFC vs. Re FC
DESCRIPTION:Re FC vs. GTFCPlus d'info : #60
X-ALT-DESC;FMTTYPE=text/html:<!DOCTYPE HTML PUBLIC "-//W3C//DTD HTML 3.2//E
	N">\n<HTML>\n<HEAD>\n<TITLE></TITLE>\n</HEAD>\n<BODY>\n<h3>Re FC vs. GTFC</
	h3>Plus d'info : <a href="https://www.golnetwork.com/game/v/149601/">#60</a
	>\n\n</BODY>\n</HTML>
STATUS:CONFIRMED
CLASS:PUBLIC
URL:https://www.golnetwork.com/game/v/149601/
X-MICROSOFT-CDO-BUSYSTATUS:BUSY
X-MICROSOFT-CDO-IMPORTANCE:1
END:VEVENT
BEGIN:VEVENT
UID:gf84l@games.golnetwork.com
LOCATION:Align Healthcare Field (Newmarket SoccerCentre)
GEO:44.0379318;-79.4421489
CREATED:20190909T213604Z
DTSTART:20191113T010000Z
DTEND:20191113T015000Z
DTSTAMP:20260422T065518Z
SUMMARY:Re FC vs. Danger Zone FC
DESCRIPTION:Danger Zone FC vs. Re FCPlus d'info : #62
X-ALT-DESC;FMTTYPE=text/html:<!DOCTYPE HTML PUBLIC "-//W3C//DTD HTML 3.2//E
	N">\n<HTML>\n<HEAD>\n<TITLE></TITLE>\n</HEAD>\n<BODY>\n<h3>Danger Zone FC v
	s. Re FC</h3>Plus d'info : <a href="https://www.golnetwork.com/game/v/14960
	4/">#62</a>\n\n</BODY>\n</HTML>
STATUS:CONFIRMED
CLASS:PUBLIC
URL:https://www.golnetwork.com/game/v/149604/
X-MICROSOFT-CDO-BUSYSTATUS:BUSY
X-MICROSOFT-CDO-IMPORTANCE:1
END:VEVENT
BEGIN:VEVENT
UID:gf84n@games.golnetwork.com
LOCATION:Align Healthcare Field (Newmarket SoccerCentre)
GEO:44.0379318;-79.4421489
CREATED:20190909T213604Z
DTSTART:20191113T020000Z
DTEND:20191113T025000Z
DTSTAMP:20260422T065518Z
SUMMARY:2 Goals 1 Cup vs. GTFC
DESCRIPTION:GTFC vs. 2 Goals 1 CupPlus d'info : #64
X-ALT-DESC;FMTTYPE=text/html:<!DOCTYPE HTML PUBLIC "-//W3C//DTD HTML 3.2//E
	N">\n<HTML>\n<HEAD>\n<TITLE></TITLE>\n</HEAD>\n<BODY>\n<h3>GTFC vs. 2 Goals
	 1 Cup</h3>Plus d'info : <a href="https://www.golnetwork.com/game/v/149605/
	">#64</a>\n\n</BODY>\n</HTML>
STATUS:CONFIRMED
CLASS:PUBLIC
URL:https://www.golnetwork.com/game/v/149605/
X-MICROSOFT-CDO-BUSYSTATUS:BUSY
X-MICROSOFT-CDO-IMPORTANCE:1
END:VEVENT
BEGIN:VEVENT
UID:gf84p@games.golnetwork.com
LOCATION:Align Healthcare Field (Newmarket SoccerCentre)
GEO:44.0379318;-79.4421489
CREATED:20190909T213604Z
DTSTART:20191113T030000Z
DTEND:20191113T035000Z
DTSTAMP:20260422T065518Z
SUMMARY:KFC vs. Highlighters FC
DESCRIPTION:Highlighters FC vs. KFCPlus d'info : #66
X-ALT-DESC;FMTTYPE=text/html:<!DOCTYPE HTML PUBLIC "-//W3C//DTD HTML 3.2//E
	N">\n<HTML>\n<HEAD>\n<TITLE></TITLE>\n</HEAD>\n<BODY>\n<h3>Highlighters FC 
	vs. KFC</h3>Plus d'info : <a href="https://www.golnetwork.com/game/v/149606
	/">#66</a>\n\n</BODY>\n</HTML>
STATUS:CONFIRMED
CLASS:PUBLIC
URL:https://www.golnetwork.com/game/v/149606/
X-MICROSOFT-CDO-BUSYSTATUS:BUSY
X-MICROSOFT-CDO-IMPORTANCE:1
END:VEVENT
BEGIN:VEVENT
UID:gf854@games.golnetwork.com
LOCATION:Align Healthcare Field (Newmarket SoccerCentre)
GEO:44.0379318;-79.4421489
CREATED:20190909T213604Z
DTSTART:20191120T010000Z
DTEND:20191120T015000Z
DTSTAMP:20260422T065518Z
SUMMARY:Highlighters FC vs. GTFC
DESCRIPTION:GTFC vs. Highlighters FCPlus d'info : #68
X-ALT-DESC;FMTTYPE=text/html:<!DOCTYPE HTML PUBLIC "-//W3C//DTD HTML 3.2//E
	N">\n<HTML>\n<HEAD>\n<TITLE></TITLE>\n</HEAD>\n<BODY>\n<h3>GTFC vs. Highlig
	hters FC</h3>Plus d'info : <a href="https://www.golnetwork.com/game/v/14960
	9/">#68</a>\n\n</BODY>\n</HTML>
STATUS:CONFIRMED
CLASS:PUBLIC
URL:https://www.golnetwork.com/game/v/149609/
X-MICROSOFT-CDO-BUSYSTATUS:BUSY
X-MICROSOFT-CDO-IMPORTANCE:1
END:VEVENT
BEGIN:VEVENT
UID:gf852@games.golnetwork.com
LOCATION:Align Healthcare Field (Newmarket SoccerCentre)
GEO:44.0379318;-79.4421489
CREATED:20190909T213604Z
DTSTART:20191120T020000Z
DTEND:20191120T025000Z
DTSTAMP:20260422T065518Z
SUMMARY:KFC vs. Danger Zone FC
DESCRIPTION:Danger Zone FC vs. KFCPlus d'info : #70
X-ALT-DESC;FMTTYPE=text/html:<!DOCTYPE HTML PUBLIC "-//W3C//DTD HTML 3.2//E
	N">\n<HTML>\n<HEAD>\n<TITLE></TITLE>\n</HEAD>\n<BODY>\n<h3>Danger Zone FC v
	s. KFC</h3>Plus d'info : <a href="https://www.golnetwork.com/game/v/149608/
	">#70</a>\n\n</BODY>\n</HTML>
STATUS:CONFIRMED
CLASS:PUBLIC
URL:https://www.golnetwork.com/game/v/149608/
X-MICROSOFT-CDO-BUSYSTATUS:BUSY
X-MICROSOFT-CDO-IMPORTANCE:1
END:VEVENT
BEGIN:VEVENT
UID:gf850@games.golnetwork.com
LOCATION:Align Healthcare Field (Newmarket SoccerCentre)
GEO:44.0379318;-79.4421489
CREATED:20190909T213604Z
DTSTART:20191120T030000Z
DTEND:20191120T035000Z
DTSTAMP:20260422T065518Z
SUMMARY:Re FC vs. 2 Goals 1 Cup
DESCRIPTION:2 Goals 1 Cup vs. Re FCPlus d'info : #72
X-ALT-DESC;FMTTYPE=text/html:<!DOCTYPE HTML PUBLIC "-//W3C//DTD HTML 3.2//E
	N">\n<HTML>\n<HEAD>\n<TITLE></TITLE>\n</HEAD>\n<BODY>\n<h3>2 Goals 1 Cup vs
	. Re FC</h3>Plus d'info : <a href="https://www.golnetwork.com/game/v/149607
	/">#72</a>\n\n</BODY>\n</HTML>
STATUS:CONFIRMED
CLASS:PUBLIC
URL:https://www.golnetwork.com/game/v/149607/
X-MICROSOFT-CDO-BUSYSTATUS:BUSY
X-MICROSOFT-CDO-IMPORTANCE:1
END:VEVENT
BEGIN:VEVENT
UID:gf856@games.golnetwork.com
LOCATION:Align Healthcare Field (Newmarket SoccerCentre)
GEO:44.0379318;-79.4421489
CREATED:20190909T213604Z
DTSTART:20191127T010000Z
DTEND:20191127T015000Z
DTSTAMP:20260422T065518Z
SUMMARY:KFC vs. Re FC
DESCRIPTION:Re FC vs. KFCPlus d'info : #74
X-ALT-DESC;FMTTYPE=text/html:<!DOCTYPE HTML PUBLIC "-//W3C//DTD HTML 3.2//E
	N">\n<HTML>\n<HEAD>\n<TITLE></TITLE>\n</HEAD>\n<BODY>\n<h3>Re FC vs. KFC</h
	3>Plus d'info : <a href="https://www.golnetwork.com/game/v/149610/">#74</a>
	\n\n</BODY>\n</HTML>
STATUS:CONFIRMED
CLASS:PUBLIC
URL:https://www.golnetwork.com/game/v/149610/
X-MICROSOFT-CDO-BUSYSTATUS:BUSY
X-MICROSOFT-CDO-IMPORTANCE:1
END:VEVENT
BEGIN:VEVENT
UID:gf858@games.golnetwork.com
LOCATION:Align Healthcare Field (Newmarket SoccerCentre)
GEO:44.0379318;-79.4421489
CREATED:20190909T213604Z
DTSTART:20191127T020000Z
DTEND:20191127T025000Z
DTSTAMP:20260422T065518Z
SUMMARY:Highlighters FC vs. 2 Goals 1 Cup
DESCRIPTION:2 Goals 1 Cup vs. Highlighters FCPlus d'info : #76
X-ALT-DESC;FMTTYPE=text/html:<!DOCTYPE HTML PUBLIC "-//W3C//DTD HTML 3.2//E
	N">\n<HTML>\n<HEAD>\n<TITLE></TITLE>\n</HEAD>\n<BODY>\n<h3>2 Goals 1 Cup vs
	. Highlighters FC</h3>Plus d'info : <a href="https://www.golnetwork.com/gam
	e/v/149611/">#76</a>\n\n</BODY>\n</HTML>
STATUS:CONFIRMED
CLASS:PUBLIC
URL:https://www.golnetwork.com/game/v/149611/
X-MICROSOFT-CDO-BUSYSTATUS:BUSY
X-MICROSOFT-CDO-IMPORTANCE:1
END:VEVENT
BEGIN:VEVENT
UID:gf85a@games.golnetwork.com
LOCATION:Align Healthcare Field (Newmarket SoccerCentre)
GEO:44.0379318;-79.4421489
CREATED:20190909T213604Z
DTSTART:20191127T030000Z
DTEND:20191127T035000Z
DTSTAMP:20260422T065518Z
SUMMARY:GTFC vs. Danger Zone FC
DESCRIPTION:Danger Zone FC vs. GTFCPlus d'info : #78
X-ALT-DESC;FMTTYPE=text/html:<!DOCTYPE HTML PUBLIC "-//W3C//DTD HTML 3.2//E
	N">\n<HTML>\n<HEAD>\n<TITLE></TITLE>\n</HEAD>\n<BODY>\n<h3>Danger Zone FC v
	s. GTFC</h3>Plus d'info : <a href="https://www.golnetwork.com/game/v/149612
	/">#78</a>\n\n</BODY>\n</HTML>
STATUS:CONFIRMED
CLASS:PUBLIC
URL:https://www.golnetwork.com/game/v/149612/
X-MICROSOFT-CDO-BUSYSTATUS:BUSY
X-MICROSOFT-CDO-IMPORTANCE:1
END:VEVENT
END:VCALENDAR
