BEGIN:VCALENDAR
PRODID:-//gdesolutions.com//MV Framework 1.0.0.1607 Calendar//EN
VERSION:2.0
METHOD:PUBLISH
CALSCALE:GREGORIAN
BEGIN:VEVENT
UID:gfb3f@games.golnetwork.com
LOCATION:Central Tech - Field 2
GEO:43.6637272;-79.4087613
CREATED:20191009T154251Z
DTSTART:20191119T010000Z
DTEND:20191119T020000Z
DTSTAMP:20260420T000959Z
SUMMARY:Independientes vs. The Team England
DESCRIPTION:The Team England vs. IndependientesPlus d'info : #296
X-ALT-DESC;FMTTYPE=text/html:<!DOCTYPE HTML PUBLIC "-//W3C//DTD HTML 3.2//E
	N">\n<HTML>\n<HEAD>\n<TITLE></TITLE>\n</HEAD>\n<BODY>\n<h3>The Team England
	 vs. Independientes</h3>Plus d'info : <a href="https://www.golnetwork.com/g
	ame/v/150681/">#296</a>\n\n</BODY>\n</HTML>
STATUS:CONFIRMED
CLASS:PUBLIC
URL:https://www.golnetwork.com/game/v/150681/
X-MICROSOFT-CDO-BUSYSTATUS:BUSY
X-MICROSOFT-CDO-IMPORTANCE:1
END:VEVENT
BEGIN:VEVENT
UID:gfb3d@games.golnetwork.com
LOCATION:Central Tech - Field 2
GEO:43.6637272;-79.4087613
CREATED:20191009T154251Z
DTSTART:20191119T020000Z
DTEND:20191119T030000Z
DTSTAMP:20260420T000959Z
SUMMARY:Drinkalots FC vs. Goal-bergine F.C.
DESCRIPTION:Goal-bergine F.C. vs. Drinkalots FCPlus d'info : #300
X-ALT-DESC;FMTTYPE=text/html:<!DOCTYPE HTML PUBLIC "-//W3C//DTD HTML 3.2//E
	N">\n<HTML>\n<HEAD>\n<TITLE></TITLE>\n</HEAD>\n<BODY>\n<h3>Goal-bergine F.C
	. vs. Drinkalots FC</h3>Plus d'info : <a href="https://www.golnetwork.com/g
	ame/v/150680/">#300</a>\n\n</BODY>\n</HTML>
STATUS:CONFIRMED
CLASS:PUBLIC
URL:https://www.golnetwork.com/game/v/150680/
X-MICROSOFT-CDO-BUSYSTATUS:BUSY
X-MICROSOFT-CDO-IMPORTANCE:1
END:VEVENT
BEGIN:VEVENT
UID:gfb3h@games.golnetwork.com
LOCATION:Central Tech - Field 2
GEO:43.6637272;-79.4087613
CREATED:20191009T154251Z
DTSTART:20191126T010000Z
DTEND:20191126T020000Z
DTSTAMP:20260420T000959Z
SUMMARY:The Team England vs. Goal-bergine F.C.
DESCRIPTION:Goal-bergine F.C. vs. The Team EnglandPlus d'info : #370
X-ALT-DESC;FMTTYPE=text/html:<!DOCTYPE HTML PUBLIC "-//W3C//DTD HTML 3.2//E
	N">\n<HTML>\n<HEAD>\n<TITLE></TITLE>\n</HEAD>\n<BODY>\n<h3>Goal-bergine F.C
	. vs. The Team England</h3>Plus d'info : <a href="https://www.golnetwork.co
	m/game/v/150682/">#370</a>\n\n</BODY>\n</HTML>
STATUS:CONFIRMED
CLASS:PUBLIC
URL:https://www.golnetwork.com/game/v/150682/
X-MICROSOFT-CDO-BUSYSTATUS:BUSY
X-MICROSOFT-CDO-IMPORTANCE:1
END:VEVENT
END:VCALENDAR
