BEGIN:VCALENDAR
PRODID:-//gdesolutions.com//MV Framework 1.0.0.1607 Calendar//EN
VERSION:2.0
METHOD:PUBLISH
CALSCALE:GREGORIAN
BEGIN:VEVENT
UID:gfk43@games.golnetwork.com
LOCATION:Central Tech - Field 2
GEO:43.6637272;-79.4087613
CREATED:20191204T183959Z
DTSTART:20200212T020000Z
DTEND:20200212T030000Z
DTSTAMP:20260423T080729Z
SUMMARY:Drinkalots FC vs. Team Awesome
DESCRIPTION:Team Awesome vs. Drinkalots FCPlus d'info : #1118
X-ALT-DESC;FMTTYPE=text/html:<!DOCTYPE HTML PUBLIC "-//W3C//DTD HTML 3.2//E
	N">\n<HTML>\n<HEAD>\n<TITLE></TITLE>\n</HEAD>\n<BODY>\n<h3>Team Awesome vs.
	 Drinkalots FC</h3>Plus d'info : <a href="https://www.golnetwork.com/game/v
	/153969/">#1118</a>\n\n</BODY>\n</HTML>
STATUS:CONFIRMED
CLASS:PUBLIC
URL:https://www.golnetwork.com/game/v/153969/
X-MICROSOFT-CDO-BUSYSTATUS:BUSY
X-MICROSOFT-CDO-IMPORTANCE:1
END:VEVENT
BEGIN:VEVENT
UID:gfk45@games.golnetwork.com
LOCATION:Central Tech - Field 2
GEO:43.6637272;-79.4087613
CREATED:20191204T183959Z
DTSTART:20200212T030000Z
DTEND:20200212T040000Z
DTSTAMP:20260423T080729Z
SUMMARY:All Ballz vs. Amigos FC
DESCRIPTION:Amigos FC vs. All BallzPlus d'info : #1123
X-ALT-DESC;FMTTYPE=text/html:<!DOCTYPE HTML PUBLIC "-//W3C//DTD HTML 3.2//E
	N">\n<HTML>\n<HEAD>\n<TITLE></TITLE>\n</HEAD>\n<BODY>\n<h3>Amigos FC vs. Al
	l Ballz</h3>Plus d'info : <a href="https://www.golnetwork.com/game/v/153970
	/">#1123</a>\n\n</BODY>\n</HTML>
STATUS:CONFIRMED
CLASS:PUBLIC
URL:https://www.golnetwork.com/game/v/153970/
X-MICROSOFT-CDO-BUSYSTATUS:BUSY
X-MICROSOFT-CDO-IMPORTANCE:1
END:VEVENT
BEGIN:VEVENT
UID:gfk47@games.golnetwork.com
LOCATION:Central Tech - Field 3
CREATED:20191204T183959Z
DTSTART:20200219T030000Z
DTEND:20200219T040000Z
DTSTAMP:20260423T080729Z
SUMMARY:Amigos FC vs. Drinkalots FC
DESCRIPTION:Drinkalots FC vs. Amigos FCPlus d'info : #1133
X-ALT-DESC;FMTTYPE=text/html:<!DOCTYPE HTML PUBLIC "-//W3C//DTD HTML 3.2//E
	N">\n<HTML>\n<HEAD>\n<TITLE></TITLE>\n</HEAD>\n<BODY>\n<h3>Drinkalots FC vs
	. Amigos FC</h3>Plus d'info : <a href="https://www.golnetwork.com/game/v/15
	3971/">#1133</a>\n\n</BODY>\n</HTML>
STATUS:CONFIRMED
CLASS:PUBLIC
URL:https://www.golnetwork.com/game/v/153971/
X-MICROSOFT-CDO-BUSYSTATUS:BUSY
X-MICROSOFT-CDO-IMPORTANCE:1
END:VEVENT
END:VCALENDAR
