BEGIN:VCALENDAR
PRODID:-//gdesolutions.com//MV Framework 1.0.0.1607 Calendar//EN
VERSION:2.0
METHOD:PUBLISH
CALSCALE:GREGORIAN
BEGIN:VEVENT
UID:gfk1a@games.golnetwork.com
LOCATION:Jesse Ketchum Public School
GEO:43.6730545;-79.3911034
CREATED:20191204T181515Z
DTSTART:20200211T003000Z
DTEND:20200211T013000Z
DTSTAMP:20260425T235434Z
SUMMARY:Squirtle Squad vs. No Show Joes
DESCRIPTION:No Show Joes vs. Squirtle SquadPlus d'info : #23
X-ALT-DESC;FMTTYPE=text/html:<!DOCTYPE HTML PUBLIC "-//W3C//DTD HTML 3.2//E
	N">\n<HTML>\n<HEAD>\n<TITLE></TITLE>\n</HEAD>\n<BODY>\n<h3>No Show Joes vs.
	 Squirtle Squad</h3>Plus d'info : <a href="https://www.golnetwork.com/game/
	v/153932/">#23</a>\n\n</BODY>\n</HTML>
STATUS:CONFIRMED
CLASS:PUBLIC
URL:https://www.golnetwork.com/game/v/153932/
X-MICROSOFT-CDO-BUSYSTATUS:BUSY
X-MICROSOFT-CDO-IMPORTANCE:1
END:VEVENT
BEGIN:VEVENT
UID:gfk1c@games.golnetwork.com
LOCATION:Jesse Ketchum Public School
GEO:43.6730545;-79.3911034
CREATED:20191204T181515Z
DTSTART:20200211T013000Z
DTEND:20200211T023000Z
DTSTAMP:20260425T235434Z
SUMMARY:The Georgie Porgies vs. Surfing Llamas
DESCRIPTION:Surfing Llamas vs. The Georgie PorgiesPlus d'info : #24
X-ALT-DESC;FMTTYPE=text/html:<!DOCTYPE HTML PUBLIC "-//W3C//DTD HTML 3.2//E
	N">\n<HTML>\n<HEAD>\n<TITLE></TITLE>\n</HEAD>\n<BODY>\n<h3>Surfing Llamas v
	s. The Georgie Porgies</h3>Plus d'info : <a href="https://www.golnetwork.co
	m/game/v/153933/">#24</a>\n\n</BODY>\n</HTML>
STATUS:CONFIRMED
CLASS:PUBLIC
URL:https://www.golnetwork.com/game/v/153933/
X-MICROSOFT-CDO-BUSYSTATUS:BUSY
X-MICROSOFT-CDO-IMPORTANCE:1
END:VEVENT
BEGIN:VEVENT
UID:gfk1e@games.golnetwork.com
LOCATION:Jesse Ketchum Public School
GEO:43.6730545;-79.3911034
CREATED:20191204T181515Z
DTSTART:20200225T003000Z
DTEND:20200225T013000Z
DTSTAMP:20260425T235434Z
SUMMARY:The Georgie Porgies vs. No Show Joes
DESCRIPTION:No Show Joes vs. The Georgie PorgiesPlus d'info : #26
X-ALT-DESC;FMTTYPE=text/html:<!DOCTYPE HTML PUBLIC "-//W3C//DTD HTML 3.2//E
	N">\n<HTML>\n<HEAD>\n<TITLE></TITLE>\n</HEAD>\n<BODY>\n<h3>No Show Joes vs.
	 The Georgie Porgies</h3>Plus d'info : <a href="https://www.golnetwork.com/
	game/v/153934/">#26</a>\n\n</BODY>\n</HTML>
STATUS:CONFIRMED
CLASS:PUBLIC
URL:https://www.golnetwork.com/game/v/153934/
X-MICROSOFT-CDO-BUSYSTATUS:BUSY
X-MICROSOFT-CDO-IMPORTANCE:1
END:VEVENT
END:VCALENDAR
