BEGIN:VCALENDAR
PRODID:-//gdesolutions.com//MV Framework 1.0.0.1607 Calendar//EN
VERSION:2.0
METHOD:PUBLISH
CALSCALE:GREGORIAN
BEGIN:VEVENT
UID:gg163@games.golnetwork.com
LOCATION:Central Tech - Field 2
GEO:43.6637272;-79.4087613
CREATED:20200305T171757Z
DTSTART:20200503T220000Z
DTEND:20200503T230000Z
DTSTAMP:20260421T061322Z
SUMMARY:Ã‰quipe #4 vs. Ã‰quipe #1
DESCRIPTION:Ã‰quipe #1 vs. Ã‰quipe #4Plus d'info : #116
X-ALT-DESC;FMTTYPE=text/html:<!DOCTYPE HTML PUBLIC "-//W3C//DTD HTML 3.2//E
	N">\n<HTML>\n<HEAD>\n<TITLE></TITLE>\n</HEAD>\n<BODY>\n<h3>Ã‰quipe #1 vs. Ã
	‰quipe #4</h3>Plus d'info : <a href="https://www.golnetwork.com/game/v/1569
	12/">#116</a>\n\n</BODY>\n</HTML>
STATUS:CONFIRMED
CLASS:PUBLIC
URL:https://www.golnetwork.com/game/v/156912/
X-MICROSOFT-CDO-BUSYSTATUS:BUSY
X-MICROSOFT-CDO-IMPORTANCE:1
END:VEVENT
BEGIN:VEVENT
UID:gg165@games.golnetwork.com
LOCATION:Central Tech - Field 2
GEO:43.6637272;-79.4087613
CREATED:20200305T171757Z
DTSTART:20200503T230000Z
DTEND:20200504T000000Z
DTSTAMP:20260421T061322Z
SUMMARY:Ã‰quipe #3 vs. Ã‰quipe #2
DESCRIPTION:Ã‰quipe #2 vs. Ã‰quipe #3Plus d'info : #117
X-ALT-DESC;FMTTYPE=text/html:<!DOCTYPE HTML PUBLIC "-//W3C//DTD HTML 3.2//E
	N">\n<HTML>\n<HEAD>\n<TITLE></TITLE>\n</HEAD>\n<BODY>\n<h3>Ã‰quipe #2 vs. Ã
	‰quipe #3</h3>Plus d'info : <a href="https://www.golnetwork.com/game/v/1569
	13/">#117</a>\n\n</BODY>\n</HTML>
STATUS:CONFIRMED
CLASS:PUBLIC
URL:https://www.golnetwork.com/game/v/156913/
X-MICROSOFT-CDO-BUSYSTATUS:BUSY
X-MICROSOFT-CDO-IMPORTANCE:1
END:VEVENT
BEGIN:VEVENT
UID:gg167@games.golnetwork.com
LOCATION:Central Tech - Field 2
GEO:43.6637272;-79.4087613
CREATED:20200305T171757Z
DTSTART:20200511T010000Z
DTEND:20200511T020000Z
DTSTAMP:20260421T061322Z
SUMMARY:ADT* vs. ADT*
DESCRIPTION:ADT* vs. ADT*Plus d'info : #137
X-ALT-DESC;FMTTYPE=text/html:<!DOCTYPE HTML PUBLIC "-//W3C//DTD HTML 3.2//E
	N">\n<HTML>\n<HEAD>\n<TITLE></TITLE>\n</HEAD>\n<BODY>\n<h3>ADT* vs. ADT*</h
	3>Plus d'info : <a href="https://www.golnetwork.com/game/v/156914/">#137</a
	>\n\n</BODY>\n</HTML>
STATUS:CONFIRMED
CLASS:PUBLIC
URL:https://www.golnetwork.com/game/v/156914/
X-MICROSOFT-CDO-BUSYSTATUS:BUSY
X-MICROSOFT-CDO-IMPORTANCE:1
END:VEVENT
END:VCALENDAR
