BEGIN:VCALENDAR
PRODID:-//gdesolutions.com//MV Framework 1.0.0.1607 Calendar//EN
VERSION:2.0
METHOD:PUBLISH
CALSCALE:GREGORIAN
BEGIN:VEVENT
UID:gg143@games.golnetwork.com
LOCATION:Central Tech - Field 2
GEO:43.6637272;-79.4087613
CREATED:20200304T215946Z
DTSTART:20200504T010000Z
DTEND:20200504T020000Z
DTSTAMP:20260422T072741Z
SUMMARY:Ã‰quipe #4 vs. Ã‰quipe #1
DESCRIPTION:Ã‰quipe #1 vs. Ã‰quipe #4Plus d'info : #121
X-ALT-DESC;FMTTYPE=text/html:<!DOCTYPE HTML PUBLIC "-//W3C//DTD HTML 3.2//E
	N">\n<HTML>\n<HEAD>\n<TITLE></TITLE>\n</HEAD>\n<BODY>\n<h3>Ã‰quipe #1 vs. Ã
	‰quipe #4</h3>Plus d'info : <a href="https://www.golnetwork.com/game/v/1568
	85/">#121</a>\n\n</BODY>\n</HTML>
STATUS:CONFIRMED
CLASS:PUBLIC
URL:https://www.golnetwork.com/game/v/156885/
X-MICROSOFT-CDO-BUSYSTATUS:BUSY
X-MICROSOFT-CDO-IMPORTANCE:1
END:VEVENT
BEGIN:VEVENT
UID:gg145@games.golnetwork.com
LOCATION:Central Tech - Field 2
GEO:43.6637272;-79.4087613
CREATED:20200304T215946Z
DTSTART:20200504T020000Z
DTEND:20200504T030000Z
DTSTAMP:20260422T072741Z
SUMMARY:Ã‰quipe #3 vs. Ã‰quipe #2
DESCRIPTION:Ã‰quipe #2 vs. Ã‰quipe #3Plus d'info : #123
X-ALT-DESC;FMTTYPE=text/html:<!DOCTYPE HTML PUBLIC "-//W3C//DTD HTML 3.2//E
	N">\n<HTML>\n<HEAD>\n<TITLE></TITLE>\n</HEAD>\n<BODY>\n<h3>Ã‰quipe #2 vs. Ã
	‰quipe #3</h3>Plus d'info : <a href="https://www.golnetwork.com/game/v/1568
	86/">#123</a>\n\n</BODY>\n</HTML>
STATUS:CONFIRMED
CLASS:PUBLIC
URL:https://www.golnetwork.com/game/v/156886/
X-MICROSOFT-CDO-BUSYSTATUS:BUSY
X-MICROSOFT-CDO-IMPORTANCE:1
END:VEVENT
BEGIN:VEVENT
UID:gg147@games.golnetwork.com
LOCATION:Central Tech - Field 2
GEO:43.6637272;-79.4087613
CREATED:20200304T215946Z
DTSTART:20200510T210000Z
DTEND:20200510T220000Z
DTSTAMP:20260422T072741Z
SUMMARY:ADT* vs. ADT*
DESCRIPTION:ADT* vs. ADT*Plus d'info : #135
X-ALT-DESC;FMTTYPE=text/html:<!DOCTYPE HTML PUBLIC "-//W3C//DTD HTML 3.2//E
	N">\n<HTML>\n<HEAD>\n<TITLE></TITLE>\n</HEAD>\n<BODY>\n<h3>ADT* vs. ADT*</h
	3>Plus d'info : <a href="https://www.golnetwork.com/game/v/156887/">#135</a
	>\n\n</BODY>\n</HTML>
STATUS:CONFIRMED
CLASS:PUBLIC
URL:https://www.golnetwork.com/game/v/156887/
X-MICROSOFT-CDO-BUSYSTATUS:BUSY
X-MICROSOFT-CDO-IMPORTANCE:1
END:VEVENT
END:VCALENDAR
