BEGIN:VCALENDAR
PRODID:-//gdesolutions.com//MV Framework 1.0.0.1607 Calendar//EN
VERSION:2.0
METHOD:PUBLISH
CALSCALE:GREGORIAN
BEGIN:VEVENT
UID:gg0ko@games.golnetwork.com
LOCATION:Central Tech - Field 3
CREATED:20200303T175223Z
DTSTART:20200308T190000Z
DTEND:20200308T200000Z
DTSTAMP:20260421T042423Z
SUMMARY:New Kicks on the Block vs. XTSC Skinned Knees
DESCRIPTION:XTSC Skinned Knees vs. New Kicks on the BlockPlus d'info : #7
X-ALT-DESC;FMTTYPE=text/html:<!DOCTYPE HTML PUBLIC "-//W3C//DTD HTML 3.2//E
	N">\n<HTML>\n<HEAD>\n<TITLE></TITLE>\n</HEAD>\n<BODY>\n<h3>XTSC Skinned Kne
	es vs. New Kicks on the Block</h3>Plus d'info : <a href="https://www.golnet
	work.com/game/v/156747/">#7</a>\n\n</BODY>\n</HTML>
STATUS:CONFIRMED
CLASS:PUBLIC
URL:https://www.golnetwork.com/game/v/156747/
X-MICROSOFT-CDO-BUSYSTATUS:BUSY
X-MICROSOFT-CDO-IMPORTANCE:1
END:VEVENT
BEGIN:VEVENT
UID:gg0kq@games.golnetwork.com
LOCATION:Central Tech - Field 3
CREATED:20200303T175233Z
DTSTART:20200308T200000Z
DTEND:20200308T210000Z
DTSTAMP:20260421T042423Z
SUMMARY:Wolf Dick PI vs. Look Ma\, No Handballs
DESCRIPTION:Look Ma\, No Handballs vs. Wolf Dick PIPlus d'info : #9
X-ALT-DESC;FMTTYPE=text/html:<!DOCTYPE HTML PUBLIC "-//W3C//DTD HTML 3.2//E
	N">\n<HTML>\n<HEAD>\n<TITLE></TITLE>\n</HEAD>\n<BODY>\n<h3>Look Ma\, No Han
	dballs vs. Wolf Dick PI</h3>Plus d'info : <a href="https://www.golnetwork.c
	om/game/v/156748/">#9</a>\n\n</BODY>\n</HTML>
STATUS:CONFIRMED
CLASS:PUBLIC
URL:https://www.golnetwork.com/game/v/156748/
X-MICROSOFT-CDO-BUSYSTATUS:BUSY
X-MICROSOFT-CDO-IMPORTANCE:1
END:VEVENT
BEGIN:VEVENT
UID:gg0l1@games.golnetwork.com
LOCATION:Central Tech - Field 3
CREATED:20200303T175240Z
DTSTART:20200308T210000Z
DTEND:20200308T220000Z
DTSTAMP:20260421T042423Z
SUMMARY:Dinoscores vs. Zed Score
DESCRIPTION:Zed Score vs. DinoscoresPlus d'info : #11
X-ALT-DESC;FMTTYPE=text/html:<!DOCTYPE HTML PUBLIC "-//W3C//DTD HTML 3.2//E
	N">\n<HTML>\n<HEAD>\n<TITLE></TITLE>\n</HEAD>\n<BODY>\n<h3>Zed Score vs. Di
	noscores</h3>Plus d'info : <a href="https://www.golnetwork.com/game/v/15674
	9/">#11</a>\n\n</BODY>\n</HTML>
STATUS:CONFIRMED
CLASS:PUBLIC
URL:https://www.golnetwork.com/game/v/156749/
X-MICROSOFT-CDO-BUSYSTATUS:BUSY
X-MICROSOFT-CDO-IMPORTANCE:1
END:VEVENT
BEGIN:VEVENT
UID:gg0l3@games.golnetwork.com
LOCATION:Central Tech - Field 3
CREATED:20200303T175249Z
DTSTART:20200308T220000Z
DTEND:20200308T230000Z
DTSTAMP:20260421T042423Z
SUMMARY:Straight Shooters vs. Southend United
DESCRIPTION:Southend United vs. Straight ShootersPlus d'info : #13
X-ALT-DESC;FMTTYPE=text/html:<!DOCTYPE HTML PUBLIC "-//W3C//DTD HTML 3.2//E
	N">\n<HTML>\n<HEAD>\n<TITLE></TITLE>\n</HEAD>\n<BODY>\n<h3>Southend United 
	vs. Straight Shooters</h3>Plus d'info : <a href="https://www.golnetwork.com
	/game/v/156750/">#13</a>\n\n</BODY>\n</HTML>
STATUS:CONFIRMED
CLASS:PUBLIC
URL:https://www.golnetwork.com/game/v/156750/
X-MICROSOFT-CDO-BUSYSTATUS:BUSY
X-MICROSOFT-CDO-IMPORTANCE:1
END:VEVENT
BEGIN:VEVENT
UID:gg0l5@games.golnetwork.com
LOCATION:Central Tech - Field 3
CREATED:20200303T175302Z
DTSTART:20200316T000000Z
DTEND:20200316T010000Z
DTSTAMP:20260421T042423Z
SUMMARY:Zed Score vs. Wolf Dick PI
DESCRIPTION:Wolf Dick PI vs. Zed ScorePlus d'info : #27
X-ALT-DESC;FMTTYPE=text/html:<!DOCTYPE HTML PUBLIC "-//W3C//DTD HTML 3.2//E
	N">\n<HTML>\n<HEAD>\n<TITLE></TITLE>\n</HEAD>\n<BODY>\n<h3>Wolf Dick PI vs.
	 Zed Score</h3>Plus d'info : <a href="https://www.golnetwork.com/game/v/156
	751/">#27</a>\n\n</BODY>\n</HTML>
STATUS:CONFIRMED
CLASS:PUBLIC
URL:https://www.golnetwork.com/game/v/156751/
X-MICROSOFT-CDO-BUSYSTATUS:BUSY
X-MICROSOFT-CDO-IMPORTANCE:1
END:VEVENT
BEGIN:VEVENT
UID:gg0l7@games.golnetwork.com
LOCATION:Central Tech - Field 3
CREATED:20200303T175310Z
DTSTART:20200316T010000Z
DTEND:20200316T020000Z
DTSTAMP:20260421T042423Z
SUMMARY:Straight Shooters vs. New Kicks on the Block
DESCRIPTION:New Kicks on the Block vs. Straight ShootersPlus d'info : #30
X-ALT-DESC;FMTTYPE=text/html:<!DOCTYPE HTML PUBLIC "-//W3C//DTD HTML 3.2//E
	N">\n<HTML>\n<HEAD>\n<TITLE></TITLE>\n</HEAD>\n<BODY>\n<h3>New Kicks on the
	 Block vs. Straight Shooters</h3>Plus d'info : <a href="https://www.golnetw
	ork.com/game/v/156752/">#30</a>\n\n</BODY>\n</HTML>
STATUS:CONFIRMED
CLASS:PUBLIC
URL:https://www.golnetwork.com/game/v/156752/
X-MICROSOFT-CDO-BUSYSTATUS:BUSY
X-MICROSOFT-CDO-IMPORTANCE:1
END:VEVENT
BEGIN:VEVENT
UID:gg0l9@games.golnetwork.com
LOCATION:Central Tech - Field 3
CREATED:20200303T175316Z
DTSTART:20200316T020000Z
DTEND:20200316T030000Z
DTSTAMP:20260421T042423Z
SUMMARY:Dinoscores vs. Southend United
DESCRIPTION:Southend United vs. DinoscoresPlus d'info : #33
X-ALT-DESC;FMTTYPE=text/html:<!DOCTYPE HTML PUBLIC "-//W3C//DTD HTML 3.2//E
	N">\n<HTML>\n<HEAD>\n<TITLE></TITLE>\n</HEAD>\n<BODY>\n<h3>Southend United 
	vs. Dinoscores</h3>Plus d'info : <a href="https://www.golnetwork.com/game/v
	/156753/">#33</a>\n\n</BODY>\n</HTML>
STATUS:CONFIRMED
CLASS:PUBLIC
URL:https://www.golnetwork.com/game/v/156753/
X-MICROSOFT-CDO-BUSYSTATUS:BUSY
X-MICROSOFT-CDO-IMPORTANCE:1
END:VEVENT
BEGIN:VEVENT
UID:gg0lb@games.golnetwork.com
LOCATION:Central Tech - Field 3
CREATED:20200303T175324Z
DTSTART:20200316T030000Z
DTEND:20200316T040000Z
DTSTAMP:20260421T042423Z
SUMMARY:Look Ma\, No Handballs vs. XTSC Skinned Knees
DESCRIPTION:XTSC Skinned Knees vs. Look Ma\, No HandballsPlus d'info : #35
X-ALT-DESC;FMTTYPE=text/html:<!DOCTYPE HTML PUBLIC "-//W3C//DTD HTML 3.2//E
	N">\n<HTML>\n<HEAD>\n<TITLE></TITLE>\n</HEAD>\n<BODY>\n<h3>XTSC Skinned Kne
	es vs. Look Ma\, No Handballs</h3>Plus d'info : <a href="https://www.golnet
	work.com/game/v/156754/">#35</a>\n\n</BODY>\n</HTML>
STATUS:CONFIRMED
CLASS:PUBLIC
URL:https://www.golnetwork.com/game/v/156754/
X-MICROSOFT-CDO-BUSYSTATUS:BUSY
X-MICROSOFT-CDO-IMPORTANCE:1
END:VEVENT
BEGIN:VEVENT
UID:gg0ld@games.golnetwork.com
LOCATION:Central Tech - Field 3
CREATED:20200303T175337Z
DTSTART:20200322T190000Z
DTEND:20200322T200000Z
DTSTAMP:20260421T042423Z
SUMMARY:Straight Shooters vs. Look Ma\, No Handballs
DESCRIPTION:Look Ma\, No Handballs vs. Straight ShootersPlus d'info : #42
X-ALT-DESC;FMTTYPE=text/html:<!DOCTYPE HTML PUBLIC "-//W3C//DTD HTML 3.2//E
	N">\n<HTML>\n<HEAD>\n<TITLE></TITLE>\n</HEAD>\n<BODY>\n<h3>Look Ma\, No Han
	dballs vs. Straight Shooters</h3>Plus d'info : <a href="https://www.golnetw
	ork.com/game/v/156755/">#42</a>\n\n</BODY>\n</HTML>
STATUS:CONFIRMED
CLASS:PUBLIC
URL:https://www.golnetwork.com/game/v/156755/
X-MICROSOFT-CDO-BUSYSTATUS:BUSY
X-MICROSOFT-CDO-IMPORTANCE:1
END:VEVENT
BEGIN:VEVENT
UID:gg0lf@games.golnetwork.com
LOCATION:Central Tech - Field 3
CREATED:20200303T175346Z
DTSTART:20200322T210000Z
DTEND:20200322T220000Z
DTSTAMP:20260421T042423Z
SUMMARY:Southend United vs. Wolf Dick PI
DESCRIPTION:Wolf Dick PI vs. Southend UnitedPlus d'info : #45
X-ALT-DESC;FMTTYPE=text/html:<!DOCTYPE HTML PUBLIC "-//W3C//DTD HTML 3.2//E
	N">\n<HTML>\n<HEAD>\n<TITLE></TITLE>\n</HEAD>\n<BODY>\n<h3>Wolf Dick PI vs.
	 Southend United</h3>Plus d'info : <a href="https://www.golnetwork.com/game
	/v/156756/">#45</a>\n\n</BODY>\n</HTML>
STATUS:CONFIRMED
CLASS:PUBLIC
URL:https://www.golnetwork.com/game/v/156756/
X-MICROSOFT-CDO-BUSYSTATUS:BUSY
X-MICROSOFT-CDO-IMPORTANCE:1
END:VEVENT
BEGIN:VEVENT
UID:gg0lh@games.golnetwork.com
LOCATION:Central Tech - Field 3
CREATED:20200303T175354Z
DTSTART:20200322T220000Z
DTEND:20200322T230000Z
DTSTAMP:20260421T042423Z
SUMMARY:Dinoscores vs. XTSC Skinned Knees
DESCRIPTION:XTSC Skinned Knees vs. DinoscoresPlus d'info : #46
X-ALT-DESC;FMTTYPE=text/html:<!DOCTYPE HTML PUBLIC "-//W3C//DTD HTML 3.2//E
	N">\n<HTML>\n<HEAD>\n<TITLE></TITLE>\n</HEAD>\n<BODY>\n<h3>XTSC Skinned Kne
	es vs. Dinoscores</h3>Plus d'info : <a href="https://www.golnetwork.com/gam
	e/v/156757/">#46</a>\n\n</BODY>\n</HTML>
STATUS:CONFIRMED
CLASS:PUBLIC
URL:https://www.golnetwork.com/game/v/156757/
X-MICROSOFT-CDO-BUSYSTATUS:BUSY
X-MICROSOFT-CDO-IMPORTANCE:1
END:VEVENT
BEGIN:VEVENT
UID:gg0lj@games.golnetwork.com
LOCATION:Central Tech - Field 3
CREATED:20200303T175401Z
DTSTART:20200322T230000Z
DTEND:20200323T000000Z
DTSTAMP:20260421T042423Z
SUMMARY:New Kicks on the Block vs. Zed Score
DESCRIPTION:Zed Score vs. New Kicks on the BlockPlus d'info : #47
X-ALT-DESC;FMTTYPE=text/html:<!DOCTYPE HTML PUBLIC "-//W3C//DTD HTML 3.2//E
	N">\n<HTML>\n<HEAD>\n<TITLE></TITLE>\n</HEAD>\n<BODY>\n<h3>Zed Score vs. Ne
	w Kicks on the Block</h3>Plus d'info : <a href="https://www.golnetwork.com/
	game/v/156758/">#47</a>\n\n</BODY>\n</HTML>
STATUS:CONFIRMED
CLASS:PUBLIC
URL:https://www.golnetwork.com/game/v/156758/
X-MICROSOFT-CDO-BUSYSTATUS:BUSY
X-MICROSOFT-CDO-IMPORTANCE:1
END:VEVENT
BEGIN:VEVENT
UID:gg0ll@games.golnetwork.com
LOCATION:Central Tech - Field 3
CREATED:20200303T175411Z
DTSTART:20200329T230000Z
DTEND:20200330T000000Z
DTSTAMP:20260421T042423Z
SUMMARY:Southend United vs. Look Ma\, No Handballs
DESCRIPTION:Look Ma\, No Handballs vs. Southend UnitedPlus d'info : #61
X-ALT-DESC;FMTTYPE=text/html:<!DOCTYPE HTML PUBLIC "-//W3C//DTD HTML 3.2//E
	N">\n<HTML>\n<HEAD>\n<TITLE></TITLE>\n</HEAD>\n<BODY>\n<h3>Look Ma\, No Han
	dballs vs. Southend United</h3>Plus d'info : <a href="https://www.golnetwor
	k.com/game/v/156759/">#61</a>\n\n</BODY>\n</HTML>
STATUS:CONFIRMED
CLASS:PUBLIC
URL:https://www.golnetwork.com/game/v/156759/
X-MICROSOFT-CDO-BUSYSTATUS:BUSY
X-MICROSOFT-CDO-IMPORTANCE:1
END:VEVENT
BEGIN:VEVENT
UID:gg0ln@games.golnetwork.com
LOCATION:Central Tech - Field 3
CREATED:20200303T175419Z
DTSTART:20200330T000000Z
DTEND:20200330T010000Z
DTSTAMP:20260421T042423Z
SUMMARY:Dinoscores vs. New Kicks on the Block
DESCRIPTION:New Kicks on the Block vs. DinoscoresPlus d'info : #63
X-ALT-DESC;FMTTYPE=text/html:<!DOCTYPE HTML PUBLIC "-//W3C//DTD HTML 3.2//E
	N">\n<HTML>\n<HEAD>\n<TITLE></TITLE>\n</HEAD>\n<BODY>\n<h3>New Kicks on the
	 Block vs. Dinoscores</h3>Plus d'info : <a href="https://www.golnetwork.com
	/game/v/156760/">#63</a>\n\n</BODY>\n</HTML>
STATUS:CONFIRMED
CLASS:PUBLIC
URL:https://www.golnetwork.com/game/v/156760/
X-MICROSOFT-CDO-BUSYSTATUS:BUSY
X-MICROSOFT-CDO-IMPORTANCE:1
END:VEVENT
BEGIN:VEVENT
UID:gg0lp@games.golnetwork.com
LOCATION:Central Tech - Field 3
CREATED:20200303T175427Z
DTSTART:20200330T010000Z
DTEND:20200330T020000Z
DTSTAMP:20260421T042423Z
SUMMARY:Zed Score vs. XTSC Skinned Knees
DESCRIPTION:XTSC Skinned Knees vs. Zed ScorePlus d'info : #64
X-ALT-DESC;FMTTYPE=text/html:<!DOCTYPE HTML PUBLIC "-//W3C//DTD HTML 3.2//E
	N">\n<HTML>\n<HEAD>\n<TITLE></TITLE>\n</HEAD>\n<BODY>\n<h3>XTSC Skinned Kne
	es vs. Zed Score</h3>Plus d'info : <a href="https://www.golnetwork.com/game
	/v/156761/">#64</a>\n\n</BODY>\n</HTML>
STATUS:CONFIRMED
CLASS:PUBLIC
URL:https://www.golnetwork.com/game/v/156761/
X-MICROSOFT-CDO-BUSYSTATUS:BUSY
X-MICROSOFT-CDO-IMPORTANCE:1
END:VEVENT
BEGIN:VEVENT
UID:gg0m0@games.golnetwork.com
LOCATION:Central Tech - Field 3
CREATED:20200303T175435Z
DTSTART:20200330T030000Z
DTEND:20200330T040000Z
DTSTAMP:20260421T042423Z
SUMMARY:Straight Shooters vs. Wolf Dick PI
DESCRIPTION:Wolf Dick PI vs. Straight ShootersPlus d'info : #65
X-ALT-DESC;FMTTYPE=text/html:<!DOCTYPE HTML PUBLIC "-//W3C//DTD HTML 3.2//E
	N">\n<HTML>\n<HEAD>\n<TITLE></TITLE>\n</HEAD>\n<BODY>\n<h3>Wolf Dick PI vs.
	 Straight Shooters</h3>Plus d'info : <a href="https://www.golnetwork.com/ga
	me/v/156762/">#65</a>\n\n</BODY>\n</HTML>
STATUS:CONFIRMED
CLASS:PUBLIC
URL:https://www.golnetwork.com/game/v/156762/
X-MICROSOFT-CDO-BUSYSTATUS:BUSY
X-MICROSOFT-CDO-IMPORTANCE:1
END:VEVENT
BEGIN:VEVENT
UID:gg0m2@games.golnetwork.com
LOCATION:Central Tech - Field 3
CREATED:20200303T175446Z
DTSTART:20200405T190000Z
DTEND:20200405T200000Z
DTSTAMP:20260421T042423Z
SUMMARY:Dinoscores vs. Wolf Dick PI
DESCRIPTION:Wolf Dick PI vs. DinoscoresPlus d'info : #71
X-ALT-DESC;FMTTYPE=text/html:<!DOCTYPE HTML PUBLIC "-//W3C//DTD HTML 3.2//E
	N">\n<HTML>\n<HEAD>\n<TITLE></TITLE>\n</HEAD>\n<BODY>\n<h3>Wolf Dick PI vs.
	 Dinoscores</h3>Plus d'info : <a href="https://www.golnetwork.com/game/v/15
	6763/">#71</a>\n\n</BODY>\n</HTML>
STATUS:CONFIRMED
CLASS:PUBLIC
URL:https://www.golnetwork.com/game/v/156763/
X-MICROSOFT-CDO-BUSYSTATUS:BUSY
X-MICROSOFT-CDO-IMPORTANCE:1
END:VEVENT
BEGIN:VEVENT
UID:gg0m4@games.golnetwork.com
LOCATION:Central Tech - Field 3
CREATED:20200303T175455Z
DTSTART:20200405T200000Z
DTEND:20200405T210000Z
DTSTAMP:20260421T042423Z
SUMMARY:Southend United vs. Zed Score
DESCRIPTION:Zed Score vs. Southend UnitedPlus d'info : #72
X-ALT-DESC;FMTTYPE=text/html:<!DOCTYPE HTML PUBLIC "-//W3C//DTD HTML 3.2//E
	N">\n<HTML>\n<HEAD>\n<TITLE></TITLE>\n</HEAD>\n<BODY>\n<h3>Zed Score vs. So
	uthend United</h3>Plus d'info : <a href="https://www.golnetwork.com/game/v/
	156764/">#72</a>\n\n</BODY>\n</HTML>
STATUS:CONFIRMED
CLASS:PUBLIC
URL:https://www.golnetwork.com/game/v/156764/
X-MICROSOFT-CDO-BUSYSTATUS:BUSY
X-MICROSOFT-CDO-IMPORTANCE:1
END:VEVENT
BEGIN:VEVENT
UID:gg0m6@games.golnetwork.com
LOCATION:Central Tech - Field 3
CREATED:20200303T175504Z
DTSTART:20200405T210000Z
DTEND:20200405T220000Z
DTSTAMP:20260421T042423Z
SUMMARY:Look Ma\, No Handballs vs. New Kicks on the Block
DESCRIPTION:New Kicks on the Block vs. Look Ma\, No HandballsPlus d'info : 
	#73
X-ALT-DESC;FMTTYPE=text/html:<!DOCTYPE HTML PUBLIC "-//W3C//DTD HTML 3.2//E
	N">\n<HTML>\n<HEAD>\n<TITLE></TITLE>\n</HEAD>\n<BODY>\n<h3>New Kicks on the
	 Block vs. Look Ma\, No Handballs</h3>Plus d'info : <a href="https://www.go
	lnetwork.com/game/v/156765/">#73</a>\n\n</BODY>\n</HTML>
STATUS:CONFIRMED
CLASS:PUBLIC
URL:https://www.golnetwork.com/game/v/156765/
X-MICROSOFT-CDO-BUSYSTATUS:BUSY
X-MICROSOFT-CDO-IMPORTANCE:1
END:VEVENT
BEGIN:VEVENT
UID:gg0m8@games.golnetwork.com
LOCATION:Central Tech - Field 3
CREATED:20200303T175515Z
DTSTART:20200406T020000Z
DTEND:20200406T030000Z
DTSTAMP:20260421T042423Z
SUMMARY:XTSC Skinned Knees vs. Straight Shooters
DESCRIPTION:Straight Shooters vs. XTSC Skinned KneesPlus d'info : #79
X-ALT-DESC;FMTTYPE=text/html:<!DOCTYPE HTML PUBLIC "-//W3C//DTD HTML 3.2//E
	N">\n<HTML>\n<HEAD>\n<TITLE></TITLE>\n</HEAD>\n<BODY>\n<h3>Straight Shooter
	s vs. XTSC Skinned Knees</h3>Plus d'info : <a href="https://www.golnetwork.
	com/game/v/156766/">#79</a>\n\n</BODY>\n</HTML>
STATUS:CONFIRMED
CLASS:PUBLIC
URL:https://www.golnetwork.com/game/v/156766/
X-MICROSOFT-CDO-BUSYSTATUS:BUSY
X-MICROSOFT-CDO-IMPORTANCE:1
END:VEVENT
BEGIN:VEVENT
UID:gg0ma@games.golnetwork.com
LOCATION:Central Tech - Field 3
CREATED:20200303T175549Z
DTSTART:20200419T210000Z
DTEND:20200419T220000Z
DTSTAMP:20260421T042423Z
SUMMARY:Straight Shooters vs. Zed Score
DESCRIPTION:Zed Score vs. Straight ShootersPlus d'info : #89
X-ALT-DESC;FMTTYPE=text/html:<!DOCTYPE HTML PUBLIC "-//W3C//DTD HTML 3.2//E
	N">\n<HTML>\n<HEAD>\n<TITLE></TITLE>\n</HEAD>\n<BODY>\n<h3>Zed Score vs. St
	raight Shooters</h3>Plus d'info : <a href="https://www.golnetwork.com/game/
	v/156767/">#89</a>\n\n</BODY>\n</HTML>
STATUS:CONFIRMED
CLASS:PUBLIC
URL:https://www.golnetwork.com/game/v/156767/
X-MICROSOFT-CDO-BUSYSTATUS:BUSY
X-MICROSOFT-CDO-IMPORTANCE:1
END:VEVENT
BEGIN:VEVENT
UID:gg0mc@games.golnetwork.com
LOCATION:Central Tech - Field 3
CREATED:20200303T175600Z
DTSTART:20200420T000000Z
DTEND:20200420T010000Z
DTSTAMP:20260421T042423Z
SUMMARY:XTSC Skinned Knees vs. Southend United
DESCRIPTION:Southend United vs. XTSC Skinned KneesPlus d'info : #90
X-ALT-DESC;FMTTYPE=text/html:<!DOCTYPE HTML PUBLIC "-//W3C//DTD HTML 3.2//E
	N">\n<HTML>\n<HEAD>\n<TITLE></TITLE>\n</HEAD>\n<BODY>\n<h3>Southend United 
	vs. XTSC Skinned Knees</h3>Plus d'info : <a href="https://www.golnetwork.co
	m/game/v/156768/">#90</a>\n\n</BODY>\n</HTML>
STATUS:CONFIRMED
CLASS:PUBLIC
URL:https://www.golnetwork.com/game/v/156768/
X-MICROSOFT-CDO-BUSYSTATUS:BUSY
X-MICROSOFT-CDO-IMPORTANCE:1
END:VEVENT
BEGIN:VEVENT
UID:gg0me@games.golnetwork.com
LOCATION:Central Tech - Field 3
CREATED:20200303T175608Z
DTSTART:20200420T010000Z
DTEND:20200420T020000Z
DTSTAMP:20260421T042423Z
SUMMARY:Dinoscores vs. Look Ma\, No Handballs
DESCRIPTION:Look Ma\, No Handballs vs. DinoscoresPlus d'info : #92
X-ALT-DESC;FMTTYPE=text/html:<!DOCTYPE HTML PUBLIC "-//W3C//DTD HTML 3.2//E
	N">\n<HTML>\n<HEAD>\n<TITLE></TITLE>\n</HEAD>\n<BODY>\n<h3>Look Ma\, No Han
	dballs vs. Dinoscores</h3>Plus d'info : <a href="https://www.golnetwork.com
	/game/v/156769/">#92</a>\n\n</BODY>\n</HTML>
STATUS:CONFIRMED
CLASS:PUBLIC
URL:https://www.golnetwork.com/game/v/156769/
X-MICROSOFT-CDO-BUSYSTATUS:BUSY
X-MICROSOFT-CDO-IMPORTANCE:1
END:VEVENT
BEGIN:VEVENT
UID:gg0mg@games.golnetwork.com
LOCATION:Central Tech - Field 3
CREATED:20200303T175618Z
DTSTART:20200420T020000Z
DTEND:20200420T030000Z
DTSTAMP:20260421T042423Z
SUMMARY:Wolf Dick PI vs. New Kicks on the Block
DESCRIPTION:New Kicks on the Block vs. Wolf Dick PIPlus d'info : #94
X-ALT-DESC;FMTTYPE=text/html:<!DOCTYPE HTML PUBLIC "-//W3C//DTD HTML 3.2//E
	N">\n<HTML>\n<HEAD>\n<TITLE></TITLE>\n</HEAD>\n<BODY>\n<h3>New Kicks on the
	 Block vs. Wolf Dick PI</h3>Plus d'info : <a href="https://www.golnetwork.c
	om/game/v/156770/">#94</a>\n\n</BODY>\n</HTML>
STATUS:CONFIRMED
CLASS:PUBLIC
URL:https://www.golnetwork.com/game/v/156770/
X-MICROSOFT-CDO-BUSYSTATUS:BUSY
X-MICROSOFT-CDO-IMPORTANCE:1
END:VEVENT
BEGIN:VEVENT
UID:gg0mi@games.golnetwork.com
LOCATION:Central Tech - Field 3
CREATED:20200303T175628Z
DTSTART:20200426T200000Z
DTEND:20200426T210000Z
DTSTAMP:20260421T042423Z
SUMMARY:New Kicks on the Block vs. Southend United
DESCRIPTION:Southend United vs. New Kicks on the BlockPlus d'info : #103
X-ALT-DESC;FMTTYPE=text/html:<!DOCTYPE HTML PUBLIC "-//W3C//DTD HTML 3.2//E
	N">\n<HTML>\n<HEAD>\n<TITLE></TITLE>\n</HEAD>\n<BODY>\n<h3>Southend United 
	vs. New Kicks on the Block</h3>Plus d'info : <a href="https://www.golnetwor
	k.com/game/v/156771/">#103</a>\n\n</BODY>\n</HTML>
STATUS:CONFIRMED
CLASS:PUBLIC
URL:https://www.golnetwork.com/game/v/156771/
X-MICROSOFT-CDO-BUSYSTATUS:BUSY
X-MICROSOFT-CDO-IMPORTANCE:1
END:VEVENT
BEGIN:VEVENT
UID:gg0mk@games.golnetwork.com
LOCATION:Central Tech - Field 3
CREATED:20200303T175637Z
DTSTART:20200426T230000Z
DTEND:20200427T000000Z
DTSTAMP:20260421T042423Z
SUMMARY:Wolf Dick PI vs. XTSC Skinned Knees
DESCRIPTION:XTSC Skinned Knees vs. Wolf Dick PIPlus d'info : #107
X-ALT-DESC;FMTTYPE=text/html:<!DOCTYPE HTML PUBLIC "-//W3C//DTD HTML 3.2//E
	N">\n<HTML>\n<HEAD>\n<TITLE></TITLE>\n</HEAD>\n<BODY>\n<h3>XTSC Skinned Kne
	es vs. Wolf Dick PI</h3>Plus d'info : <a href="https://www.golnetwork.com/g
	ame/v/156772/">#107</a>\n\n</BODY>\n</HTML>
STATUS:CONFIRMED
CLASS:PUBLIC
URL:https://www.golnetwork.com/game/v/156772/
X-MICROSOFT-CDO-BUSYSTATUS:BUSY
X-MICROSOFT-CDO-IMPORTANCE:1
END:VEVENT
BEGIN:VEVENT
UID:gg0mm@games.golnetwork.com
LOCATION:Central Tech - Field 3
CREATED:20200303T175644Z
DTSTART:20200427T000000Z
DTEND:20200427T010000Z
DTSTAMP:20260421T042423Z
SUMMARY:Straight Shooters vs. Dinoscores
DESCRIPTION:Dinoscores vs. Straight ShootersPlus d'info : #109
X-ALT-DESC;FMTTYPE=text/html:<!DOCTYPE HTML PUBLIC "-//W3C//DTD HTML 3.2//E
	N">\n<HTML>\n<HEAD>\n<TITLE></TITLE>\n</HEAD>\n<BODY>\n<h3>Dinoscores vs. S
	traight Shooters</h3>Plus d'info : <a href="https://www.golnetwork.com/game
	/v/156773/">#109</a>\n\n</BODY>\n</HTML>
STATUS:CONFIRMED
CLASS:PUBLIC
URL:https://www.golnetwork.com/game/v/156773/
X-MICROSOFT-CDO-BUSYSTATUS:BUSY
X-MICROSOFT-CDO-IMPORTANCE:1
END:VEVENT
BEGIN:VEVENT
UID:gg0mo@games.golnetwork.com
LOCATION:Central Tech - Field 3
CREATED:20200303T175650Z
DTSTART:20200427T020000Z
DTEND:20200427T030000Z
DTSTAMP:20260421T042423Z
SUMMARY:Zed Score vs. Look Ma\, No Handballs
DESCRIPTION:Look Ma\, No Handballs vs. Zed ScorePlus d'info : #110
X-ALT-DESC;FMTTYPE=text/html:<!DOCTYPE HTML PUBLIC "-//W3C//DTD HTML 3.2//E
	N">\n<HTML>\n<HEAD>\n<TITLE></TITLE>\n</HEAD>\n<BODY>\n<h3>Look Ma\, No Han
	dballs vs. Zed Score</h3>Plus d'info : <a href="https://www.golnetwork.com/
	game/v/156774/">#110</a>\n\n</BODY>\n</HTML>
STATUS:CONFIRMED
CLASS:PUBLIC
URL:https://www.golnetwork.com/game/v/156774/
X-MICROSOFT-CDO-BUSYSTATUS:BUSY
X-MICROSOFT-CDO-IMPORTANCE:1
END:VEVENT
BEGIN:VEVENT
UID:gg0mq@games.golnetwork.com
LOCATION:Central Tech - Field 3
CREATED:20200303T175658Z
DTSTART:20200504T010000Z
DTEND:20200504T020000Z
DTSTAMP:20260421T042423Z
SUMMARY:ADT* vs. ADT*
DESCRIPTION:ADT* vs. ADT*Plus d'info : #122
X-ALT-DESC;FMTTYPE=text/html:<!DOCTYPE HTML PUBLIC "-//W3C//DTD HTML 3.2//E
	N">\n<HTML>\n<HEAD>\n<TITLE></TITLE>\n</HEAD>\n<BODY>\n<h3>ADT* vs. ADT*</h
	3>Plus d'info : <a href="https://www.golnetwork.com/game/v/156775/">#122</a
	>\n\n</BODY>\n</HTML>
STATUS:CONFIRMED
CLASS:PUBLIC
URL:https://www.golnetwork.com/game/v/156775/
X-MICROSOFT-CDO-BUSYSTATUS:BUSY
X-MICROSOFT-CDO-IMPORTANCE:1
END:VEVENT
BEGIN:VEVENT
UID:gg0n1@games.golnetwork.com
LOCATION:Central Tech - Field 3
CREATED:20200303T175701Z
DTSTART:20200504T030000Z
DTEND:20200504T040000Z
DTSTAMP:20260421T042423Z
SUMMARY:ADT* vs. ADT*
DESCRIPTION:ADT* vs. ADT*Plus d'info : #125
X-ALT-DESC;FMTTYPE=text/html:<!DOCTYPE HTML PUBLIC "-//W3C//DTD HTML 3.2//E
	N">\n<HTML>\n<HEAD>\n<TITLE></TITLE>\n</HEAD>\n<BODY>\n<h3>ADT* vs. ADT*</h
	3>Plus d'info : <a href="https://www.golnetwork.com/game/v/156776/">#125</a
	>\n\n</BODY>\n</HTML>
STATUS:CONFIRMED
CLASS:PUBLIC
URL:https://www.golnetwork.com/game/v/156776/
X-MICROSOFT-CDO-BUSYSTATUS:BUSY
X-MICROSOFT-CDO-IMPORTANCE:1
END:VEVENT
BEGIN:VEVENT
UID:gg0n7@games.golnetwork.com
LOCATION:Central Tech - Field 3
CREATED:20200303T175713Z
DTSTART:20200510T190000Z
DTEND:20200510T200000Z
DTSTAMP:20260421T042423Z
SUMMARY:ADT* vs. ADT*
DESCRIPTION:ADT* vs. ADT*Plus d'info : #132
X-ALT-DESC;FMTTYPE=text/html:<!DOCTYPE HTML PUBLIC "-//W3C//DTD HTML 3.2//E
	N">\n<HTML>\n<HEAD>\n<TITLE></TITLE>\n</HEAD>\n<BODY>\n<h3>ADT* vs. ADT*</h
	3>Plus d'info : <a href="https://www.golnetwork.com/game/v/156779/">#132</a
	>\n\n</BODY>\n</HTML>
STATUS:CONFIRMED
CLASS:PUBLIC
URL:https://www.golnetwork.com/game/v/156779/
X-MICROSOFT-CDO-BUSYSTATUS:BUSY
X-MICROSOFT-CDO-IMPORTANCE:1
END:VEVENT
BEGIN:VEVENT
UID:gg0n5@games.golnetwork.com
LOCATION:Central Tech - Field 3
CREATED:20200303T175711Z
DTSTART:20200510T200000Z
DTEND:20200510T210000Z
DTSTAMP:20260421T042423Z
SUMMARY:ADT* vs. ADT*
DESCRIPTION:ADT* vs. ADT*Plus d'info : #134
X-ALT-DESC;FMTTYPE=text/html:<!DOCTYPE HTML PUBLIC "-//W3C//DTD HTML 3.2//E
	N">\n<HTML>\n<HEAD>\n<TITLE></TITLE>\n</HEAD>\n<BODY>\n<h3>ADT* vs. ADT*</h
	3>Plus d'info : <a href="https://www.golnetwork.com/game/v/156778/">#134</a
	>\n\n</BODY>\n</HTML>
STATUS:CONFIRMED
CLASS:PUBLIC
URL:https://www.golnetwork.com/game/v/156778/
X-MICROSOFT-CDO-BUSYSTATUS:BUSY
X-MICROSOFT-CDO-IMPORTANCE:1
END:VEVENT
BEGIN:VEVENT
UID:gg0n3@games.golnetwork.com
LOCATION:Central Tech - Field 3
CREATED:20200303T175706Z
DTSTART:20200511T030000Z
DTEND:20200511T040000Z
DTSTAMP:20260421T042423Z
SUMMARY:ADT* vs. ADT*
DESCRIPTION:ADT* vs. ADT*Plus d'info : #140
X-ALT-DESC;FMTTYPE=text/html:<!DOCTYPE HTML PUBLIC "-//W3C//DTD HTML 3.2//E
	N">\n<HTML>\n<HEAD>\n<TITLE></TITLE>\n</HEAD>\n<BODY>\n<h3>ADT* vs. ADT*</h
	3>Plus d'info : <a href="https://www.golnetwork.com/game/v/156777/">#140</a
	>\n\n</BODY>\n</HTML>
STATUS:CONFIRMED
CLASS:PUBLIC
URL:https://www.golnetwork.com/game/v/156777/
X-MICROSOFT-CDO-BUSYSTATUS:BUSY
X-MICROSOFT-CDO-IMPORTANCE:1
END:VEVENT
END:VCALENDAR
